BEGIN:VCALENDAR
VERSION:2.0
PRODID:-//House on the Rock London - ECPv6.13.2.1//NONSGML v1.0//EN
CALSCALE:GREGORIAN
METHOD:PUBLISH
X-ORIGINAL-URL:https://hotr.org.uk
X-WR-CALDESC:Events for House on the Rock London
REFRESH-INTERVAL;VALUE=DURATION:PT1H
X-Robots-Tag:noindex
X-PUBLISHED-TTL:PT1H
BEGIN:VTIMEZONE
TZID:UTC
BEGIN:STANDARD
TZOFFSETFROM:+0000
TZOFFSETTO:+0000
TZNAME:UTC
DTSTART:20260101T000000
END:STANDARD
END:VTIMEZONE
BEGIN:VEVENT
DTSTART;TZID=UTC:20260201T083000
DTEND;TZID=UTC:20260419T093000
DTSTAMP:20260423T193930
CREATED:20260108T224255Z
LAST-MODIFIED:20260201T203320Z
UID:11483-1769934600-1776591000@hotr.org.uk
SUMMARY:Lord Training
DESCRIPTION:New Year. Deeper Foundations. Stronger Walk with God.\n\nThe LORD Department will be commencing its classes this February\, and we warmly invite you to take this new year as an opportunity to intentionally invest in your spiritual growth.\n\nThis term\, we will be offering two foundational classes:\n\n• Finding the Rock – a course focused on the core cornerstones upon which a strong and lasting Christian life is built.\n• Understanding Spiritual Authority – a class that explores authority as God designed it\, equipping believers to walk in alignment\, confidence\, and obedience.\n\nAs we step into a new year\, many of us reflect on growth\, renewal\, and direction. This is a timely opportunity to strengthen your foundations\, deepen your understanding of God’s ways\, and grow in confidence in His calling for your life.\n\nClasses are held in person every Sunday at 8:30am.\n\nIf you are interested in registering or would like more information\, please contact Minister Segun in person\, message 07969 094057\, or email admin@hotr.org.uk.\n\nLet this year be one of intentional growth and deeper roots in Christ.
URL:https://hotr.org.uk/event/lord-training-feb26/
LOCATION:House on the Rock London\, The Rock Tower\, N7 9PS
ATTACH;FMTTYPE=image/jpeg:https://hotr.org.uk/wp-content/uploads/2026/01/Square-Template-3.jpg
END:VEVENT
BEGIN:VEVENT
DTSTART;TZID=UTC:20260228T233000
DTEND;TZID=UTC:20260301T003000
DTSTAMP:20260423T193930
CREATED:20260124T082926Z
LAST-MODIFIED:20260130T175218Z
UID:11542-1772321400-1772325000@hotr.org.uk
SUMMARY:Speak into the New Month
DESCRIPTION:Join us via Youtube\, Facebook (hotrlondon) and IG Live (temiodejide) to speak into the new month. \nMark it in your calendar not to miss this key prayer session for the month to speak into the womb of the New Month.
URL:https://hotr.org.uk/event/sitnm-feb26/
ATTACH;FMTTYPE=image/jpeg:https://hotr.org.uk/wp-content/uploads/2026/01/4-1.jpg
END:VEVENT
BEGIN:VEVENT
DTSTART;TZID=UTC:20260301T100000
DTEND;TZID=UTC:20260301T123000
DTSTAMP:20260423T193930
CREATED:20260224T062945Z
LAST-MODIFIED:20260224T184357Z
UID:11840-1772359200-1772368200@hotr.org.uk
SUMMARY:Sunday Service with Pst Ifeanyi Adefarasin
DESCRIPTION:Join us this first Sunday in March for a powerful time of worship and Word as we welcome our esteemed First Lady\, Pastor Ifeanyi Adefarasin. \nAs the First Lady of all House On The Rock Churches and Founder of the Woman To Woman Ministry\, Pastor Ifeanyi carries a heart for God and a passion to uplift and inspire through the transforming Word. \nCome prepared for an impactful message and an encounter with God that will strengthen your faith and ignite hope for the week ahead.
URL:https://hotr.org.uk/event/firstsundayservice-mar26/
ATTACH;FMTTYPE=image/jpeg:https://hotr.org.uk/wp-content/uploads/2026/02/IA-in-London.jpg
END:VEVENT
BEGIN:VEVENT
DTSTART;TZID=UTC:20260301T143000
DTEND;TZID=UTC:20260517T160000
DTSTAMP:20260423T193930
CREATED:20260201T203147Z
LAST-MODIFIED:20260302T163006Z
UID:11680-1772375400-1779033600@hotr.org.uk
SUMMARY:Forever Friends Classes
DESCRIPTION:Healthy relationships don’t just happen – they’re built. \nForever Friends Classes are a 12-week Christian relationship and pre-marital course for singles\, engaged\, married\, and anyone wanting to do relationships God’s way. Through practical teaching\, honest conversation\, and biblical foundations\, this course equips you to build strong\, healthy\, faith-centered relationships at every stage of life. \nStarting Sunday\, 1st March 2026 at 2:30pm.Register via hotr.org.uk/training\, or contact email the Church Office at admin@hotr.org.uk \nForever Friends Classes – because strong relationships start with the right foundation.
URL:https://hotr.org.uk/event/ff-classes-mar26/
LOCATION:House on the Rock London\, The Rock Tower\, N7 9PS
ATTACH;FMTTYPE=image/png:https://hotr.org.uk/wp-content/uploads/2026/02/Special-Events-Graphics-for-Website.png
END:VEVENT
BEGIN:VEVENT
DTSTART;TZID=UTC:20260307T070000
DTEND;TZID=UTC:20260307T080000
DTSTAMP:20260423T193930
CREATED:20260228T123459Z
LAST-MODIFIED:20260228T123459Z
UID:11850-1772866800-1772870400@hotr.org.uk
SUMMARY:W2W Prayer Meeting
DESCRIPTION:Join us via Zoom Conference Call from 7-8am for our monthly Woman 2 Woman Prayer Call hosted by Pastor Abisoye Odejide. \nLadies\, mark it in your calendar not to miss this key prayer session. \nAlso\, send in your Prayer Points anonymously via the link here
URL:https://hotr.org.uk/event/w2wprayermeeting-mar26/
LOCATION:House on the Rock London\, The Rock Tower\, N7 9PS
ATTACH;FMTTYPE=image/jpeg:https://hotr.org.uk/wp-content/uploads/2025/03/Square-Template-3.jpg
END:VEVENT
BEGIN:VEVENT
DTSTART;TZID=UTC:20260308T100000
DTEND;TZID=UTC:20260308T123000
DTSTAMP:20260423T193930
CREATED:20260131T101747Z
LAST-MODIFIED:20260306T204938Z
UID:11616-1772964000-1772973000@hotr.org.uk
SUMMARY:Sunday Service with Paul Adefarasin
DESCRIPTION:This Sunday at House on the Rock London\, we are honoured to welcome our Father in the faith and the Metropolitan of all House on the Rock\, Pastor Paul Adefarasin\, for a powerful and timely ministration. \nFollowing the incredible move of God we experienced last Sunday\, we believe this gathering will be another defining moment in God’s presence. Pastor Paul carries a remarkable apostolic and prophetic grace\, and he will be bringing a Word in season – one that will inspire faith\, bring clarity\, and shift the trajectory of lives. \nThis is more than a regular service. It is an opportunity for a divine encounter – a moment of visitation where hearts will be strengthened\, atmospheres will shift\, and destinies will be aligned with God’s purpose. \nWhether you are part of the House on the Rock family or visiting for the first time\, we invite you to come expectant and ready to receive all that God has prepared. \nIf you are unable to join us in person\, you can still be part of the service by streaming live on our YouTube channel @HOTRLondon. \nCome expectant. Bring a friend. There is a Word for you this Sunday.
URL:https://hotr.org.uk/event/secondsundayservice-mar26/
ATTACH;FMTTYPE=image/jpeg:https://hotr.org.uk/wp-content/uploads/2026/03/4-1.jpg
END:VEVENT
BEGIN:VEVENT
DTSTART;TZID=UTC:20260314T110000
DTEND;TZID=UTC:20260314T140000
DTSTAMP:20260423T193930
CREATED:20260228T123820Z
LAST-MODIFIED:20260228T123820Z
UID:11853-1773486000-1773496800@hotr.org.uk
SUMMARY:Pop Up Food Bank
DESCRIPTION:We’re pleased to be hosting another Pop-Up Food Bank which takes place on the 2nd Saturday of every month using food donations. \nNo perishable food and cash donations are very welcome. Please drop off your food donations at The Rock Tower\, or send in your cash donations via our website here using the Giving Reference “Pop-Up Food Bank”. \nOpen and Free for all those in need of food.
URL:https://hotr.org.uk/event/popupfoodbank-mar26/
LOCATION:House on the Rock London\, The Rock Tower\, N7 9PS
ATTACH;FMTTYPE=image/jpeg:https://hotr.org.uk/wp-content/uploads/2025/09/Pop-Up-Food-Bank-Feb-25.jpg
END:VEVENT
BEGIN:VEVENT
DTSTART;TZID=UTC:20260315T100000
DTEND;TZID=UTC:20260315T123000
DTSTAMP:20260423T193930
CREATED:20260228T125544Z
LAST-MODIFIED:20260314T203802Z
UID:11855-1773568800-1773577800@hotr.org.uk
SUMMARY:Mother's Day Service
DESCRIPTION:Mothering Sunday is a special moment in our church calendar – a time to honour\, celebrate\, and give thanks for the incredible gift of mothers and mother figures. \nJoin us at The Rock Tower for a powerful and uplifting Mothering Sunday Service in 2026 as we celebrate the strength\, grace\, sacrifice\, and faith of women who nurture generations. \nThis year is especially significant as Pastor Abisoye Odejide returns to minister for the second consecutive Mothering Sunday. After blessing us profoundly last year with a life-giving and transformative word\, we are expectant for an even greater outpouring as she brings a fresh\, timely message for 2026. \nWhether you are a mother\, grandmother\, spiritual mother\, daughter\, or simply someone grateful for the women who have shaped your life\, this service promises to bless you deeply. \nExpect…\n…Uplifting\, heartfelt worship\n…A powerful and prophetic word\n…Special moments of appreciation and celebration\n…A warm\, welcoming atmosphere for the whole family \nWhether you are celebrating\, remembering\, giving thanks\, or simply seeking encouragement\, this service will minister deeply to your heart. \nCome expectant. Come grateful. Come ready to be refreshed. \nWe look forward to welcoming you and your loved ones as we celebrate Mothering Sunday together.
URL:https://hotr.org.uk/event/mothersday-mar26/
ATTACH;FMTTYPE=image/jpeg:https://hotr.org.uk/wp-content/uploads/2026/02/2.jpg
END:VEVENT
BEGIN:VEVENT
DTSTART;TZID=UTC:20260316T050000
DTEND;TZID=UTC:20260405T060000
DTSTAMP:20260423T193930
CREATED:20260228T130726Z
LAST-MODIFIED:20260303T214814Z
UID:11860-1773637200-1775368800@hotr.org.uk
SUMMARY:21 Day PUSH
DESCRIPTION:Join us at House On The Rock London for our annual 21 Days of Prayer & Fasting as we prepare our hearts for Easter. \nFrom March 16th to April 4th we will seek God through focused prayer\, fasting\, and spiritual renewal. \nExpect powerful daily prayers\, scriptural meditations\, and divine encounters. \nLet’s press in together for transformation\, breakthroughs\, and deeper intimacy with God. \nDial in to our Prayer Meeting on Weekdays from 5-6am\, Saturdays from 12-1pm and on Sundays from 9-9:45am via Zoom Meeting ID: 897 3504 6369; Password: 7773331; URL: bit.ly/hotrprays
URL:https://hotr.org.uk/event/21daypush-26/
ATTACH;FMTTYPE=image/jpeg:https://hotr.org.uk/wp-content/uploads/2026/02/WhatsApp-Image-2026-03-03-at-20.02.23-2.jpeg
END:VEVENT
BEGIN:VEVENT
DTSTART;TZID=UTC:20260322T100000
DTEND;TZID=UTC:20260322T123000
DTSTAMP:20260423T193930
CREATED:20260101T123414Z
LAST-MODIFIED:20260321T101711Z
UID:11398-1774173600-1774182600@hotr.org.uk
SUMMARY:Sunday Service with Paul Adefarasin
DESCRIPTION:This 3rd Sunday in March = different 🔥 \nThe Rock Tower the place to be as Pastor Paul Adefarasin ministers again this month – and trust us\, you’ll want to be in the room for this. \nExpect great vibes\, powerful worship\, and a message that hits where it matters. \nPull up with your people\, invite your friends\, and don’t keep it to yourself – this is one to experience together 🙌🏾 \nSomething is about to Happen!
URL:https://hotr.org.uk/event/thirdsundayservice-mar26/
ATTACH;FMTTYPE=image/jpeg:https://hotr.org.uk/wp-content/uploads/2026/03/Special-Service-square.jpg
END:VEVENT
BEGIN:VEVENT
DTSTART;TZID=UTC:20260327T210000
DTEND;TZID=UTC:20260327T230000
DTSTAMP:20260423T193930
CREATED:20260326T082009Z
LAST-MODIFIED:20260326T200404Z
UID:12079-1774645200-1774652400@hotr.org.uk
SUMMARY:End of Month Mini Vigil
DESCRIPTION:Join us for our Monthly Leaders’ Mini Vigil at The Rock Tower – a powerful evening of prayer\, reflection\, and spiritual renewal. Taking place from 9-11pm\, this in-person gathering at The Rock Tower forms part of our sacred 21 Days of PUSH (Pray Until Something Happens) – a season of intentional prayer and fasting as we prepare our hearts for Easter Sunday. \nIn this special season\, Pastor Temi Odejide has opened up the vigil to all church members\, inviting everyone to come together in unity\, seek God deeply\, and press into His presence. Whether you are a leader or a member\, this is a moment to align spiritually\, intercede fervently\, and encounter God in a fresh and transformative way. \nCome expectant. Come ready. Come hungry for more of God. \n⚠️ Please note: This is an in-person only gathering. \nLet’s PUSH together as we journey toward Easter.
URL:https://hotr.org.uk/event/eom-mini-vigil-mar26/
LOCATION:House on the Rock London\, The Rock Tower\, N7 9PS
ATTACH;FMTTYPE=image/jpeg:https://hotr.org.uk/wp-content/uploads/2026/03/3-3.jpg
END:VEVENT
BEGIN:VEVENT
DTSTART;TZID=UTC:20260328T070000
DTEND;TZID=UTC:20260328T080000
DTSTAMP:20260423T193930
CREATED:20260228T130840Z
LAST-MODIFIED:20260228T130840Z
UID:11864-1774681200-1774684800@hotr.org.uk
SUMMARY:MenTor Prayer Meeting
DESCRIPTION:Men of the House\, join us for our Men’s Ministry (MenTor) Monthly Prayer Meeting as we gather in unity to seek God’s face\, strengthen our faith\, and intercede for our families\, community\, and nation. Pastor Temi Odejide will be leading this powerful time of prayer and impartation online via our Zoom Prayer Line. \nDon’t miss this opportunity to press in God’s presence with your brothers in Christ. \nInvite a friend and let’s build each other up in faith!
URL:https://hotr.org.uk/event/mentorprayermeeting-mar26/
LOCATION:House on the Rock London\, The Rock Tower\, N7 9PS
ATTACH;FMTTYPE=image/jpeg:https://hotr.org.uk/wp-content/uploads/2025/03/MenTorPrayers.jpg
END:VEVENT
BEGIN:VEVENT
DTSTART;TZID=UTC:20260329T100000
DTEND;TZID=UTC:20260329T123000
DTSTAMP:20260423T193930
CREATED:20260228T133640Z
LAST-MODIFIED:20260326T081347Z
UID:11872-1774778400-1774787400@hotr.org.uk
SUMMARY:End of Month Thanksgiving Service
DESCRIPTION:As we close out March\, join us for a powerful End of Month Thanksgiving Service to thank God for His many blessings throughout the month! \nExpect an atmosphere of prayer\, worship\, and practical teaching that empowers you. \nPre-Service Prayers begin from 9am\, followed by the main service from 10am. \nDon’t miss this life-changing service – come with family\, friends\, and a heart full of gratitude.
URL:https://hotr.org.uk/event/eomthxgn-mar26/
LOCATION:House on the Rock London\, The Rock Tower\, N7 9PS
ATTACH;FMTTYPE=image/jpeg:https://hotr.org.uk/wp-content/uploads/2026/03/2-1.jpg
END:VEVENT
END:VCALENDAR