BEGIN:VCALENDAR
VERSION:2.0
PRODID:-//House on the Rock London - ECPv6.13.2.1//NONSGML v1.0//EN
CALSCALE:GREGORIAN
METHOD:PUBLISH
X-WR-CALNAME:House on the Rock London
X-ORIGINAL-URL:https://hotr.org.uk
X-WR-CALDESC:Events for House on the Rock London
REFRESH-INTERVAL;VALUE=DURATION:PT1H
X-Robots-Tag:noindex
X-PUBLISHED-TTL:PT1H
BEGIN:VTIMEZONE
TZID:UTC
BEGIN:STANDARD
TZOFFSETFROM:+0000
TZOFFSETTO:+0000
TZNAME:UTC
DTSTART:20250101T000000
END:STANDARD
END:VTIMEZONE
BEGIN:VEVENT
DTSTART;TZID=UTC:20250630T113000
DTEND;TZID=UTC:20250701T003000
DTSTAMP:20260424T141850
CREATED:20250531T153950Z
LAST-MODIFIED:20250608T201541Z
UID:10095-1751283000-1751329800@hotr.org.uk
SUMMARY:Speak into the New Month
DESCRIPTION:Join us via Youtube\, Facebook (hotrlondon) and IG Live (temiodejide) to speak into the new month. Mark it in your calendar not to miss this key prayer session for the month to speak into the womb of the New Month.
URL:https://hotr.org.uk/event/sitnm-jul25/
ATTACH;FMTTYPE=image/png:https://hotr.org.uk/wp-content/uploads/2025/06/Square-Template.png
END:VEVENT
BEGIN:VEVENT
DTSTART;TZID=UTC:20250705T070000
DTEND;TZID=UTC:20250705T080000
DTSTAMP:20260424T141850
CREATED:20250625T195418Z
LAST-MODIFIED:20250701T132232Z
UID:10221-1751698800-1751702400@hotr.org.uk
SUMMARY:W2W Prayer Meeting
DESCRIPTION:Join us via Zoom Conference Call from 7-8am for our monthly Woman 2 Woman Prayer Call hosted by Pastor Abisoye Odejide. \nLadies\, mark it in your calendar not to miss this key prayer session. \nAlso\, send in your Prayer Points anonymously via the link here
URL:https://hotr.org.uk/event/w2wprayermeeting-jul25/
LOCATION:House on the Rock London\, The Rock Tower\, N7 9PS
ATTACH;FMTTYPE=image/jpeg:https://hotr.org.uk/wp-content/uploads/2025/03/Square-Template-3.jpg
END:VEVENT
BEGIN:VEVENT
DTSTART;TZID=UTC:20250706T100000
DTEND;TZID=UTC:20250706T123000
DTSTAMP:20260424T141850
CREATED:20250531T153811Z
LAST-MODIFIED:20250702T213530Z
UID:10088-1751796000-1751805000@hotr.org.uk
SUMMARY:Communion Sunday Service
DESCRIPTION:Join us this Communion Service on the first Sunday of the month! It promises to be a deeply refreshing time in God’s presence as we come together around the Lord’s Table\, reflect on His sacrifice\, and receive fresh grace for the journey ahead. \n🔥 Ministering the Word will be our Lead Pastor\, Dr Temi Odejide\, bringing a timely and life-transforming message that will ignite your faith\, stir your spirit\, and position you for impact. \n🎶 Leading Praise & Worship will be our dynamic in-house worship team\, HillCity\, ushering us into an atmosphere of heartfelt worship and celebration as they lift up the name of Jesus with excellence and power. \nDon’t miss this divine encounter – come expectant\, come ready\, come with hearts full of worship! \nBring a friend\, share the love\, and let’s experience God together.
URL:https://hotr.org.uk/event/communionservice-jul25/
ATTACH;FMTTYPE=image/png:https://hotr.org.uk/wp-content/uploads/2025/07/2.png
END:VEVENT
BEGIN:VEVENT
DTSTART;TZID=UTC:20250712T110000
DTEND;TZID=UTC:20250712T140000
DTSTAMP:20260424T141850
CREATED:20250625T195529Z
LAST-MODIFIED:20250625T195529Z
UID:10220-1752318000-1752328800@hotr.org.uk
SUMMARY:Pop Up Food Bank
DESCRIPTION:We’re pleased to be hosting another Pop-Up Food Bank which takes place on the 2nd Saturday of every month using food donations. \nNo perishable food and cash donations are very welcome. Please drop off your food donations at The Rock Tower\, or send in your cash donations via our website here using the Giving Reference “Pop-Up Food Bank”. \nOpen and Free for all those in need of food.
URL:https://hotr.org.uk/event/popupfoodbank-jul25/
LOCATION:House on the Rock London\, The Rock Tower\, N7 9PS
ATTACH;FMTTYPE=image/jpeg:https://hotr.org.uk/wp-content/uploads/2025/02/Pop-Up-Food-Bank-2025.jpg
END:VEVENT
BEGIN:VEVENT
DTSTART;TZID=UTC:20250713T100000
DTEND;TZID=UTC:20250713T120000
DTSTAMP:20260424T141850
CREATED:20250411T182411Z
LAST-MODIFIED:20250714T043500Z
UID:9687-1752400800-1752408000@hotr.org.uk
SUMMARY:Water Baptism Service
DESCRIPTION:Baptism is a great moment to publicly declare your entry into the new covenant and profession of your faith in Christ. If you’d like to be baptised during our special Baptismal Service on Sunday 13th July at 10am\, click here to sign up and we’ll be in touch – be sure to invite your friends and family too.
URL:https://hotr.org.uk/event/waterbaptism-jul25/
ATTACH;FMTTYPE=image/png:https://hotr.org.uk/wp-content/uploads/2025/07/Square-Template-1.png
END:VEVENT
BEGIN:VEVENT
DTSTART;TZID=UTC:20250720T100000
DTEND;TZID=UTC:20250720T120000
DTSTAMP:20260424T141850
CREATED:20250625T195850Z
LAST-MODIFIED:20250717T081015Z
UID:10226-1753005600-1753012800@hotr.org.uk
SUMMARY:IGNITE Youth Service
DESCRIPTION:Join us for a powerful and vibrant Sunday Service as the IGNITE Youth Ministry takes centre stage! With the inspiring theme “Jesus and Me\,” this special service will explore the personal and transformative relationship we each have with Christ. Expect dynamic worship\, thought-provoking messages\, and a refreshing perspective led by our passionate youth. \nWhether you’re young or young at heart\, this is a service for everyone – come ready to be encouraged\, uplifted\, and ignited in your faith! \n 
URL:https://hotr.org.uk/event/igniteservice-jul25/
ATTACH;FMTTYPE=image/jpeg:https://hotr.org.uk/wp-content/uploads/2025/06/Square-Template-3.jpg
END:VEVENT
BEGIN:VEVENT
DTSTART;TZID=UTC:20250723T050000
DTEND;TZID=UTC:20250725T060000
DTSTAMP:20260424T141850
CREATED:20250625T195622Z
LAST-MODIFIED:20250625T195622Z
UID:10218-1753246800-1753423200@hotr.org.uk
SUMMARY:End of Month PUSH
DESCRIPTION:Matthew 7:7 – “Ask\, and it will be given to you; seek\, and you will find; knock\, and it will be opened to you.” \nJoin us for 3 powerful days of prayer and fasting as we seek Gods’ face and PUSH (Pray Until Something Happens) for breakthroughs in every area of our lives at the end of the month. \nLet’s come together in faith\, unit in prayer\, and believe for the impossible. \nDon’t miss this opportunity to end the month strong and prepare your heart for March. \nInvite someone to join you and let’s PUSH together! \nDial in to our Prayer Meeting from 5-6am on Weds to Fri via Zoom Meeting ID: 897 3504 6369; Password: 7773331; URL: bit.ly/hotrprays
URL:https://hotr.org.uk/event/eompush-jul25/
ATTACH;FMTTYPE=image/png:https://hotr.org.uk/wp-content/uploads/2025/06/4.png
END:VEVENT
BEGIN:VEVENT
DTSTART;TZID=UTC:20250726T070000
DTEND;TZID=UTC:20250726T080000
DTSTAMP:20260424T141850
CREATED:20250625T200613Z
LAST-MODIFIED:20250625T200613Z
UID:10217-1753513200-1753516800@hotr.org.uk
SUMMARY:MenTor Prayer Meeting
DESCRIPTION:Men of the House\, join us for our Men’s Ministry (MenTor) Monthly Prayer Meeting as we gather in unity to seek God’s face\, strengthen our faith\, and intercede for our families\, community\, and nation. Pastor Temi Odejide will be leading this powerful time of prayer and impartation online via our Zoom Prayer Line. \nDon’t miss this opportunity to press in God’s presence with your brothers in Christ. \nInvite a friend and let’s build each other up in faith!
URL:https://hotr.org.uk/event/mentorprayermeeting-jul25/
LOCATION:House on the Rock London\, The Rock Tower\, N7 9PS
ATTACH;FMTTYPE=image/jpeg:https://hotr.org.uk/wp-content/uploads/2025/03/MenTorPrayers.jpg
END:VEVENT
BEGIN:VEVENT
DTSTART;TZID=UTC:20250727T100000
DTEND;TZID=UTC:20250727T123000
DTSTAMP:20260424T141850
CREATED:20250625T201545Z
LAST-MODIFIED:20250724T164042Z
UID:10232-1753610400-1753619400@hotr.org.uk
SUMMARY:End of Month Thanksgiving Service
DESCRIPTION:Come and join us for a powerful time of gratitude and celebration as we thank God for His unwavering goodness throughout the month. \nPastor Temi Odejide will bring an inspiring word of gratitude\, reminding us of God’s faithfulness and preparing our hearts for the new month. \nWe’re excited to have the gifted John Bassey\, renowned gospel artist\, lead us in a time of heartfelt worship. His powerful songs will usher us into a place of praise and thanksgiving with our talented HillCity Worship Team! \nLet’s come together to celebrate God’s goodness and give thanks for His many blessings! Everyone is welcome!
URL:https://hotr.org.uk/event/eomthxgn-jul25/
LOCATION:House on the Rock London\, The Rock Tower\, N7 9PS
ATTACH;FMTTYPE=image/jpeg:https://hotr.org.uk/wp-content/uploads/2025/06/Square-Template-1-3.jpg
END:VEVENT
BEGIN:VEVENT
DTSTART;TZID=UTC:20250731T113000
DTEND;TZID=UTC:20250801T003000
DTSTAMP:20260424T141850
CREATED:20250625T200741Z
LAST-MODIFIED:20250625T200741Z
UID:10230-1753961400-1754008200@hotr.org.uk
SUMMARY:Speak into the New Month
DESCRIPTION:Join us via Youtube\, Facebook (hotrlondon) and IG Live (temiodejide) to speak into the new month. Mark it in your calendar not to miss this key prayer session for the month to speak into the womb of the New Month.
URL:https://hotr.org.uk/event/sitnm-aug25/
ATTACH;FMTTYPE=image/png:https://hotr.org.uk/wp-content/uploads/2025/06/6.png
END:VEVENT
END:VCALENDAR