BEGIN:VCALENDAR
VERSION:2.0
PRODID:-//House on the Rock London - ECPv6.13.2.1//NONSGML v1.0//EN
CALSCALE:GREGORIAN
METHOD:PUBLISH
X-ORIGINAL-URL:https://hotr.org.uk
X-WR-CALDESC:Events for House on the Rock London
REFRESH-INTERVAL;VALUE=DURATION:PT1H
X-Robots-Tag:noindex
X-PUBLISHED-TTL:PT1H
BEGIN:VTIMEZONE
TZID:UTC
BEGIN:STANDARD
TZOFFSETFROM:+0000
TZOFFSETTO:+0000
TZNAME:UTC
DTSTART:20250101T000000
END:STANDARD
END:VTIMEZONE
BEGIN:VEVENT
DTSTART;TZID=UTC:20250430T233000
DTEND;TZID=UTC:20250501T123000
DTSTAMP:20260424T154511
CREATED:20250227T175158Z
LAST-MODIFIED:20250326T201043Z
UID:9157-1746055800-1746102600@hotr.org.uk
SUMMARY:Speak into the New Month
DESCRIPTION:Join us via Youtube\, Facebook (hotrlondon) and IG Live (temiodejide) to speak into the new month. Mark it in your calendar not to miss this key prayer session for the month to speak into the womb of the New Month.
URL:https://hotr.org.uk/event/sitnm-may25/
END:VEVENT
BEGIN:VEVENT
DTSTART;TZID=UTC:20250503T070000
DTEND;TZID=UTC:20250503T080000
DTSTAMP:20260424T154511
CREATED:20250425T183305Z
LAST-MODIFIED:20250425T183305Z
UID:9820-1746255600-1746259200@hotr.org.uk
SUMMARY:W2W Prayer Meeting
DESCRIPTION:Join us via Zoom Conference Call from 7-8am for our monthly Woman 2 Woman Prayer Call hosted by Pastor Abisoye Odejide. \nLadies\, mark it in your calendar not to miss this key prayer session. \nAlso\, send in your Prayer Points anonymously via the link here
URL:https://hotr.org.uk/event/w2wprayermeeting-may25/
LOCATION:House on the Rock London\, The Rock Tower\, N7 9PS
ATTACH;FMTTYPE=image/jpeg:https://hotr.org.uk/wp-content/uploads/2025/03/Square-Template-3.jpg
END:VEVENT
BEGIN:VEVENT
DTSTART;TZID=UTC:20250504T100000
DTEND;TZID=UTC:20250504T123000
DTSTAMP:20260424T154511
CREATED:20250425T180331Z
LAST-MODIFIED:20250503T081016Z
UID:9799-1746352800-1746361800@hotr.org.uk
SUMMARY:Sunday Service
DESCRIPTION:Join us for an unforgettable worship experience on the First Sunday of May as we welcome acclaimed guitarist\, Agboola Shadare\, live in the house! 🔥 Known for his soul-stirring sound and anointing on the strings\, Agboola will be ministering powerfully alongside our dynamic in-house worship team\, HillCity. \nExpect an atmosphere of pure praise\, deep worship\, and powerful encounters with God. Whether you’re coming in need of inspiration\, healing\, or just want to soak in God’s presence – this is one service you don’t want to miss! \nBring a friend\, bring your praise\, and come ready to experience God like never before.
URL:https://hotr.org.uk/event/firstsundayservice-may25/
ATTACH;FMTTYPE=image/png:https://hotr.org.uk/wp-content/uploads/2025/04/3.png
END:VEVENT
BEGIN:VEVENT
DTSTART;TZID=UTC:20250509T150000
DTEND;TZID=UTC:20250511T090000
DTSTAMP:20260424T154511
CREATED:20241214T231755Z
LAST-MODIFIED:20250404T130742Z
UID:8372-1746802800-1746954000@hotr.org.uk
SUMMARY:Women's Retreat
DESCRIPTION:Ladies\, it’s time to refresh\, refocus\, and reclaim your beauty – inside and out! \nJoin us for a transformative weekend filled with worship\, connection\, and personal renewal at the De Vere Wokefield Estate\, Reading\, RG7 3AE \n💷 Rates: \n\nSingle Occupancy: £320\nDouble Occupancy (sharing): £250 per person\n\n🔗 For more details\, register your interest and info on how to secure your spot click here  \n✨ Know a woman who would benefit from this retreat? You can nominate her here to attend for free!
URL:https://hotr.org.uk/event/w2wretreat-may25/
ATTACH;FMTTYPE=image/jpeg:https://hotr.org.uk/wp-content/uploads/2025/04/Square-Template-1.jpg
END:VEVENT
BEGIN:VEVENT
DTSTART;TZID=UTC:20250510T110000
DTEND;TZID=UTC:20250510T140000
DTSTAMP:20260424T154511
CREATED:20250425T182430Z
LAST-MODIFIED:20250425T182430Z
UID:9815-1746874800-1746885600@hotr.org.uk
SUMMARY:Pop Up Food Bank
DESCRIPTION:We’re pleased to be hosting another Pop-Up Food Bank which takes place on the 2nd Saturday of every month using food donations. \nNo perishable food and cash donations are very welcome. Please drop off your food donations at The Rock Tower\, or send in your cash donations via our website here using the Giving Reference “Pop-Up Food Bank”. \nOpen and Free for all those in need of food.
URL:https://hotr.org.uk/event/popupfoodbank-may25/
LOCATION:House on the Rock London\, The Rock Tower\, N7 9PS
ATTACH;FMTTYPE=image/jpeg:https://hotr.org.uk/wp-content/uploads/2025/02/Pop-Up-Food-Bank-2025.jpg
END:VEVENT
BEGIN:VEVENT
DTSTART;TZID=UTC:20250511T100000
DTEND;TZID=UTC:20250511T123000
DTSTAMP:20260424T154511
CREATED:20250425T180851Z
LAST-MODIFIED:20250509T094328Z
UID:9800-1746957600-1746966600@hotr.org.uk
SUMMARY:Sunday Service with Pastor Paul Adefarasin
DESCRIPTION:Join us at House on the Rock London for a transformational Sunday Service as we welcome back our Metropolitan and Senior Pastor\, Paul Adefarasin\, to The Rock Tower. \nA globally respected teacher\, visionary leader\, and senior voice in the Body of Christ\, Pastor Paul is known for delivering life-shifting messages with clarity\, power\, and deep spiritual insight. This will be his first time ministering in London this year\, and we are expectant for the Word and the move of God that awaits us. \nCome ready for a divine encounter\, a timely Word\, and a moment that could change your life forever. \nDon’t just hear about it. Be in the room.
URL:https://hotr.org.uk/event/sundayservicewpp-may25/
ATTACH;FMTTYPE=image/jpeg:https://hotr.org.uk/wp-content/uploads/2025/04/Square-Template-8.jpg
END:VEVENT
BEGIN:VEVENT
DTSTART;TZID=UTC:20250518T100000
DTEND;TZID=UTC:20250518T123000
DTSTAMP:20260424T154511
CREATED:20250425T181509Z
LAST-MODIFIED:20250517T085812Z
UID:9803-1747562400-1747571400@hotr.org.uk
SUMMARY:Communion Sunday Service
DESCRIPTION:Join us this 3rd Sunday in May for a powerful Communion Service at House On The Rock London! It promises to be a deeply refreshing time in God’s presence as we come together around the Lord’s Table\, reflect on His sacrifice\, and receive fresh grace for the journey ahead. \n🔥 Ministering the Word will be our Lead Pastor\, Dr Temi Odejide\, bringing a timely and life-transforming message that will ignite your faith\, stir your spirit\, and position you for impact. \n🎶 Leading Praise & Worship will be our dynamic in-house worship team\, HillCity\, ushering us into an atmosphere of heartfelt worship and celebration as they lift up the name of Jesus with excellence and power. \nDon’t miss this divine encounter – come expectant\, come ready\, come with hearts full of worship! \nBring a friend\, share the love\, and let’s experience God together.
URL:https://hotr.org.uk/event/thirdsundayservice-may25/
ATTACH;FMTTYPE=image/png:https://hotr.org.uk/wp-content/uploads/2025/04/Square-Template-1.png
END:VEVENT
BEGIN:VEVENT
DTSTART;TZID=UTC:20250525T100000
DTEND;TZID=UTC:20250525T123000
DTSTAMP:20260424T154511
CREATED:20250425T181800Z
LAST-MODIFIED:20250524T085121Z
UID:9811-1748167200-1748176200@hotr.org.uk
SUMMARY:End of Month Thanksgiving Service
DESCRIPTION:Join us on the last Sunday in May for a powerful time of praise\, worship\, and the Word with Pastor Edbert Abebe ministering the Word\, Guest Psalmist Joel Redefined ministering with music alongside our in house Worship Team\, HillCity. \nCome with a heart full of gratitude and let’s raise a sound together!
URL:https://hotr.org.uk/event/eomthxgn-may25/
LOCATION:House on the Rock London\, The Rock Tower\, N7 9PS
ATTACH;FMTTYPE=image/jpeg:https://hotr.org.uk/wp-content/uploads/2025/04/Square-Template-9.jpg
END:VEVENT
BEGIN:VEVENT
DTSTART;TZID=UTC:20250528T050000
DTEND;TZID=UTC:20250530T060000
DTSTAMP:20260424T154511
CREATED:20250425T182859Z
LAST-MODIFIED:20250430T173016Z
UID:9817-1748408400-1748584800@hotr.org.uk
SUMMARY:End of Month PUSH
DESCRIPTION:Matthew 7:7 – “Ask\, and it will be given to you; seek\, and you will find; knock\, and it will be opened to you.” \nJoin us for 3 powerful days of prayer and fasting as we seek Gods’ face and PUSH (Pray Until Something Happens) for breakthroughs in every area of our lives at the end of the month. \nLet’s come together in faith\, unit in prayer\, and believe for the impossible. \nDon’t miss this opportunity to end the month strong and prepare your heart for March. \nInvite someone to join you and let’s PUSH together! \nDial in to our Prayer Meeting from 5-6am on Weds to Fri via Zoom Meeting ID: 897 3504 6369; Password: 7773331; URL: bit.ly/hotrprays
URL:https://hotr.org.uk/event/eompush-may25/
ATTACH;FMTTYPE=image/png:https://hotr.org.uk/wp-content/uploads/2025/04/2.png
END:VEVENT
BEGIN:VEVENT
DTSTART;TZID=UTC:20250531T070000
DTEND;TZID=UTC:20250531T080000
DTSTAMP:20260424T154511
CREATED:20250425T183449Z
LAST-MODIFIED:20250425T183449Z
UID:9822-1748674800-1748678400@hotr.org.uk
SUMMARY:MenTor Prayer Meeting
DESCRIPTION:Men of the House\, join us for our Men’s Ministry (MenTor) Monthly Prayer Meeting as we gather in unity to seek God’s face\, strengthen our faith\, and intercede for our families\, community\, and nation. Pastor Temi Odejide will be leading this powerful time of prayer and impartation online via our Zoom Prayer Line. \nDon’t miss this opportunity to press in God’s presence with your brothers in Christ. \nInvite a friend and let’s build each other up in faith!
URL:https://hotr.org.uk/event/mentorprayermeeting-may25/
LOCATION:House on the Rock London\, The Rock Tower\, N7 9PS
ATTACH;FMTTYPE=image/jpeg:https://hotr.org.uk/wp-content/uploads/2025/03/MenTorPrayers.jpg
END:VEVENT
END:VCALENDAR