BEGIN:VCALENDAR
VERSION:2.0
PRODID:-//House on the Rock London - ECPv6.13.2.1//NONSGML v1.0//EN
CALSCALE:GREGORIAN
METHOD:PUBLISH
X-WR-CALNAME:House on the Rock London
X-ORIGINAL-URL:https://hotr.org.uk
X-WR-CALDESC:Events for House on the Rock London
REFRESH-INTERVAL;VALUE=DURATION:PT1H
X-Robots-Tag:noindex
X-PUBLISHED-TTL:PT1H
BEGIN:VTIMEZONE
TZID:UTC
BEGIN:STANDARD
TZOFFSETFROM:+0000
TZOFFSETTO:+0000
TZNAME:UTC
DTSTART:20250101T000000
END:STANDARD
END:VTIMEZONE
BEGIN:VEVENT
DTSTART;TZID=UTC:20250331T050000
DTEND;TZID=UTC:20250420T060000
DTSTAMP:20260424T200719
CREATED:20250227T193818Z
LAST-MODIFIED:20250326T200937Z
UID:9188-1743397200-1745128800@hotr.org.uk
SUMMARY:21 Day PUSH & Share
DESCRIPTION:Join us at House On The Rock London for our annual 21 Days of Prayer & Fasting as we prepare our hearts for Easter. \nFrom March 31st to Resurrection Sunday\, we will seek God through focused prayer\, fasting\, and spiritual renewal. \nExpect powerful daily prayers\, scriptural meditations\, and divine encounters. \nLet’s press in together for transformation\, breakthroughs\, and deeper intimacy with God. \nDial in to our Prayer Meeting on Weekdays from 5-6am\, Saturdays from 12-1pm and on Sundays from 9-9:45am via Zoom Meeting ID: 897 3504 6369; Password: 7773331; URL: bit.ly/hotrprays
URL:https://hotr.org.uk/event/21daypush-25/
ATTACH;FMTTYPE=image/png:https://hotr.org.uk/wp-content/uploads/2025/02/2.png
END:VEVENT
BEGIN:VEVENT
DTSTART;TZID=UTC:20250401T050000
DTEND;TZID=UTC:20250401T060000
DTSTAMP:20260424T200719
CREATED:20250227T175113Z
LAST-MODIFIED:20250316T091142Z
UID:9159-1743483600-1743487200@hotr.org.uk
SUMMARY:Speak into the New Month
DESCRIPTION:Join us via Youtube\, Facebook (hotrlondon) and IG Live (temiodejide) to speak into the new month. Mark it in your calendar not to miss this key prayer session for the month to speak into the womb of the New Month.
URL:https://hotr.org.uk/event/sitnm-apr25/
ATTACH;FMTTYPE=image/jpeg:https://hotr.org.uk/wp-content/uploads/2025/03/Special-Events-Graphics-for-Website.jpg
END:VEVENT
BEGIN:VEVENT
DTSTART;TZID=UTC:20250405T070000
DTEND;TZID=UTC:20250405T080000
DTSTAMP:20260424T200719
CREATED:20250227T175651Z
LAST-MODIFIED:20250301T120101Z
UID:9170-1743836400-1743840000@hotr.org.uk
SUMMARY:W2W Prayer Meeting
DESCRIPTION:Join us via Zoom Conference Call from 7-8am for our monthly Woman 2 Woman Prayer Call hosted by Pastor Abisoye Odejide. \nLadies\, mark it in your calendar not to miss this key prayer session. \nAlso\, send in your Prayer Points anonymously via the link here
URL:https://hotr.org.uk/event/w2wprayermeeting-apr25/
LOCATION:House on the Rock London\, The Rock Tower\, N7 9PS
ATTACH;FMTTYPE=image/jpeg:https://hotr.org.uk/wp-content/uploads/2025/03/Square-Template-3.jpg
END:VEVENT
BEGIN:VEVENT
DTSTART;TZID=UTC:20250406T100000
DTEND;TZID=UTC:20250406T123000
DTSTAMP:20260424T200719
CREATED:20250227T174700Z
LAST-MODIFIED:20250404T125407Z
UID:9153-1743933600-1743942600@hotr.org.uk
SUMMARY:Communion Sunday Service
DESCRIPTION:Join us for Communion Sunday Service from 10am! Worship with us online via Youtube (@hotrlondon) or hotr.org.uk or in-person.
URL:https://hotr.org.uk/event/communionsundayservice-apr25/
ATTACH;FMTTYPE=image/jpeg:https://hotr.org.uk/wp-content/uploads/2025/02/MAIN-square.jpg
END:VEVENT
BEGIN:VEVENT
DTSTART;TZID=UTC:20250412T110000
DTEND;TZID=UTC:20250412T140000
DTSTAMP:20260424T200719
CREATED:20250227T175634Z
LAST-MODIFIED:20250227T175634Z
UID:9169-1744455600-1744466400@hotr.org.uk
SUMMARY:Pop Up Food Bank
DESCRIPTION:We’re pleased to be hosting another Pop-Up Food Bank which takes place on the 2nd Saturday of every month using food donations. \nNo perishable food and cash donations are very welcome. Please drop off your food donations at The Rock Tower\, or send in your cash donations via our website here using the Giving Reference “Pop-Up Food Bank”. \nOpen and Free for all those in need of food.
URL:https://hotr.org.uk/event/popupfoodbank-apr25/
LOCATION:House on the Rock London\, The Rock Tower\, N7 9PS
ATTACH;FMTTYPE=image/jpeg:https://hotr.org.uk/wp-content/uploads/2025/02/Pop-Up-Food-Bank-2025.jpg
END:VEVENT
BEGIN:VEVENT
DTSTART;TZID=UTC:20250413T100000
DTEND;TZID=UTC:20250413T123000
DTSTAMP:20260424T200719
CREATED:20250412T093303Z
LAST-MODIFIED:20250412T094234Z
UID:9697-1744538400-1744547400@hotr.org.uk
SUMMARY:Sunday Service
DESCRIPTION:Feeling stuck in a loop? It’s time to Break the Cycle. \nJoin us this Sunday at House On The Rock London for a powerful encounter with God. Our Lead Pastor\, Temi Odejide\, will be bringing a life-changing Word to help you step out of every limiting pattern and into your Great Breakthrough. \n🔥 Expect powerful worship\, prophetic insight\, and a fresh move of God. \n📍 In-person at The Rock Tower – 10AM\n📲 Live on YouTube: @hotrlondon \nCome expectant. Leave transformed.\nLet’s break the cycle – together.
URL:https://hotr.org.uk/event/secondsundayservice-apr25/
ATTACH;FMTTYPE=image/jpeg:https://hotr.org.uk/wp-content/uploads/2025/04/Square-Template.jpg
END:VEVENT
BEGIN:VEVENT
DTSTART;TZID=UTC:20250418T190000
DTEND;TZID=UTC:20250418T200000
DTSTAMP:20260424T200719
CREATED:20250416T144610Z
LAST-MODIFIED:20250416T144610Z
UID:9760-1745002800-1745006400@hotr.org.uk
SUMMARY:Good Friday Communion Service
DESCRIPTION:Join us for a sacred moment of reflection and renewal this Good Friday\, as Pastor Temi Odejide leads us in an intimate Online Communion Service. \n💻 Location: Zoom – bit.ly/hotrprays \nAs we remember the ultimate sacrifice of Jesus on the cross\, we’ll partake in Holy Communion together – wherever you are. Prepare your communion emblems (bread and juice)\, gather your loved ones\, and set aside this hour to connect deeply with the heart of Easter. \nThis is more than a service – it’s an encounter. \n🕯️ Come expectant. Come ready.
URL:https://hotr.org.uk/event/goodfriday-25/
ATTACH;FMTTYPE=image/jpeg:https://hotr.org.uk/wp-content/uploads/2025/04/Square-Template-5.jpg
END:VEVENT
BEGIN:VEVENT
DTSTART;TZID=UTC:20250419T100000
DTEND;TZID=UTC:20250419T160000
DTSTAMP:20260424T200719
CREATED:20241225T183258Z
LAST-MODIFIED:20250430T160438Z
UID:8405-1745056800-1745078400@hotr.org.uk
SUMMARY:Faith in the Real World Conference
DESCRIPTION:Join us for a transformative day at the Confident Faith Conference\, hosted by House on the Rock London in partnership with OCCA\, the Oxford Centre for Christian Apologetics. \nDive into meaningful discussions on the theme “Faith in the Real World\,” addressing some of life’s biggest questions: \n\nHow can we share our faith confidently and compassionately?\nIs there evidence for Jesus’ resurrection?\nHow do we navigate faith in a diverse\, modern culture?\n\nThis day will feature inspiring talks\, interactive Q&A sessions\, and practical insights to equip you to confidently live and share your faith. Whether you’re wrestling with doubts\, exploring evidence\, or seeking deeper understanding\, this event is for you. \nDon’t come alone – invite your friends\, family\, and anyone curious about Christianity. \n🎟️ Ticket Price: £20\n📍 Get Your Ticket HERE at the theocca.org/event/faith-in-the-real-world website \nWant to make a difference? You can also donate a ticket via the same link to help someone attend who otherwise couldn’t afford it. Let’s make this event accessible to all! 🙌
URL:https://hotr.org.uk/event/confidentfaithconf-apr25/
LOCATION:House on the Rock London\, The Rock Tower\, N7 9PS
ATTACH;FMTTYPE=image/jpeg:https://hotr.org.uk/wp-content/uploads/2024/12/Square-Template-1.jpg
END:VEVENT
BEGIN:VEVENT
DTSTART;TZID=UTC:20250420T100000
DTEND;TZID=UTC:20250420T123000
DTSTAMP:20260424T200719
CREATED:20250227T192545Z
LAST-MODIFIED:20250316T181651Z
UID:9178-1745143200-1745152200@hotr.org.uk
SUMMARY:Resurrection Sunday Service
DESCRIPTION:Join us this Easter Sunday at House On The Rock London for a powerful celebration of the resurrection of Jesus Christ! \nExperience an atmosphere of worship\, a life-transforming message from our Lead Pastor\, Temi Odejide\, and an encounter with resurrection power. \nDon’t miss it – invite friends and family to join us in person or online.
URL:https://hotr.org.uk/event/eastersunday-25/
ATTACH;FMTTYPE=image/png:https://hotr.org.uk/wp-content/uploads/2025/03/2.png
END:VEVENT
BEGIN:VEVENT
DTSTART;TZID=UTC:20250426T070000
DTEND;TZID=UTC:20250426T080000
DTSTAMP:20260424T200719
CREATED:20250227T175622Z
LAST-MODIFIED:20250301T082341Z
UID:9171-1745650800-1745654400@hotr.org.uk
SUMMARY:MenTor Prayer Meeting
DESCRIPTION:Men of the House\, join us for our Men’s Ministry (MenTor) Monthly Prayer Meeting as we gather in unity to seek God’s face\, strengthen our faith\, and intercede for our families\, community\, and nation. Pastor Temi Odejide will be leading this powerful time of prayer and impartation online via our Zoom Prayer Line. \nDon’t miss this opportunity to press in God’s presence with your brothers in Christ. \nInvite a friend and let’s build each other up in faith!
URL:https://hotr.org.uk/event/mentorprayermeeting-apr25/
LOCATION:House on the Rock London\, The Rock Tower\, N7 9PS
ATTACH;FMTTYPE=image/jpeg:https://hotr.org.uk/wp-content/uploads/2025/03/MenTorPrayers.jpg
END:VEVENT
BEGIN:VEVENT
DTSTART;TZID=UTC:20250427T100000
DTEND;TZID=UTC:20250427T123000
DTSTAMP:20260424T200719
CREATED:20250227T175423Z
LAST-MODIFIED:20250426T085738Z
UID:9164-1745748000-1745757000@hotr.org.uk
SUMMARY:End of Month Thanksgiving Service
DESCRIPTION:Join us for an unforgettable time of worship\, Word\, and thanksgiving! Pastor Temi Odejide will be bringing a timely\, faith-building message\, and our very own HillCity Worship Team will be ministering with music. Get ready for a vibrant atmosphere of praise and gratitude. \nCome expectant. Come thankful. Come ready!
URL:https://hotr.org.uk/event/eomthxgn-apr25/
LOCATION:House on the Rock London\, The Rock Tower\, N7 9PS
ATTACH;FMTTYPE=image/jpeg:https://hotr.org.uk/wp-content/uploads/2025/02/Square-Template.jpg
END:VEVENT
BEGIN:VEVENT
DTSTART;TZID=UTC:20250430T233000
DTEND;TZID=UTC:20250501T123000
DTSTAMP:20260424T200719
CREATED:20250227T175158Z
LAST-MODIFIED:20250326T201043Z
UID:9157-1746055800-1746102600@hotr.org.uk
SUMMARY:Speak into the New Month
DESCRIPTION:Join us via Youtube\, Facebook (hotrlondon) and IG Live (temiodejide) to speak into the new month. Mark it in your calendar not to miss this key prayer session for the month to speak into the womb of the New Month.
URL:https://hotr.org.uk/event/sitnm-may25/
END:VEVENT
END:VCALENDAR