BEGIN:VCALENDAR
VERSION:2.0
PRODID:-//House on the Rock London - ECPv6.13.2.1//NONSGML v1.0//EN
CALSCALE:GREGORIAN
METHOD:PUBLISH
X-ORIGINAL-URL:https://hotr.org.uk
X-WR-CALDESC:Events for House on the Rock London
REFRESH-INTERVAL;VALUE=DURATION:PT1H
X-Robots-Tag:noindex
X-PUBLISHED-TTL:PT1H
BEGIN:VTIMEZONE
TZID:UTC
BEGIN:STANDARD
TZOFFSETFROM:+0000
TZOFFSETTO:+0000
TZNAME:UTC
DTSTART:20240101T000000
END:STANDARD
END:VTIMEZONE
BEGIN:VEVENT
DTSTART;TZID=UTC:20240930T233000
DTEND;TZID=UTC:20241001T123000
DTSTAMP:20260425T135811
CREATED:20240904T190450Z
LAST-MODIFIED:20240904T190450Z
UID:7641-1727739000-1727785800@hotr.org.uk
SUMMARY:Speak into the New Month
DESCRIPTION:Join us via Youtube\, Facebook (hotrlondon) and IG Live (temiodejide) to speak into the new month. Mark it in your calendar not to miss this key prayer session for the month to speak into the womb of the New Month.
URL:https://hotr.org.uk/event/sitnm-sep24/
ATTACH;FMTTYPE=image/jpeg:https://hotr.org.uk/wp-content/uploads/2024/09/September-Speak-into-the-new-month.jpg
END:VEVENT
BEGIN:VEVENT
DTSTART;TZID=UTC:20241005T070000
DTEND;TZID=UTC:20241005T080000
DTSTAMP:20260425T135811
CREATED:20240904T191047Z
LAST-MODIFIED:20240914T194745Z
UID:7649-1728111600-1728115200@hotr.org.uk
SUMMARY:W2W Prayer Meeting
DESCRIPTION:Join us via Zoom Conference Call from 7-8am for our monthly Woman 2 Woman Prayer Call hosted by Pastor Abisoye Odejide. \nLadies\, mark it in your calendar not to miss this key prayer session. \nAlso\, send in your Prayer Points anonymously via the link here
URL:https://hotr.org.uk/event/w2wprayermeeting-oct24/
LOCATION:House on the Rock London\, The Rock Tower\, N7 9PS
ATTACH;FMTTYPE=image/jpeg:https://hotr.org.uk/wp-content/uploads/2024/09/W2W-Prayer-Meetings.jpg
END:VEVENT
BEGIN:VEVENT
DTSTART;TZID=UTC:20241006T100000
DTEND;TZID=UTC:20241006T123000
DTSTAMP:20260425T135811
CREATED:20240904T190835Z
LAST-MODIFIED:20240904T191013Z
UID:7647-1728208800-1728217800@hotr.org.uk
SUMMARY:Communion Sunday Service
DESCRIPTION:Join us for Communion Service from 10am with Pastor Mildred Okonkwo! Worship with us online via Youtube (@hotrlondon) or hotr.org.uk or in-person.
URL:https://hotr.org.uk/event/communionsundayservice-oct24/
ATTACH;FMTTYPE=image/jpeg:https://hotr.org.uk/wp-content/uploads/2024/09/October-Communion-Sunday-Service.jpg
END:VEVENT
BEGIN:VEVENT
DTSTART;TZID=UTC:20241013T110000
DTEND;TZID=UTC:20241013T140000
DTSTAMP:20260425T135811
CREATED:20240927T121244Z
LAST-MODIFIED:20240927T121244Z
UID:7783-1728817200-1728828000@hotr.org.uk
SUMMARY:Pop Up Food Bank
DESCRIPTION:We’re pleased to be hosting another Pop-Up Food Bank which takes place on the 2nd Saturday of every month using food donations. \nNo perishable food and cash donations are very welcome. Please drop off your food donations at The Rock Tower\, or send in your cash donations via our website here using the Giving Reference “Pop-Up Food Bank”. \nOpen and Free for all those in need of food. \n  \n 
URL:https://hotr.org.uk/event/popupfoodbank-oct24/
LOCATION:House on the Rock London\, The Rock Tower\, N7 9PS
ATTACH;FMTTYPE=image/png:https://hotr.org.uk/wp-content/uploads/2024/09/Pop-Up-Food-Bank-1.png
END:VEVENT
BEGIN:VEVENT
DTSTART;TZID=UTC:20241020T100000
DTEND;TZID=UTC:20241020T120000
DTSTAMP:20260425T135811
CREATED:20241017T125255Z
LAST-MODIFIED:20241017T133208Z
UID:7970-1729418400-1729425600@hotr.org.uk
SUMMARY:Sunday Service
DESCRIPTION:Join us for Sunday Service where we will embark on a vital journey of discovery into who we are are! Only in the light of God will we truly see ourselves. Pastor Godswill Arum will be bringing a powerful Word that is guaranteed to transform lives. \nWorship with us online via Youtube (@hotrlondon) or hotr.org.uk or in-person. Click here for a sneak preview of what to expect.
URL:https://hotr.org.uk/event/thirdsundayservice-oct24/
ATTACH;FMTTYPE=image/jpeg:https://hotr.org.uk/wp-content/uploads/2024/10/MAIN-3.jpg
END:VEVENT
BEGIN:VEVENT
DTSTART;TZID=UTC:20241023T050000
DTEND;TZID=UTC:20241025T060000
DTSTAMP:20260425T135811
CREATED:20240927T121453Z
LAST-MODIFIED:20241001T104843Z
UID:7781-1729659600-1729836000@hotr.org.uk
SUMMARY:End of Month PUSH
DESCRIPTION:Join us in the place of prayer and fasting in our 3-Day End of Month PUSH (Pray Until Something Happens). Dial in to our Prayer Meeting from 5-6am on Weds to Fri via Zoom Meeting ID: 897 3504 6369; Password: 7773331; URL: bit.ly/hotrprayer
URL:https://hotr.org.uk/event/eompush-oct24/
ATTACH;FMTTYPE=image/jpeg:https://hotr.org.uk/wp-content/uploads/2024/10/Oct-EoM-PUSH.jpg
END:VEVENT
BEGIN:VEVENT
DTSTART;TZID=UTC:20241027T100000
DTEND;TZID=UTC:20241027T123000
DTSTAMP:20260425T135811
CREATED:20240927T121757Z
LAST-MODIFIED:20241019T064520Z
UID:7782-1730023200-1730032200@hotr.org.uk
SUMMARY:End of Month Thanksgiving Service
DESCRIPTION:Join us for our End of Month Thanksgiving Service from 10am hosted by our Resident Pastor\, Temi Odejide. Pastor Zuby Okemefuna will be bringing the Word & HillCity Worshiping will be ministering with music! \nWorship with us either in-person or online via Youtube (@hotrlondon) or our website (hotr.org.uk).
URL:https://hotr.org.uk/event/eomthxgn-oct24/
LOCATION:House on the Rock London\, The Rock Tower\, N7 9PS
ATTACH;FMTTYPE=image/jpeg:https://hotr.org.uk/wp-content/uploads/2024/10/MAIN-2.jpg
END:VEVENT
BEGIN:VEVENT
DTSTART;TZID=UTC:20241031T233000
DTEND;TZID=UTC:20241101T123000
DTSTAMP:20260425T135811
CREATED:20240927T121836Z
LAST-MODIFIED:20250227T132127Z
UID:7779-1730417400-1730464200@hotr.org.uk
SUMMARY:Speak into the New Month
DESCRIPTION:Join us via Youtube\, Facebook (hotrlondon) and IG Live (temiodejide) to speak into the new month. Mark it in your calendar not to miss this key prayer session for the month to speak into the womb of the New Month.
URL:https://hotr.org.uk/event/sitnm-oct24/
ATTACH;FMTTYPE=image/jpeg:https://hotr.org.uk/wp-content/uploads/2024/10/October-Speak-into-the-new-month.jpg
END:VEVENT
END:VCALENDAR