BEGIN:VCALENDAR
VERSION:2.0
PRODID:-//House on the Rock London - ECPv6.13.2.1//NONSGML v1.0//EN
CALSCALE:GREGORIAN
METHOD:PUBLISH
X-WR-CALNAME:House on the Rock London
X-ORIGINAL-URL:https://hotr.org.uk
X-WR-CALDESC:Events for House on the Rock London
REFRESH-INTERVAL;VALUE=DURATION:PT1H
X-Robots-Tag:noindex
X-PUBLISHED-TTL:PT1H
BEGIN:VTIMEZONE
TZID:UTC
BEGIN:STANDARD
TZOFFSETFROM:+0000
TZOFFSETTO:+0000
TZNAME:UTC
DTSTART:20250101T000000
END:STANDARD
END:VTIMEZONE
BEGIN:VEVENT
DTSTART;TZID=UTC:20260125T100000
DTEND;TZID=UTC:20260125T123000
DTSTAMP:20260425T162134
CREATED:20260101T121807Z
LAST-MODIFIED:20260124T082455Z
UID:11381-1769335200-1769344200@hotr.org.uk
SUMMARY:End of Month Thanksgiving Service
DESCRIPTION:As we close out January\, join us for a powerful End of Month Thanksgiving Service focused on alignment with God’s direction\, gaining spiritual clarity\, and moving forward with confidence in all He has spoken. \nExpect an atmosphere of prayer\, worship\, and practical teaching that empowers you to live out your prophecy in the year ahead. \nPre-Service Prayers begin from 9am\, followed by the main service from 10am. \nDon’t miss this life-changing service – come with family\, friends\, and a heart full of gratitude.
URL:https://hotr.org.uk/event/eomthxgn-jan26/
LOCATION:House on the Rock London\, The Rock Tower\, N7 9PS
ATTACH;FMTTYPE=image/jpeg:https://hotr.org.uk/wp-content/uploads/2026/01/4.jpg
END:VEVENT
BEGIN:VEVENT
DTSTART;TZID=UTC:20260125T100000
DTEND;TZID=UTC:20260125T120000
DTSTAMP:20260425T162134
CREATED:20260108T223806Z
LAST-MODIFIED:20260110T211306Z
UID:11475-1769335200-1769342400@hotr.org.uk
SUMMARY:TLH New Year Workshop (Part 2)
DESCRIPTION:Start the new year with purpose\, faith\, and fun! Our New Year Planning Workshop is a special two-part Children’s Church experience designed to help kids discover how God cares about their dreams\, plans\, and everyday choices. \nThrough engaging\, age-appropriate activities\, children will learn how to set meaningful goals\, make simple plans\, and understand how to invite God into every step of their year ahead. Using biblical principles\, creativity\, and group discussions\, we’ll guide them to see that planning with God brings confidence\, direction\, and joy. \nThis workshop is hands-on\, encouraging\, and interactive – helping children grow spiritually while developing practical life skills they can carry into 2026 and beyond. \n📅 Dates: 18th & 25th January⏰ Time: 10:00amActivities Include: \n\nGoal setting God’s way\nPlanning with faith and intention\n\nA wonderful opportunity for children to dream big\, plan wisely\, and trust God as they step into a brand-new year!
URL:https://hotr.org.uk/event/tlh-newyearworkshop-25-2/
ATTACH;FMTTYPE=image/jpeg:https://hotr.org.uk/wp-content/uploads/2026/01/Square-Template-5.jpg
END:VEVENT
BEGIN:VEVENT
DTSTART;TZID=UTC:20260118T100000
DTEND;TZID=UTC:20260118T120000
DTSTAMP:20260425T162134
CREATED:20260106T120528Z
LAST-MODIFIED:20260110T211217Z
UID:11470-1768730400-1768737600@hotr.org.uk
SUMMARY:TLH New Year Workshop (Part 1)
DESCRIPTION:Start the new year with purpose\, faith\, and fun! Our New Year Planning Workshop is a special two-part Children’s Church experience designed to help kids discover how God cares about their dreams\, plans\, and everyday choices. \nThrough engaging\, age-appropriate activities\, children will learn how to set meaningful goals\, make simple plans\, and understand how to invite God into every step of their year ahead. Using biblical principles\, creativity\, and group discussions\, we’ll guide them to see that planning with God brings confidence\, direction\, and joy. \nThis workshop is hands-on\, encouraging\, and interactive – helping children grow spiritually while developing practical life skills they can carry into 2026 and beyond. \n📅 Dates: 18th & 25th January⏰ Time: 10:00amActivities Include: \n\nGoal setting God’s way\nPlanning with faith and intention\n\nA wonderful opportunity for children to dream big\, plan wisely\, and trust God as they step into a brand-new year!
URL:https://hotr.org.uk/event/tlh-newyearworkshop-25/
ATTACH;FMTTYPE=image/jpeg:https://hotr.org.uk/wp-content/uploads/2026/01/Square-Template-5.jpg
END:VEVENT
BEGIN:VEVENT
DTSTART;TZID=UTC:20260111T100000
DTEND;TZID=UTC:20260111T123000
DTSTAMP:20260425T162134
CREATED:20260101T122511Z
LAST-MODIFIED:20260103T130910Z
UID:11390-1768125600-1768134600@hotr.org.uk
SUMMARY:Anointing Service
DESCRIPTION:Join us for our Special Anointing Service! \nWe often feel limited by natural means\, but God has provided us with supernatural power to make progress. It’s time to add the super to your natural and step into the supernatural! \nWhat to Expect:\n▪️ Yokes destroyed\n▪️ Burdens lifted\n▪️ Lives turned around \nBring your family\, friends\, and everyone you know. Let’s step into this transformative moment together. \nDon’t miss it! Do whatever you can to be there in person!. \nWe can’t wait to see you and experience the power of God with you!
URL:https://hotr.org.uk/event/secondsundayservice-jan25/
ATTACH;FMTTYPE=image/png:https://hotr.org.uk/wp-content/uploads/2026/01/3.png
END:VEVENT
BEGIN:VEVENT
DTSTART;TZID=UTC:20260110T060000
DTEND;TZID=UTC:20260110T070000
DTSTAMP:20260425T162134
CREATED:20260101T121958Z
LAST-MODIFIED:20260104T180336Z
UID:11385-1768024800-1768028400@hotr.org.uk
SUMMARY:W2W Prayer Meeting
DESCRIPTION:Join us via Zoom Conference Call from 7-8am for our monthly Woman 2 Woman Prayer Call hosted by Pastor Abisoye Odejide. \nLadies\, mark it in your calendar not to miss this key prayer session. \nAlso\, send in your Prayer Points anonymously via the link here
URL:https://hotr.org.uk/event/w2wprayermeeting-jan26/
LOCATION:House on the Rock London\, The Rock Tower\, N7 9PS
ATTACH;FMTTYPE=image/jpeg:https://hotr.org.uk/wp-content/uploads/2026/01/Square-Template-2.jpg
END:VEVENT
BEGIN:VEVENT
DTSTART;TZID=UTC:20260104T100000
DTEND;TZID=UTC:20260104T123000
DTSTAMP:20260425T162134
CREATED:20260101T122737Z
LAST-MODIFIED:20260102T103648Z
UID:11393-1767520800-1767529800@hotr.org.uk
SUMMARY:Communion Sunday Service
DESCRIPTION:Join us for Communion Service! \nBring your family\, friends\, and everyone you know. \nDon’t miss it! Do whatever you can to be there in person! \nWe can’t wait to see you and experience the power of God with you
URL:https://hotr.org.uk/event/communionservice-jan26/
ATTACH;FMTTYPE=image/jpeg:https://hotr.org.uk/wp-content/uploads/2026/01/Square-Template-1.jpg
END:VEVENT
BEGIN:VEVENT
DTSTART;TZID=UTC:20251231T210000
DTEND;TZID=UTC:20260101T123000
DTSTAMP:20260425T162134
CREATED:20251016T210812Z
LAST-MODIFIED:20251221T181214Z
UID:10978-1767214800-1767270600@hotr.org.uk
SUMMARY:Crossover Service
DESCRIPTION:It’s our BIG Crossover Service on Wednesday 31st of December from 9am at The Rock Tower. \nThis one you definitely cannot afford to miss and we look forward to seeing you there!
URL:https://hotr.org.uk/event/crossover-dec25/
ATTACH;FMTTYPE=image/jpeg:https://hotr.org.uk/wp-content/uploads/2025/12/Square-Template.jpg
END:VEVENT
BEGIN:VEVENT
DTSTART;TZID=UTC:20251229T050000
DTEND;TZID=UTC:20251231T060000
DTSTAMP:20260425T162134
CREATED:20251129T113251Z
LAST-MODIFIED:20251129T144515Z
UID:11224-1766984400-1767160800@hotr.org.uk
SUMMARY:End of Month PUSH
DESCRIPTION:Matthew 7:7 – “Ask\, and it will be given to you; seek\, and you will find; knock\, and it will be opened to you.” \nJoin us for 3 powerful days of prayer and fasting as we seek Gods’ face and PUSH (Pray Until Something Happens) for breakthroughs in every area of our lives at the end of the year. \nLet’s come together in faith\, unit in prayer\, and believe for the impossible. \nDon’t miss this opportunity to end the month strong and prepare your heart for the new year. \nInvite someone to join you and let’s PUSH together! \nDial in to our Prayer Meeting from 5-6am on Weds to Fri via Zoom Meeting ID: 897 3504 6369; Password: 7773331; URL: bit.ly/hotrprays
URL:https://hotr.org.uk/event/eompush-dec25/
ATTACH;FMTTYPE=image/jpeg:https://hotr.org.uk/wp-content/uploads/2025/11/2.jpg
END:VEVENT
BEGIN:VEVENT
DTSTART;TZID=UTC:20251228T100000
DTEND;TZID=UTC:20251228T123000
DTSTAMP:20260425T162134
CREATED:20251129T112122Z
LAST-MODIFIED:20251226T112114Z
UID:11217-1766916000-1766925000@hotr.org.uk
SUMMARY:Communion Sunday Service
DESCRIPTION:Join us for our final Communion Service in 2025! \nAs we gather for the final Sunday of 2025\, join us at House On The Rock London for our End-of-Year Communion Service themed “Finish Strong: Start Stronger!” \nTogether\, we’ll worship\, pray\, and take communion as we reflect on God’s faithfulness throughout our year of Great Things and prepare our hearts for all that lies ahead. \nPre-Service Prayers will take place before the main service\, and worship will be available both in person and online. \nWe look forward to welcoming you and those you invite to join us as we close the year united in faith and gratitude.
URL:https://hotr.org.uk/event/communionservice-dec25/
ATTACH;FMTTYPE=image/jpeg:https://hotr.org.uk/wp-content/uploads/2025/11/Square-Template-3.jpg
END:VEVENT
BEGIN:VEVENT
DTSTART;TZID=UTC:20251221T100000
DTEND;TZID=UTC:20251221T120000
DTSTAMP:20260425T162134
CREATED:20251016T210037Z
LAST-MODIFIED:20251219T204053Z
UID:10969-1766311200-1766318400@hotr.org.uk
SUMMARY:Christmas Service
DESCRIPTION:Join us for our Special Christmas Service as we celebrate the birth of Jesus through a Carol of Nine Lessons. \nThis family-centred service will feature Scripture readings and timeless Christmas carols led by HillCity\, with beautiful contributions from Ignite (Teenage Church) and The Lord’s Heritage (Children’s Church)\, alongside a short Christmas exhortation from Pastor Temi Odejide. \nA joyful time of worship\, Word and fellowship as we reflect on the true meaning of Christmas. \nJoin us either in-person or online via  Youtube (@hotrlondon) or our website (hotr.org.uk). \nSee you there!
URL:https://hotr.org.uk/event/thirdsundayservice-dec25/
ATTACH;FMTTYPE=image/jpeg:https://hotr.org.uk/wp-content/uploads/2025/10/Square-Template.jpg
END:VEVENT
BEGIN:VEVENT
DTSTART;TZID=UTC:20251217T183000
DTEND;TZID=UTC:20251217T183000
DTSTAMP:20260425T162134
CREATED:20251010T142605Z
LAST-MODIFIED:20251204T210904Z
UID:10944-1765996200-1765996200@hotr.org.uk
SUMMARY:Mayoral Carol Service
DESCRIPTION:Join us for a special Mayoral Carol Service at The Rock Tower. \nLet’s celebrate “Joy to the World” with music\, worship\, and festive cheer!
URL:https://hotr.org.uk/event/mayoralcarolservice-dec25/
ATTACH;FMTTYPE=image/jpeg:https://hotr.org.uk/wp-content/uploads/2025/12/Special-Events-Graphics-for-Website.jpg
END:VEVENT
BEGIN:VEVENT
DTSTART;TZID=UTC:20251214T100000
DTEND;TZID=UTC:20251214T120000
DTSTAMP:20260425T162134
CREATED:20251101T051147Z
LAST-MODIFIED:20251212T210140Z
UID:10975-1765706400-1765713600@hotr.org.uk
SUMMARY:End of Year Thanksgiving Service & Party
DESCRIPTION:Join us in the House for our Annual End of Year Thanksgiving Service as we gather in Great Joy to thank God for His faithfulness throughout the year. \nThis celebratory service will be filled with praise\, thanksgiving and joyful worship\, led by Guest Psalmist Tobi Loba\, with the Word from our Pastor\, Dr Temi Odejide. \nPre-Service Prayers will take place both in person and online\, followed by an After Party as we continue the celebration together. \nWhether joining in person or online\, we look forward to worshipping and celebrating with you. \n“I bring you good news of great joy…” – Luke 2:10
URL:https://hotr.org.uk/event/secondsundayservice-dec25/
ATTACH;FMTTYPE=image/jpeg:https://hotr.org.uk/wp-content/uploads/2025/11/Square-Template-4.jpg
END:VEVENT
BEGIN:VEVENT
DTSTART;TZID=UTC:20251213T110000
DTEND;TZID=UTC:20251213T160000
DTSTAMP:20260425T162134
CREATED:20251016T205153Z
LAST-MODIFIED:20251016T205153Z
UID:10971-1765623600-1765641600@hotr.org.uk
SUMMARY:Special Foodbank Outreach
DESCRIPTION:Join us on Saturday 13th December\, from 11 AM to 4 PM at The Rock Tower for our Special Christmas Foodbank! \nWe’re excited to offer a community-focused event that’s open and free to everyone! \nWhat’s on offer? \n\nNon-perishable food to help stock your pantry\nHot\, freshly cooked meals to enjoy on the spot\nFree clothes to support you and your family\n\nIt’s a day of Food\, Fun\, and Family – and we’re here to help. Whether you’re in need or just want to be part of the community\, come along\, grab what you need\, and connect with others in a warm\, welcoming environment. \nWhere?49 Tufnell Park Road\, N7 0PS \nWe can’t wait to see you there!
URL:https://hotr.org.uk/event/popupfoodbank-dec25/
LOCATION:House on the Rock London\, The Rock Tower\, N7 9PS
ATTACH;FMTTYPE=image/jpeg:https://hotr.org.uk/wp-content/uploads/2025/10/6.jpg
END:VEVENT
BEGIN:VEVENT
DTSTART;TZID=UTC:20251213T070000
DTEND;TZID=UTC:20251213T080000
DTSTAMP:20260425T162134
CREATED:20251129T112827Z
LAST-MODIFIED:20251201T161837Z
UID:11221-1765609200-1765612800@hotr.org.uk
SUMMARY:W2W Prayer Meeting
DESCRIPTION:Join us via Zoom Conference Call from 7-8am for our finaly monthly Woman 2 Woman Prayer Call in 2025 hosted by Pastor Abisoye Odejide. \nLadies\, mark it in your calendar not to miss this key prayer session. \nAlso\, send in your Prayer Points anonymously via the link here
URL:https://hotr.org.uk/event/w2wprayermeeting-dec25/
LOCATION:House on the Rock London\, The Rock Tower\, N7 9PS
ATTACH;FMTTYPE=image/jpeg:https://hotr.org.uk/wp-content/uploads/2025/11/3.jpg
END:VEVENT
BEGIN:VEVENT
DTSTART;TZID=UTC:20251207T100000
DTEND;TZID=UTC:20251209T120000
DTSTAMP:20260425T162134
CREATED:20251122T104511Z
LAST-MODIFIED:20251122T203625Z
UID:11193-1765101600-1765281600@hotr.org.uk
SUMMARY:The Lord's Heritage Christmas Fair
DESCRIPTION:Join us for a joyful celebration at The Lord’s Heritage Children’s Church Christmas Fair! \nThis fun-filled festive event is perfect for children and families alike\, packed with activities that will bring smiles\, laughter\, and Christmas cheer. \nKids can get creative with Arts & Crafts\, enjoy colorful Face Painting\, and dive into a variety of exciting Games. \nThere will be delicious Food to enjoy\, lively Dancing\, and plenty of fun\, fun\, fun for everyone! \nCome along and share in the spirit of the season as we build memories\, celebrate together\, and spread holiday joy. We can’t wait to see you there!
URL:https://hotr.org.uk/event/childrensfair-dec25/
ATTACH;FMTTYPE=image/jpeg:https://hotr.org.uk/wp-content/uploads/2025/11/Square-Template-1.jpg
END:VEVENT
BEGIN:VEVENT
DTSTART;TZID=UTC:20251207T100000
DTEND;TZID=UTC:20251207T123000
DTSTAMP:20260425T162134
CREATED:20251130T232159Z
LAST-MODIFIED:20251204T065428Z
UID:11237-1765101600-1765110600@hotr.org.uk
SUMMARY:Sunday Service
DESCRIPTION:Join us for our First Sunday Service in December\, the final month in 2025! \nBring your family\, friends\, and everyone you know. \nDon’t miss it! Do whatever you can to be there in person! \nWe can’t wait to see you and experience the power of God with you!
URL:https://hotr.org.uk/event/firstsundayservice-dec25/
ATTACH;FMTTYPE=image/jpeg:https://hotr.org.uk/wp-content/uploads/2025/12/MAIN-square.jpg
END:VEVENT
BEGIN:VEVENT
DTSTART;TZID=UTC:20251130T113000
DTEND;TZID=UTC:20251201T003000
DTSTAMP:20260425T162134
CREATED:20251101T050955Z
LAST-MODIFIED:20251101T050955Z
UID:11072-1764502200-1764549000@hotr.org.uk
SUMMARY:Speak into the New Month
DESCRIPTION:Join us via Youtube\, Facebook (hotrlondon) and IG Live (temiodejide) to speak into the new month. Mark it in your calendar not to miss this key prayer session for the month to speak into the womb of the New Month.
URL:https://hotr.org.uk/event/sitnm-dec25/
ATTACH;FMTTYPE=image/jpeg:https://hotr.org.uk/wp-content/uploads/2025/11/3-1.jpg
END:VEVENT
BEGIN:VEVENT
DTSTART;TZID=UTC:20251130T100000
DTEND;TZID=UTC:20251130T123000
DTSTAMP:20260425T162134
CREATED:20251101T050817Z
LAST-MODIFIED:20251127T134056Z
UID:11069-1764496800-1764505800@hotr.org.uk
SUMMARY:End of Month Thanksgiving Service
DESCRIPTION:Join us at The Rock Tower for our End of Month Thanksgiving Service as we close out November! \nPastor Temi Odejide will be bringing the powerful life-changing word in season\, and our in-house Worship Team\, HillCity Worship will be ministering with music. \nDon’t miss this life-changing service – come with family\, friends\, and a heart full of gratitude.
URL:https://hotr.org.uk/event/eomthxgn-nov25/
LOCATION:House on the Rock London\, The Rock Tower\, N7 9PS
ATTACH;FMTTYPE=image/jpeg:https://hotr.org.uk/wp-content/uploads/2025/11/Special-Events-Graphics-for-Website.jpg
END:VEVENT
BEGIN:VEVENT
DTSTART;TZID=UTC:20251129T070000
DTEND;TZID=UTC:20251129T080000
DTSTAMP:20260425T162134
CREATED:20251103T125855Z
LAST-MODIFIED:20251103T125855Z
UID:11090-1764399600-1764403200@hotr.org.uk
SUMMARY:MenTor Prayer Meeting
DESCRIPTION:Men of the House\, join us for our Men’s Ministry (MenTor) Monthly Prayer Meeting as we gather in unity to seek God’s face\, strengthen our faith\, and intercede for our families\, community\, and nation. Pastor Temi Odejide will be leading this powerful time of prayer and impartation online via our Zoom Prayer Line. \nDon’t miss this opportunity to press in God’s presence with your brothers in Christ. \nInvite a friend and let’s build each other up in faith!
URL:https://hotr.org.uk/event/mentorprayermeeting-nov25/
LOCATION:House on the Rock London\, The Rock Tower\, N7 9PS
ATTACH;FMTTYPE=image/jpeg:https://hotr.org.uk/wp-content/uploads/2025/03/MenTorPrayers.jpg
END:VEVENT
BEGIN:VEVENT
DTSTART;TZID=UTC:20251123T100000
DTEND;TZID=UTC:20251123T123000
DTSTAMP:20260425T162134
CREATED:20251119T150536Z
LAST-MODIFIED:20251120T202233Z
UID:11184-1763892000-1763901000@hotr.org.uk
SUMMARY:Sunday Service
DESCRIPTION:Step into a powerful Sunday with us at The Rock Tower as we continue our Month of Great Blessing (Malachi 3:18 • Ephesians 1:3). \nThis Sunda is\, “The Blessing Code: Walking in Heaven’s Abundance\,” Pastor Temi Odejide will be teaching on unlocking and living in the blessings God has already provided. \nJoin us for uplifting worship\, faith-building teaching\, and a life-giving atmosphere designed to strengthen your walk with God. \nCome expectant – heaven’s abundance is within reach.
URL:https://hotr.org.uk/event/fourthsundayservice-nov25/
ATTACH;FMTTYPE=image/jpeg:https://hotr.org.uk/wp-content/uploads/2025/11/Square-Template-2.jpg
END:VEVENT
BEGIN:VEVENT
DTSTART;TZID=UTC:20251119T050000
DTEND;TZID=UTC:20251128T060000
DTSTAMP:20260425T162134
CREATED:20250927T020940Z
LAST-MODIFIED:20251117T192346Z
UID:10883-1763528400-1764309600@hotr.org.uk
SUMMARY:End of Year PUSH
DESCRIPTION:Join us in the place of prayer and fasting in our 10-Day End of Year PUSH (Pray Until Something Happens). \nDial in to our Prayer Meeting from 5-6am on Weds to Fri via Zoom Meeting ID: 897 3504 6369; Password: 7773331; URL: bit.ly/hotrprays
URL:https://hotr.org.uk/event/eoypush-nov25/
ATTACH;FMTTYPE=image/jpeg:https://hotr.org.uk/wp-content/uploads/2025/11/Square-Template.jpg
END:VEVENT
BEGIN:VEVENT
DTSTART;TZID=UTC:20251118T050000
DTEND;TZID=UTC:20251118T060000
DTSTAMP:20260425T162134
CREATED:20251018T052433Z
LAST-MODIFIED:20251116T202359Z
UID:10991-1763442000-1763445600@hotr.org.uk
SUMMARY:End of Year Pre PUSH
DESCRIPTION:Join us in the as we pray to prepare for our annual 10-Day End of Year PUSH (Pray Until Something Happens). \nDial in to our Prayer Meeting from 5am via Zoom Meeting ID: 897 3504 6369; Password: 7773331; URL: bit.ly/hotrprays
URL:https://hotr.org.uk/event/eoyprepush-nov25/
ATTACH;FMTTYPE=image/jpeg:https://hotr.org.uk/wp-content/uploads/2025/10/2-2.jpg
END:VEVENT
BEGIN:VEVENT
DTSTART;TZID=UTC:20251116T100000
DTEND;TZID=UTC:20251116T123000
DTSTAMP:20260425T162134
CREATED:20251113T205105Z
LAST-MODIFIED:20251115T064414Z
UID:11155-1763287200-1763296200@hotr.org.uk
SUMMARY:Sunday Service
DESCRIPTION:Enter into a fresh encounter this 3rd Sunday of November as we continue in our month of Great Blessing. Scripture reminds us that God has already blessed us with every spiritual blessing in Christ – yet many of us still face challenges\, pressures or seasons where the goodness God promised feels hidden or distant. \nThis Sunday\, we’re diving into how those God-given blessings can become visible\, practical and active in our everyday lives. Expect a message that will strengthen your faith\, lift your confidence and help you walk boldly in all that God has already placed within you. \nCome ready for:✨ Uplifting worship that draws you into God’s presence✨ A life-giving word that brings clarity\, encouragement and direction✨ A warm\, vibrant community where you can grow\, connect and belong \nWhether you’re seeking renewed hope\, fresh understanding or simply a place to encounter God\, this is a service designed to build you up and remind you of everything God has made available to you in Christ. \nWe look forward to welcoming you!
URL:https://hotr.org.uk/event/3rdsundayservice-nov25/
ATTACH;FMTTYPE=image/png:https://hotr.org.uk/wp-content/uploads/2025/11/2-1.png
END:VEVENT
BEGIN:VEVENT
DTSTART;TZID=UTC:20251109T100000
DTEND;TZID=UTC:20251109T123000
DTSTAMP:20260425T162134
CREATED:20251101T050606Z
LAST-MODIFIED:20251108T052429Z
UID:11066-1762682400-1762691400@hotr.org.uk
SUMMARY:Communion Sunday Service
DESCRIPTION:Join us this Sunday at House On The Rock London for a powerful Communion Service themed “The Father’s Blessing.” Experience a time of worship\, the Word\, and the release of divine favour as we receive Heaven’s blessing for this season of Great Blessing (Malachi 3:18 / Ephesians 1:3).This is more than a service – it’s an encounter with the power of the Father’s words that shape identity\, destiny\, and generations to come. \n📍In person and online from 10AM | Pre-Service Prayers start at 9AM \nCome expectant\, come ready\, and invite others to share in The Father’s Blessing.
URL:https://hotr.org.uk/event/communionservice-nov25/
ATTACH;FMTTYPE=image/jpeg:https://hotr.org.uk/wp-content/uploads/2025/11/3-2.jpg
END:VEVENT
BEGIN:VEVENT
DTSTART;TZID=UTC:20251108T110000
DTEND;TZID=UTC:20251108T140000
DTSTAMP:20260425T162134
CREATED:20260101T122910Z
LAST-MODIFIED:20260124T083456Z
UID:11396-1762599600-1762610400@hotr.org.uk
SUMMARY:Pop Up Food Bank
DESCRIPTION:We’re pleased to be hosting another Pop-Up Food Bank which takes place on the 2nd Saturday of every month using food donations. \nNo perishable food and cash donations are very welcome. Please drop off your food donations at The Rock Tower\, or send in your cash donations via our website here using the Giving Reference “Pop-Up Food Bank”. \nOpen and Free for all those in need of food.
URL:https://hotr.org.uk/event/popupfoodbank-nov25/
LOCATION:House on the Rock London\, The Rock Tower\, N7 9PS
ATTACH;FMTTYPE=image/jpeg:https://hotr.org.uk/wp-content/uploads/2025/09/Pop-Up-Food-Bank-Feb-25.jpg
END:VEVENT
BEGIN:VEVENT
DTSTART;TZID=UTC:20251108T070000
DTEND;TZID=UTC:20251108T080000
DTSTAMP:20260425T162134
CREATED:20251103T125241Z
LAST-MODIFIED:20251103T125241Z
UID:11087-1762585200-1762588800@hotr.org.uk
SUMMARY:W2W Prayer Meeting
DESCRIPTION:Join us via Zoom Conference Call from 7-8am for our monthly Woman 2 Woman Prayer Call hosted by Pastor Abisoye Odejide. \nLadies\, mark it in your calendar not to miss this key prayer session. \nAlso\, send in your Prayer Points anonymously via the link here
URL:https://hotr.org.uk/event/w2wprayermeeting-oct25/
LOCATION:House on the Rock London\, The Rock Tower\, N7 9PS
ATTACH;FMTTYPE=image/jpeg:https://hotr.org.uk/wp-content/uploads/2025/11/WhatsApp-Image-2025-10-26-at-22.04.31.jpeg
END:VEVENT
BEGIN:VEVENT
DTSTART;TZID=UTC:20251102T100000
DTEND;TZID=UTC:20251102T123000
DTSTAMP:20260425T162134
CREATED:20250927T021519Z
LAST-MODIFIED:20251024T194159Z
UID:10891-1762077600-1762086600@hotr.org.uk
SUMMARY:Pastors' Appreciation Service
DESCRIPTION:Join us as we celebrate our Lead Pastor\, Temi Odejide’s Birthday in our Pastors’ Appreciation Service from 10am! Worship with us either in-person or online via Youtube (@hotrlondon) or our website (hotr.org.uk).
URL:https://hotr.org.uk/event/pastors-appreciation-service25/
ATTACH;FMTTYPE=image/jpeg:https://hotr.org.uk/wp-content/uploads/2025/09/Square-Template-2.jpg
END:VEVENT
BEGIN:VEVENT
DTSTART;TZID=UTC:20251031T113000
DTEND;TZID=UTC:20251101T003000
DTSTAMP:20260425T162134
CREATED:20250927T014748Z
LAST-MODIFIED:20251030T171311Z
UID:10863-1761910200-1761957000@hotr.org.uk
SUMMARY:Speak into the New Month
DESCRIPTION:Join us via Youtube\, Facebook (hotrlondon) and IG Live (temiodejide) to speak into the new month. Mark it in your calendar not to miss this key prayer session for the month to speak into the womb of the New Month.
URL:https://hotr.org.uk/event/sitnm-nov25/
ATTACH;FMTTYPE=image/jpeg:https://hotr.org.uk/wp-content/uploads/2025/09/Square-Template-3.jpg
END:VEVENT
BEGIN:VEVENT
DTSTART;TZID=UTC:20251029T050000
DTEND;TZID=UTC:20251031T060000
DTSTAMP:20260425T162134
CREATED:20250927T014005Z
LAST-MODIFIED:20251019T202346Z
UID:10860-1761714000-1761890400@hotr.org.uk
SUMMARY:End of Month PUSH
DESCRIPTION:Matthew 7:7 – “Ask\, and it will be given to you; seek\, and you will find; knock\, and it will be opened to you.” \nJoin us for 3 powerful days of prayer and fasting as we seek Gods’ face and PUSH (Pray Until Something Happens) for breakthroughs in every area of our lives at the end of the month. \nLet’s come together in faith\, unit in prayer\, and believe for the impossible. \nDon’t miss this opportunity to end the month strong and prepare your heart for March. \nInvite someone to join you and let’s PUSH together! \nDial in to our Prayer Meeting from 5-6am on Weds to Fri via Zoom Meeting ID: 897 3504 6369; Password: 7773331; URL: bit.ly/hotrprays
URL:https://hotr.org.uk/event/eompush-oct25/
ATTACH;FMTTYPE=image/jpeg:https://hotr.org.uk/wp-content/uploads/2025/10/1.jpg
END:VEVENT
BEGIN:VEVENT
DTSTART;TZID=UTC:20251026T100000
DTEND;TZID=UTC:20251026T123000
DTSTAMP:20260425T162134
CREATED:20250927T014400Z
LAST-MODIFIED:20251024T054615Z
UID:10862-1761472800-1761481800@hotr.org.uk
SUMMARY:End of Month Thanksgiving Service
DESCRIPTION:Join us at The Rock Tower for our End of Month Thanksgiving Service as we close out October! \nPastor Temi Odejide will be bringing the powerful life-changing word in season\, and our in-house Worship Team\, HillCity Worship will be ministering with music. \nDon’t miss this life-changing service – come with family\, friends\, and a heart full of gratitude.
URL:https://hotr.org.uk/event/eomthxgn-oct25/
LOCATION:House on the Rock London\, The Rock Tower\, N7 9PS
ATTACH;FMTTYPE=image/png:https://hotr.org.uk/wp-content/uploads/2025/09/Square-Template.png
END:VEVENT
END:VCALENDAR