BEGIN:VCALENDAR
VERSION:2.0
PRODID:-//House on the Rock London - ECPv6.13.2.1//NONSGML v1.0//EN
CALSCALE:GREGORIAN
METHOD:PUBLISH
X-WR-CALNAME:House on the Rock London
X-ORIGINAL-URL:https://hotr.org.uk
X-WR-CALDESC:Events for House on the Rock London
REFRESH-INTERVAL;VALUE=DURATION:PT1H
X-Robots-Tag:noindex
X-PUBLISHED-TTL:PT1H
BEGIN:VTIMEZONE
TZID:UTC
BEGIN:STANDARD
TZOFFSETFROM:+0000
TZOFFSETTO:+0000
TZNAME:UTC
DTSTART:20240101T000000
END:STANDARD
END:VTIMEZONE
BEGIN:VEVENT
DTSTART;TZID=UTC:20240914T110000
DTEND;TZID=UTC:20240914T140000
DTSTAMP:20260425T111902
CREATED:20240904T185027Z
LAST-MODIFIED:20240904T185027Z
UID:7634-1726311600-1726322400@hotr.org.uk
SUMMARY:Pop Up Food Bank
DESCRIPTION:We’re pleased to be hosting another Pop-Up Food Bank using food donations. \nOpen and Free for all those in need of food.
URL:https://hotr.org.uk/event/popupfoodbank-sep24/
LOCATION:House on the Rock London\, The Rock Tower\, N7 9PS
ATTACH;FMTTYPE=image/png:https://hotr.org.uk/wp-content/uploads/2024/09/Pop-Up-Food-Bank.png
END:VEVENT
BEGIN:VEVENT
DTSTART;TZID=UTC:20240914T100000
DTEND;TZID=UTC:20240914T140000
DTSTAMP:20260425T111902
CREATED:20240607T131449Z
LAST-MODIFIED:20240620T081201Z
UID:6439-1726308000-1726322400@hotr.org.uk
SUMMARY:Workers' Summit
DESCRIPTION:Calling all Church Workers in the House! Mark it in your calendar now to be in the House for our 2nd Worker’s Summit in 2024 in-person at  The Rock Tower. Important information will be shared.
URL:https://hotr.org.uk/event/workersummit/
ATTACH;FMTTYPE=image/jpeg:https://hotr.org.uk/wp-content/uploads/2024/06/Church-Workers-Summit.jpg
END:VEVENT
BEGIN:VEVENT
DTSTART;TZID=UTC:20240908T100000
DTEND;TZID=UTC:20240908T123000
DTSTAMP:20260425T111902
CREATED:20240904T184922Z
LAST-MODIFIED:20240904T184922Z
UID:7631-1725789600-1725798600@hotr.org.uk
SUMMARY:Sunday Service
DESCRIPTION:Join us for our Sunday Service from 10am! Worship with us either in-person or online via Facebook\, Youtube (@hotrlondon) or our website (hotr.org.uk).
URL:https://hotr.org.uk/event/secondsundayservice-sep24/
LOCATION:House on the Rock London\, The Rock Tower\, N7 9PS
ATTACH;FMTTYPE=image/jpeg:https://hotr.org.uk/wp-content/uploads/2024/09/MAIN.jpg
END:VEVENT
BEGIN:VEVENT
DTSTART;TZID=UTC:20240907T070000
DTEND;TZID=UTC:20240907T080000
DTSTAMP:20260425T111902
CREATED:20240817T205432Z
LAST-MODIFIED:20240817T205432Z
UID:7432-1725692400-1725696000@hotr.org.uk
SUMMARY:W2W Prayer Meeting
DESCRIPTION:Join us via Zoom Conference Call from 7-8am for our monthly Woman 2 Woman Prayer Call hosted by Pastor Abisoye Odejide. \nLadies\, mark it in your calendar not to miss this key prayer session. \nAlso\, send in your Prayer Points anonymously via the link here
URL:https://hotr.org.uk/event/w2wprayermeeting-sep24/
LOCATION:House on the Rock London\, The Rock Tower\, N7 9PS
ATTACH;FMTTYPE=image/jpeg:https://hotr.org.uk/wp-content/uploads/2024/08/W2W-Prayer-Meetings-1.jpg
END:VEVENT
BEGIN:VEVENT
DTSTART;TZID=UTC:20240901T100000
DTEND;TZID=UTC:20240903T120000
DTSTAMP:20260425T111902
CREATED:20240817T204941Z
LAST-MODIFIED:20240817T205027Z
UID:7427-1725184800-1725364800@hotr.org.uk
SUMMARY:Back to School Workshop
DESCRIPTION:On Sunday 1st September from 10am our Children’s Church Team will be hosting a “Back to School Workshop” 📚🎒 specifically designed to help all children between Ages 5-12 prepare for success in the new school year. \n𝗣𝗮𝗿𝗲𝗻𝘁𝘀\, let’s make sure our children don’t miss out! Bring them in to the House this Sunday! Any questions for the Children’s Church Team\, drop them on this form here
URL:https://hotr.org.uk/event/bts-set24/
ATTACH;FMTTYPE=image/jpeg:https://hotr.org.uk/wp-content/uploads/2024/08/BACK-TO-SCHOOL-WORKSHOP-1.jpg
END:VEVENT
BEGIN:VEVENT
DTSTART;TZID=UTC:20240901T100000
DTEND;TZID=UTC:20240901T123000
DTSTAMP:20260425T111902
CREATED:20240817T205313Z
LAST-MODIFIED:20240901T151924Z
UID:7430-1725184800-1725193800@hotr.org.uk
SUMMARY:Communion Sunday Service
DESCRIPTION:Join us for Communion Service from 10am! Worship with us online via Youtube (@hotrlondon) or hotr.org.uk or in-person.
URL:https://hotr.org.uk/event/communionsundayservice-sep24/
ATTACH;FMTTYPE=image/jpeg:https://hotr.org.uk/wp-content/uploads/2024/08/MAIN-square.jpg
END:VEVENT
BEGIN:VEVENT
DTSTART;TZID=UTC:20240831T233000
DTEND;TZID=UTC:20240901T123000
DTSTAMP:20260425T111902
CREATED:20240804T063351Z
LAST-MODIFIED:20240817T204529Z
UID:7398-1725147000-1725193800@hotr.org.uk
SUMMARY:Speak into the New Month
DESCRIPTION:Join us via Youtube\, Facebook (hotrlondon) and IG Live (temiodejide) to speak into the new month. Mark it in your calendar not to miss this key prayer session for the month to speak into the womb of the New Month.
URL:https://hotr.org.uk/event/sitnm-aug24/
ATTACH;FMTTYPE=image/jpeg:https://hotr.org.uk/wp-content/uploads/2024/08/Aug-Speak-into-the-new-month.jpg
END:VEVENT
BEGIN:VEVENT
DTSTART;TZID=UTC:20240828T050000
DTEND;TZID=UTC:20240830T060000
DTSTAMP:20260425T111902
CREATED:20240822T082243Z
LAST-MODIFIED:20240919T180157Z
UID:7452-1724821200-1724997600@hotr.org.uk
SUMMARY:End of Month PUSH
DESCRIPTION:Join us in the place of prayer and fasting in our 3-Day End of Month PUSH (Pray Until Something Happens). Dial in to our Prayer Meeting from 5-6am on Weds to Fri via Zoom Meeting ID: 897 3504 6369; Password: 7773331; URL: bit.ly/hotrprayer
URL:https://hotr.org.uk/event/eompush-aug24/
ATTACH;FMTTYPE=image/jpeg:https://hotr.org.uk/wp-content/uploads/2024/08/August-EoM-PUSH-1.jpg
END:VEVENT
BEGIN:VEVENT
DTSTART;TZID=UTC:20240825T100000
DTEND;TZID=UTC:20240825T123000
DTSTAMP:20260425T111902
CREATED:20240804T061303Z
LAST-MODIFIED:20240821T085420Z
UID:7385-1724580000-1724589000@hotr.org.uk
SUMMARY:End of Month Thanksgiving Service
DESCRIPTION:Join us for our End of Month Thanksgiving Service from 10am with hosted by our Resident Pastor\, Temi Odejide and HillCity ministering with music! Worship with us either in-person or online via Youtube (@hotrlondon) or our website (hotr.org.uk).
URL:https://hotr.org.uk/event/eomthxgn-aug24/
LOCATION:House on the Rock London\, The Rock Tower\, N7 9PS
ATTACH;FMTTYPE=image/jpeg:https://hotr.org.uk/wp-content/uploads/2024/08/August-END-OF-MONTH-THANKSGIVING-SERVICE-1.jpg
END:VEVENT
BEGIN:VEVENT
DTSTART;TZID=UTC:20240818T123000
DTEND;TZID=UTC:20240818T123000
DTSTAMP:20260425T111902
CREATED:20240612T194733Z
LAST-MODIFIED:20240805T105922Z
UID:6854-1723984200-1723984200@hotr.org.uk
SUMMARY:Church Fun Day
DESCRIPTION:Join us for an afternoon of fun and fellowship in our Church Fun Day happening immediately after Service on Sunday 18th August. Absolutely free and open to everyone of all ages.
URL:https://hotr.org.uk/event/churchfunday/
ATTACH;FMTTYPE=image/jpeg:https://hotr.org.uk/wp-content/uploads/2024/06/Church-Fun-Day-1.jpg
END:VEVENT
BEGIN:VEVENT
DTSTART;TZID=UTC:20240818T100000
DTEND;TZID=UTC:20240818T123000
DTSTAMP:20260425T111902
CREATED:20240804T063448Z
LAST-MODIFIED:20240817T205534Z
UID:7384-1723975200-1723984200@hotr.org.uk
SUMMARY:Sunday Service
DESCRIPTION:Join us for our Sunday Service from 10am! Worship with us either in-person or online via Facebook\, Youtube (@hotrlondon) or our website (hotr.org.uk).
URL:https://hotr.org.uk/event/thirdsundayservice-aug24/
LOCATION:House on the Rock London\, The Rock Tower\, N7 9PS
ATTACH;FMTTYPE=image/jpeg:https://hotr.org.uk/wp-content/uploads/2024/08/MAIN-3.jpg
END:VEVENT
BEGIN:VEVENT
DTSTART;TZID=UTC:20240811T100000
DTEND;TZID=UTC:20240811T120000
DTSTAMP:20260425T111902
CREATED:20240804T060900Z
LAST-MODIFIED:20240810T104626Z
UID:7383-1723370400-1723377600@hotr.org.uk
SUMMARY:Sunday Service with Dayo Bello
DESCRIPTION:Experience the anointed ministry of Dayo Bello who will be our Guest Psalmist on Sunday\, August 11th. Prepare to be uplifted and inspired by God’s presence through worship. Join us for a refreshing time in His presence at from 10am prompt. Pre-service prayers will start online via our Zoom Prayer line\, and in-person as usual from 9am. \nWorship with us online via Youtube (@hotrlondon) or hotr.org.uk or in-person.
URL:https://hotr.org.uk/event/secondsundayservice-aug24/
ATTACH;FMTTYPE=image/jpeg:https://hotr.org.uk/wp-content/uploads/2024/08/MAIN-2-copy.jpg
END:VEVENT
BEGIN:VEVENT
DTSTART;TZID=UTC:20240810T110000
DTEND;TZID=UTC:20240810T140000
DTSTAMP:20260425T111902
CREATED:20240804T060522Z
LAST-MODIFIED:20240804T181913Z
UID:7382-1723287600-1723298400@hotr.org.uk
SUMMARY:Pop Up Food Bank
DESCRIPTION:We’re pleased to be hosting another Pop-Up Food Bank using food donations. \nOpen and Free for all those in need of food.
URL:https://hotr.org.uk/event/popupfoodbank-aug24/
LOCATION:House on the Rock London\, The Rock Tower\, N7 9PS
ATTACH;FMTTYPE=image/png:https://hotr.org.uk/wp-content/uploads/2024/08/Pop-Up-Food-Bank-1.png
END:VEVENT
BEGIN:VEVENT
DTSTART;TZID=UTC:20240810T070000
DTEND;TZID=UTC:20240810T080000
DTSTAMP:20260425T111902
CREATED:20240804T073440Z
LAST-MODIFIED:20240804T181653Z
UID:7401-1723273200-1723276800@hotr.org.uk
SUMMARY:W2W Prayer Meeting
DESCRIPTION:Join us via Zoom Conference Call from 7-8am for our monthly Woman 2 Woman Prayer Call hosted by Pastor Abisoye Odejide. \nLadies\, mark it in your calendar not to miss this key prayer session. \nAlso\, send in your Prayer Points anonymously via the link here
URL:https://hotr.org.uk/event/w2wprayermeeting-aug24/
LOCATION:House on the Rock London\, The Rock Tower\, N7 9PS
ATTACH;FMTTYPE=image/jpeg:https://hotr.org.uk/wp-content/uploads/2024/08/W2W-Prayer-Meetings.jpg
END:VEVENT
BEGIN:VEVENT
DTSTART;TZID=UTC:20240804T100000
DTEND;TZID=UTC:20240804T120000
DTSTAMP:20260425T111902
CREATED:20240624T150050Z
LAST-MODIFIED:20240801T075047Z
UID:6936-1722765600-1722772800@hotr.org.uk
SUMMARY:Communion Sunday Service
DESCRIPTION:Join us for Communion Service from 10am! Worship with us online via Youtube (@hotrlondon) or hotr.org.uk or in-person.
URL:https://hotr.org.uk/event/communionsundayservice-aug24/
ATTACH;FMTTYPE=image/jpeg:https://hotr.org.uk/wp-content/uploads/2024/08/Communion-Sunday-Service.jpg
END:VEVENT
BEGIN:VEVENT
DTSTART;TZID=UTC:20240731T233000
DTEND;TZID=UTC:20240801T123000
DTSTAMP:20260425T111902
CREATED:20240624T143215Z
LAST-MODIFIED:20240629T203452Z
UID:6922-1722468600-1722515400@hotr.org.uk
SUMMARY:Speak into the New Month
DESCRIPTION:Join us via Youtube\, Facebook (hotrlondon) and IG Live (temiodejide) to speak into the new month. Mark it in your calendar not to miss this key prayer session for the month to speak into the womb of the New Month.
URL:https://hotr.org.uk/event/sitnm-jul24/
ATTACH;FMTTYPE=image/jpeg:https://hotr.org.uk/wp-content/uploads/2024/06/July-Speak-into-the-new-month.jpg
END:VEVENT
BEGIN:VEVENT
DTSTART;TZID=UTC:20240728T100000
DTEND;TZID=UTC:20240728T123000
DTSTAMP:20260425T111902
CREATED:20240624T145315Z
LAST-MODIFIED:20240629T203304Z
UID:6928-1722160800-1722169800@hotr.org.uk
SUMMARY:End of Month Thanksgiving Service
DESCRIPTION:Join us for our End of Month Thanksgiving Service from 10am with hosted by our Resident Pastor\, Temi Odejide and Guest Psalmist\, Evangelist Chuks Chidube and HillCity ministering with music! Worship with us either in-person or online via Youtube (@hotrlondon) or our website (hotr.org.uk).
URL:https://hotr.org.uk/event/eomthxgn-jul24/
LOCATION:House on the Rock London\, The Rock Tower\, N7 9PS
END:VEVENT
BEGIN:VEVENT
DTSTART;TZID=UTC:20240724T050000
DTEND;TZID=UTC:20240727T060000
DTSTAMP:20260425T111902
CREATED:20240624T143622Z
LAST-MODIFIED:20240629T203908Z
UID:6925-1721797200-1722060000@hotr.org.uk
SUMMARY:End of Month PUSH
DESCRIPTION:Join us in the place of prayer and fasting in our 3-Day End of Month PUSH (Pray Until Something Happens). Dial in to our Prayer Meeting from 5-6am on Weds to Fri via Zoom Meeting ID: 897 3504 6369; Password: 7773331; URL: bit.ly/hotrprayer
URL:https://hotr.org.uk/event/eompush-jul24/
ATTACH;FMTTYPE=image/jpeg:https://hotr.org.uk/wp-content/uploads/2024/06/July-EoM-PUSH.jpg
END:VEVENT
BEGIN:VEVENT
DTSTART;TZID=UTC:20240721T100000
DTEND;TZID=UTC:20240721T123000
DTSTAMP:20260425T111902
CREATED:20240624T145720Z
LAST-MODIFIED:20240716T213435Z
UID:6933-1721556000-1721565000@hotr.org.uk
SUMMARY:Communion & Prayer Service
DESCRIPTION:Join us for a powerful Communion & Prayer Service from 10am! Worship with us online via Youtube (@hotrlondon) or hotr.org.uk or in-person.
URL:https://hotr.org.uk/event/thirdsundayservice-jul24/
LOCATION:House on the Rock London\, The Rock Tower\, N7 9PS
ATTACH;FMTTYPE=image/jpeg:https://hotr.org.uk/wp-content/uploads/2024/06/MAIN.jpg
END:VEVENT
BEGIN:VEVENT
DTSTART;TZID=UTC:20240714T100000
DTEND;TZID=UTC:20240714T120000
DTSTAMP:20260425T111902
CREATED:20240607T105009Z
LAST-MODIFIED:20240620T193023Z
UID:6435-1720951200-1720958400@hotr.org.uk
SUMMARY:Water Baptism Service
DESCRIPTION:Baptism is a great moment to publicly declare your entry into the new covenant and profession of your faith in Christ. If you’d like to be baptised during our special Baptismal Service on Sunday 14th July at 10am\, click here to sign up and we’ll be in touch – be sure to invite your friends and family too.
URL:https://hotr.org.uk/event/waterbaptism/
ATTACH;FMTTYPE=image/jpeg:https://hotr.org.uk/wp-content/uploads/2024/06/Water-Baptism-Service.jpg
END:VEVENT
BEGIN:VEVENT
DTSTART;TZID=UTC:20240713T110000
DTEND;TZID=UTC:20240713T140000
DTSTAMP:20260425T111902
CREATED:20240624T150309Z
LAST-MODIFIED:20240624T150710Z
UID:6939-1720868400-1720879200@hotr.org.uk
SUMMARY:Pop Up Food Bank
DESCRIPTION:We’re pleased to be hosting another Pop-Up Food Bank using food donations. \nOpen and Free for all those in need of food.
URL:https://hotr.org.uk/event/popupfoodbank-jul24/
LOCATION:House on the Rock London\, The Rock Tower\, N7 9PS
ATTACH;FMTTYPE=image/png:https://hotr.org.uk/wp-content/uploads/2024/06/Pop-Up-Food-Bank.png
END:VEVENT
BEGIN:VEVENT
DTSTART;TZID=UTC:20240707T100000
DTEND;TZID=UTC:20240707T120000
DTSTAMP:20260425T111902
CREATED:20240620T081035Z
LAST-MODIFIED:20240630T213834Z
UID:6901-1720346400-1720353600@hotr.org.uk
SUMMARY:Sunday Service with Pastor Paul Adefarasin
DESCRIPTION:Join us for an amazing time in the presence of God with our Metropolitan & Senior Pastor\, Paul Adefarasin from 10am! Worship with us online via Youtube (@hotrlondon) or hotr.org.uk or in-person.
URL:https://hotr.org.uk/event/firstsundayservice-jul24/
END:VEVENT
BEGIN:VEVENT
DTSTART;TZID=UTC:20240706T110000
DTEND;TZID=UTC:20240706T143000
DTSTAMP:20260425T111902
CREATED:20240612T193346Z
LAST-MODIFIED:20240617T155619Z
UID:6846-1720263600-1720276200@hotr.org.uk
SUMMARY:W2W Financial Wellness Seminar
DESCRIPTION:Don’t miss our W2W July Empowerment Event! Ladies\, expect talks on financial wellness\, savings\, investments and our Business Owners will have chance to showcase their business. \nLet us know you’ll be attending by registering here
URL:https://hotr.org.uk/event/w2wjulyevent/
ATTACH;FMTTYPE=image/jpeg:https://hotr.org.uk/wp-content/uploads/2024/06/W2W-July-Event-1.jpg
END:VEVENT
BEGIN:VEVENT
DTSTART;TZID=UTC:20240630T233000
DTEND;TZID=UTC:20240701T123000
DTSTAMP:20260425T111902
CREATED:20240531T105744Z
LAST-MODIFIED:20240607T150807Z
UID:6252-1719790200-1719837000@hotr.org.uk
SUMMARY:Speak into the New Month
DESCRIPTION:Join us via Youtube\, Facebook (hotrlondon) and IG Live (temiodejide) to speak into the new month. Mark it in your calendar not to miss this key prayer session for the month to speak into the womb of the New Month.
URL:https://hotr.org.uk/event/sitnm-jun24/
ATTACH;FMTTYPE=image/jpeg:https://hotr.org.uk/wp-content/uploads/2024/05/June-Speak-into-the-new-month.jpg
END:VEVENT
BEGIN:VEVENT
DTSTART;TZID=UTC:20240630T100000
DTEND;TZID=UTC:20240630T123000
DTSTAMP:20260425T111902
CREATED:20240531T105549Z
LAST-MODIFIED:20240624T145503Z
UID:6249-1719741600-1719750600@hotr.org.uk
SUMMARY:Mid Year Thanksgiving Service
DESCRIPTION:Join us for our Mid-Year Thanksgiving Service from 10am with hosted by our Resident Pastor\, Temi Odejide and Guest Psalmists Preye Odede & Tobi Loba together with HillCity Worship ministering with music! Worship with us either in-person or online via Youtube (@hotrlondon) or our website (hotr.org.uk).
URL:https://hotr.org.uk/event/midyearthxgn-jun24/
LOCATION:House on the Rock London\, The Rock Tower\, N7 9PS
ATTACH;FMTTYPE=image/jpeg:https://hotr.org.uk/wp-content/uploads/2024/05/MID-YEAR-THANKSGIVING-SERVICE-copy-1.jpg
END:VEVENT
BEGIN:VEVENT
DTSTART;TZID=UTC:20240626T050000
DTEND;TZID=UTC:20240628T060000
DTSTAMP:20260425T111902
CREATED:20240531T105157Z
LAST-MODIFIED:20240607T150900Z
UID:6247-1719378000-1719554400@hotr.org.uk
SUMMARY:End of Month PUSH
DESCRIPTION:Join us in the place of prayer and fasting in our 3-Day End of Month PUSH (Pray Until Something Happens). Dial in to our Prayer Meeting from 5-6am on Weds to Fri via Zoom Meeting ID: 897 3504 6369; Password: 7773331; URL: bit.ly/hotrprayer
URL:https://hotr.org.uk/event/eompush-jun24/
ATTACH;FMTTYPE=image/jpeg:https://hotr.org.uk/wp-content/uploads/2024/05/June-EoM-PUSH.jpg
END:VEVENT
BEGIN:VEVENT
DTSTART;TZID=UTC:20240623T100000
DTEND;TZID=UTC:20240623T123000
DTSTAMP:20260425T111902
CREATED:20240531T104801Z
LAST-MODIFIED:20240618T133751Z
UID:6242-1719136800-1719145800@hotr.org.uk
SUMMARY:Sunday Service
DESCRIPTION:Join us for our Sunday Service from 10am! Worship with us either in-person or online via Facebook\, Youtube (@hotrlondon) or our website (hotr.org.uk).
URL:https://hotr.org.uk/event/fourthsundayservice-jun24/
LOCATION:House on the Rock London\, The Rock Tower\, N7 9PS
ATTACH;FMTTYPE=image/jpeg:https://hotr.org.uk/wp-content/uploads/2024/05/MAIN.jpg
END:VEVENT
BEGIN:VEVENT
DTSTART;TZID=UTC:20240616T100000
DTEND;TZID=UTC:20240616T123000
DTSTAMP:20260425T111902
CREATED:20240531T104346Z
LAST-MODIFIED:20240612T191558Z
UID:6235-1718532000-1718541000@hotr.org.uk
SUMMARY:Father's Day Service
DESCRIPTION:Join us for our special Father’s Day Service from 10am! Worship with us either in-person or online via Facebook\, Youtube (@hotrlondon) or our website (hotr.org.uk).
URL:https://hotr.org.uk/event/fathersdayservice-jun24/
LOCATION:House on the Rock London\, The Rock Tower\, N7 9PS
ATTACH;FMTTYPE=image/jpeg:https://hotr.org.uk/wp-content/uploads/2024/05/Fathers-Day-square-1.jpg
END:VEVENT
BEGIN:VEVENT
DTSTART;TZID=UTC:20240615T100000
DTEND;TZID=UTC:20240615T140000
DTSTAMP:20260425T111902
CREATED:20240531T130239Z
LAST-MODIFIED:20240609T155941Z
UID:6255-1718445600-1718460000@hotr.org.uk
SUMMARY:MenTor Day
DESCRIPTION:It’s a MenTor Day! Our Men’s Ministry is proud to be hosting an event for Men just before Father’s Day. You already know we have amazing men in the House\, so this June is all about celebrating our amazing Fathers and Father figures in our lives! We’re calling on all our amazing men! Mark it in your calendars to enjoy a fun-filled day of fellowship\, games\, delicious refreshments & more on Saturday 15th June! This is a fantastic opportunity to bond\, grow in faith\, and enjoy quality time together.
URL:https://hotr.org.uk/event/mentorday-jan24/
ATTACH;FMTTYPE=image/jpeg:https://hotr.org.uk/wp-content/uploads/2024/05/Mentor-Day-for-Men.jpg
END:VEVENT
BEGIN:VEVENT
DTSTART;TZID=UTC:20240609T100000
DTEND;TZID=UTC:20240609T123000
DTSTAMP:20260425T111902
CREATED:20240531T104942Z
LAST-MODIFIED:20240612T195839Z
UID:6245-1717927200-1717936200@hotr.org.uk
SUMMARY:Sunday Service
DESCRIPTION:Join us for our Sunday Service from 10am! Worship with us either in-person or online via Youtube (@hotrlondon) or our website (hotr.org.uk).
URL:https://hotr.org.uk/event/secondsundayservice-jun24/
LOCATION:House on the Rock London\, The Rock Tower\, N7 9PS
ATTACH;FMTTYPE=image/jpeg:https://hotr.org.uk/wp-content/uploads/2024/05/MAIN-4-1.jpg
END:VEVENT
END:VCALENDAR