BEGIN:VCALENDAR
VERSION:2.0
PRODID:-//House on the Rock London - ECPv6.13.2.1//NONSGML v1.0//EN
CALSCALE:GREGORIAN
METHOD:PUBLISH
X-WR-CALNAME:House on the Rock London
X-ORIGINAL-URL:https://hotr.org.uk
X-WR-CALDESC:Events for House on the Rock London
REFRESH-INTERVAL;VALUE=DURATION:PT1H
X-Robots-Tag:noindex
X-PUBLISHED-TTL:PT1H
BEGIN:VTIMEZONE
TZID:UTC
BEGIN:STANDARD
TZOFFSETFROM:+0000
TZOFFSETTO:+0000
TZNAME:UTC
DTSTART:20260101T000000
END:STANDARD
END:VTIMEZONE
BEGIN:VEVENT
DTSTART;TZID=UTC:20260301T143000
DTEND;TZID=UTC:20260517T160000
DTSTAMP:20260423T214127
CREATED:20260201T203147Z
LAST-MODIFIED:20260302T163006Z
UID:11680-1772375400-1779033600@hotr.org.uk
SUMMARY:Forever Friends Classes
DESCRIPTION:Healthy relationships don’t just happen – they’re built. \nForever Friends Classes are a 12-week Christian relationship and pre-marital course for singles\, engaged\, married\, and anyone wanting to do relationships God’s way. Through practical teaching\, honest conversation\, and biblical foundations\, this course equips you to build strong\, healthy\, faith-centered relationships at every stage of life. \nStarting Sunday\, 1st March 2026 at 2:30pm.Register via hotr.org.uk/training\, or contact email the Church Office at admin@hotr.org.uk \nForever Friends Classes – because strong relationships start with the right foundation.
URL:https://hotr.org.uk/event/ff-classes-mar26/
LOCATION:House on the Rock London\, The Rock Tower\, N7 9PS
ATTACH;FMTTYPE=image/png:https://hotr.org.uk/wp-content/uploads/2026/02/Special-Events-Graphics-for-Website.png
END:VEVENT
BEGIN:VEVENT
DTSTART;TZID=UTC:20260422T050000
DTEND;TZID=UTC:20260424T060000
DTSTAMP:20260423T214127
CREATED:20260401T133922Z
LAST-MODIFIED:20260403T180435Z
UID:12124-1776834000-1777010400@hotr.org.uk
SUMMARY:End of Month PUSH
DESCRIPTION:Join us in the place of prayer and fasting in our 10-Day End of Year PUSH (Pray Until Something Happens). \nDial in to our Prayer Meeting from 5-6am on Weds to Fri via Zoom Meeting ID: 897 3504 6369; Password: 7773331; URL: bit.ly/hotrprays
URL:https://hotr.org.uk/event/eompush-apr26/
ATTACH;FMTTYPE=image/jpeg:https://hotr.org.uk/wp-content/uploads/2026/04/6.jpg
END:VEVENT
BEGIN:VEVENT
DTSTART;TZID=UTC:20260425T100000
DTEND;TZID=UTC:20260425T160000
DTSTAMP:20260423T214127
CREATED:20260214T091658Z
LAST-MODIFIED:20260422T215841Z
UID:11783-1777111200-1777132800@hotr.org.uk
SUMMARY:Faith in the Real World Conference
DESCRIPTION:GOOD GOD\, BAD WORLD? \nOur  Confident Faith Conference\, in collaboration with OCCA\, the Oxford Centre for Christian Apologetics is back on  Saturday 25th April at 10am at The Rock Tower (49 Tufnell Park Road\, N7 0PS). This year\, we’re also partnering with The Bible Society! \nJoin us for this transformative one-day conference as we explore some of life’s biggest questions. \n\nDoes the world really need a Saviour?\nIs the Bible trustworthy?\nWhat is God’s answer to evil?\n\nThrough thoughtful teaching\, engaging discussion\, and practical insight\, this event will equip and encourage you to live out your faith confidently in today’s world. \nDon’t come alone – invite your friends\, family\, and anyone curious about Christianity. \n🎟️ Ticket Price: £20\n📍 Get Your Ticket HERE at the theocca.org/event/faith-in-the-real-world2 website \nWant to make a difference? You can also donate a ticket via the same link to help someone attend who otherwise couldn’t afford it. Let’s make this event accessible to all! 🙌
URL:https://hotr.org.uk/event/confidentfaithconf-apr26/
LOCATION:House on the Rock London\, The Rock Tower\, N7 9PS
ATTACH;FMTTYPE=image/png:https://hotr.org.uk/wp-content/uploads/2026/04/Square-Template-1.png
END:VEVENT
BEGIN:VEVENT
DTSTART;TZID=UTC:20260426T100000
DTEND;TZID=UTC:20260426T123000
DTSTAMP:20260423T214127
CREATED:20260403T180931Z
LAST-MODIFIED:20260403T180931Z
UID:12148-1777197600-1777206600@hotr.org.uk
SUMMARY:End of Month Thanksgiving Service
DESCRIPTION:As we close out April\, join us for a powerful End of Month Thanksgiving Service to thank God for His many blessings throughout the month! \nExpect an atmosphere of prayer\, worship\, and practical teaching that empowers you. \nPre-Service Prayers begin from 9am\, followed by the main service from 10am. \nDon’t miss this life-changing service – come with family\, friends\, and a heart full of gratitude.
URL:https://hotr.org.uk/event/eomthxgn-apr26/
LOCATION:House on the Rock London\, The Rock Tower\, N7 9PS
ATTACH;FMTTYPE=image/jpeg:https://hotr.org.uk/wp-content/uploads/2026/04/5.jpg
END:VEVENT
BEGIN:VEVENT
DTSTART;TZID=UTC:20260430T233000
DTEND;TZID=UTC:20260501T003000
DTSTAMP:20260423T214127
CREATED:20260401T134708Z
LAST-MODIFIED:20260406T182736Z
UID:12128-1777591800-1777595400@hotr.org.uk
SUMMARY:Speak into the New Month
DESCRIPTION:Join us via Youtube\, Facebook (hotrlondon) and IG Live (temiodejide) to speak into the new month. \nMark it in your calendar not to miss this key prayer session for the month to speak into the womb of the New Month.
URL:https://hotr.org.uk/event/sitnm-may26/
ATTACH;FMTTYPE=image/jpeg:https://hotr.org.uk/wp-content/uploads/2026/04/Square-Template-1.jpg
END:VEVENT
BEGIN:VEVENT
DTSTART;TZID=UTC:20260515T150000
DTEND;TZID=UTC:20260517T090000
DTSTAMP:20260423T214127
CREATED:20250513T125109Z
LAST-MODIFIED:20260205T184500Z
UID:9957-1778857200-1779008400@hotr.org.uk
SUMMARY:Women's Retreat
DESCRIPTION:Recharge. Refocus. Reconnect. \nJoin us for a powerful weekend designed by women\, for women – a time to rest\, worship\, grow\, and connect with like-minded sisters in Christ. Whether you’re coming for spiritual renewal\, heartfelt conversations\, or simply a moment to pause\, this retreat is your sacred space. \nConference & Retreat Rates: \nSingle Occupancy: £350 \nJoint Occupancy (Sharing): £300 \nBe the first to receive updates and secure your spot:👉 Sign up here \n————————————– \nKnow a woman who would be blessed by this retreat? You can nominate her to attend for free right here! \nWant to go a step further?You can also sponsor a woman’s place by emailing us at ecomms@hotr.org.uk. \nLet’s lift each other up – one sister at a time. 💕 \n 
URL:https://hotr.org.uk/event/w2wretreat-may26/
ATTACH;FMTTYPE=image/jpeg:https://hotr.org.uk/wp-content/uploads/2026/02/3-1.jpg
END:VEVENT
BEGIN:VEVENT
DTSTART;TZID=UTC:20260924T150000
DTEND;TZID=UTC:20260927T090000
DTSTAMP:20260423T214127
CREATED:20260205T184910Z
LAST-MODIFIED:20260205T185159Z
UID:11706-1790262000-1790499600@hotr.org.uk
SUMMARY:Couples' Retreat
DESCRIPTION:Join us in beautiful Crete for a powerful couples retreat at the stunning Royal & Imperial Belvedere Resort. \nThis retreat will be bigger\, deeper\, and more memorable\, featuring:– Meaningful workshops– Connection-building sessions– A scenic boat cruise– More exciting activities to come \n💷 Cost\n£650 per couple (3 nights\, all-inclusive)Includes accommodation\, meals\, workshops\, boat cruise & activitiesFlights not included \n🏦 Payment \nHouse on the Rock LondonAcc: 60316636 | Sort: 20-74-63Ref: Couples Retreat \nOr give online: 👉 hotr.org.uk/give-online \nRegister here asap for more details! \nWe’re expectant for stronger marriages\, deeper unity\, and unforgettable moments 💙 \nCrete 2026 — let’s go! 🇬🇷🔥 \n  \n 
URL:https://hotr.org.uk/event/couplesretreat-sep26/
ATTACH;FMTTYPE=image/jpeg:https://hotr.org.uk/wp-content/uploads/2026/02/2-1.jpg
END:VEVENT
END:VCALENDAR