BEGIN:VCALENDAR
VERSION:2.0
PRODID:-//House on the Rock London - ECPv6.13.2.1//NONSGML v1.0//EN
CALSCALE:GREGORIAN
METHOD:PUBLISH
X-WR-CALNAME:House on the Rock London
X-ORIGINAL-URL:https://hotr.org.uk
X-WR-CALDESC:Events for House on the Rock London
REFRESH-INTERVAL;VALUE=DURATION:PT1H
X-Robots-Tag:noindex
X-PUBLISHED-TTL:PT1H
BEGIN:VTIMEZONE
TZID:UTC
BEGIN:STANDARD
TZOFFSETFROM:+0000
TZOFFSETTO:+0000
TZNAME:UTC
DTSTART:20250101T000000
END:STANDARD
END:VTIMEZONE
BEGIN:VEVENT
DTSTART;TZID=UTC:20250809T110000
DTEND;TZID=UTC:20250809T160000
DTSTAMP:20260424T142406
CREATED:20250726T212945Z
LAST-MODIFIED:20250728T220909Z
UID:10450-1754737200-1754755200@hotr.org.uk
SUMMARY:3-in-1 Summer Pop Up Food Bank
DESCRIPTION:Join us this August 9th for a special 3-in-1 Rock Tower Summer Food Bank\, happening from 11 AM to 4 PM at The Rock Tower! \nWe’re excited to offer a community-focused event that’s open and free to everyone! \nWhat’s on offer? \n\nNon-perishable food to help stock your pantry\nHot\, freshly cooked meals to enjoy on the spot\nFree clothes to support you and your family\n\nIt’s a day of Food\, Fun\, and Family – and we’re here to help. Whether you’re in need or just want to be part of the community\, come along\, grab what you need\, and connect with others in a warm\, welcoming environment. \nWhere?49 Tufnell Park Road\, N7 0PS \nWe can’t wait to see you there!
URL:https://hotr.org.uk/event/popupfoodbank-aug25/
LOCATION:House on the Rock London\, The Rock Tower\, N7 9PS
ATTACH;FMTTYPE=image/jpeg:https://hotr.org.uk/wp-content/uploads/2025/07/Square-Template-3.jpg
END:VEVENT
BEGIN:VEVENT
DTSTART;TZID=UTC:20250810T100000
DTEND;TZID=UTC:20250810T123000
DTSTAMP:20260424T142406
CREATED:20250807T204207Z
LAST-MODIFIED:20250807T204207Z
UID:10539-1754820000-1754829000@hotr.org.uk
SUMMARY:Sunday Service
DESCRIPTION:Get ready to ACTIVATE your faith\, your purpose\, and your praise! \nJoin us for a refreshing and power-packed service that will ignite your spirit and stir something new within you. Our in-house choir HillCity will lead us into a dynamic time of worship – vibrant\, soulful\, and full of joy. Come expecting to move\, sing\, and celebrate in His presence! \nBringing the Word is the inspiring Pastor Edbert Abebe – a passionate communicator\, leadership coach\, and academic\, known for equipping people to lead with boldness and live with intention. His message this Sunday is set to challenge and activate the fire God has placed in you! \nWith Pastor Edbert’s empowering delivery and HillCity’s uplifting praise\, this Sunday promises to be lively\, encouraging\, and spiritually invigorating. \nDon’t come alone – bring someone who’s ready for a shift. \nIt’s time to wake up the gifts inside you and walk boldly into your next! \nWe look forward to welcoming you to Service!
URL:https://hotr.org.uk/event/secondsundayservice-aug2025/
ATTACH;FMTTYPE=image/jpeg:https://hotr.org.uk/wp-content/uploads/2025/08/Square-Template-1.jpg
END:VEVENT
BEGIN:VEVENT
DTSTART;TZID=UTC:20250815T173000
DTEND;TZID=UTC:20250815T220000
DTSTAMP:20260424T142406
CREATED:20250725T184447Z
LAST-MODIFIED:20250725T184544Z
UID:10440-1755279000-1755295200@hotr.org.uk
SUMMARY:JAM - IGNITE Worship Service
DESCRIPTION:“Bring it on.” – Hebrews 5:8 \nGet ready for an unforgettable night of worship\, connection\, and community at JAM: Jesus And Me – the ultimate youth-led worship night hosted by IGNITE\, the Youth Ministry of House On The Rock London! \nWhether you’re exploring faith\, deep in your journey\, or just showing up out of curiosity – this is your space. Expect live music\, powerful testimonies\, and authentic moments that stir your soul and lift your spirit. \nJoin us for an evening where faith meets fire\, and where Jesus meets YOU – right where you are. \n🗓 Date: Friday\, 15th August\n⏰ Time: Doors open at 5:30 PM\n📍 Venue: The Rock Tower\, 49 Tufnell Park Road\, London N7 0PS \n🎤 Featuring Special Guests:\n• Noel Robinson\n• Flames Movement\n• Lagoinha London\n• Iglesia Más Que Vencedores\n• …and more! \n🎟️ Tickets are FREE – click here to reserve yours today! \nBring your crew\, your energy\, and an open heart. \nLet’s worship. Let’s connect. Let’s JAM – Jesus And Me! 💜🔥
URL:https://hotr.org.uk/event/jam-25/
LOCATION:House on the Rock London\, The Rock Tower\, N7 9PS
ATTACH;FMTTYPE=image/jpeg:https://hotr.org.uk/wp-content/uploads/2025/07/Square-Template-1.jpg
END:VEVENT
BEGIN:VEVENT
DTSTART;TZID=UTC:20250817T100000
DTEND;TZID=UTC:20250817T123000
DTSTAMP:20260424T142406
CREATED:20250816T091455Z
LAST-MODIFIED:20250820T222933Z
UID:10564-1755424800-1755433800@hotr.org.uk
SUMMARY:Sunday Service
DESCRIPTION:This Sunday at House On The Rock London\, we continue in our month of “Exceedingly\, Abundantly\, Above” (Ephesians 3:20) with a dynamic service themed “God in the House.” \nFrom the beginning\, God has desired to dwell with His people – not in temples made of stone\, but in living hearts. When God is in the House\, chains are broken\, lives are restored\, and destinies are transformed. \nWe invite you to join us for a powerful time of worship\, prayer\, and the Word as we encounter the presence of God together. \nSpecial Highlight: Right after service\, we’ll celebrate together at our Annual Church Fun Day BBQ Extravaganza  – with food\, games\, and fellowship for the whole family! \nCome expectant. Invite your friends and family. This is a service you don’t want to miss!
URL:https://hotr.org.uk/event/thirdsundayservice-aug25/
ATTACH;FMTTYPE=image/jpeg:https://hotr.org.uk/wp-content/uploads/2025/08/Square-Template-2.jpg
END:VEVENT
BEGIN:VEVENT
DTSTART;TZID=UTC:20250817T123000
DTEND;TZID=UTC:20250817T123000
DTSTAMP:20260424T142406
CREATED:20250625T202106Z
LAST-MODIFIED:20250628T064227Z
UID:10234-1755433800-1755433800@hotr.org.uk
SUMMARY:Church Fun Day
DESCRIPTION:Join us for an afternoon of fun and fellowship in our Church Fun Day happening immediately after Service on Sunday 17th August. Absolutely free and open to everyone of all ages.
URL:https://hotr.org.uk/event/churchfunday-aug25/
ATTACH;FMTTYPE=image/jpeg:https://hotr.org.uk/wp-content/uploads/2025/06/Square-Template-1-1.jpg
END:VEVENT
BEGIN:VEVENT
DTSTART;TZID=UTC:20250824T100000
DTEND;TZID=UTC:20250824T123000
DTSTAMP:20260424T142406
CREATED:20250820T222859Z
LAST-MODIFIED:20250820T222859Z
UID:10579-1756029600-1756038600@hotr.org.uk
SUMMARY:Sunday Service
DESCRIPTION:Join us for another life-changing service in this our month of Exceedingly Abundantly Above! Pastor Godswill Arum – coach\, mentor\, and dynamic preacher – will be bringing an inspiring message titled “Think Above!”. With HillCity leading us in powerful praise and worship\, expect an atmosphere of joy\, encouragement\, and breakthrough. \nDon’t just come to church – come ready to rise higher!
URL:https://hotr.org.uk/event/fourthsundayservice-aug25/
ATTACH;FMTTYPE=image/png:https://hotr.org.uk/wp-content/uploads/2025/08/2.png
END:VEVENT
BEGIN:VEVENT
DTSTART;TZID=UTC:20250827T050000
DTEND;TZID=UTC:20250829T060000
DTSTAMP:20260424T142406
CREATED:20250804T155647Z
LAST-MODIFIED:20250808T195811Z
UID:10515-1756270800-1756447200@hotr.org.uk
SUMMARY:End of Month PUSH
DESCRIPTION:Matthew 7:7 – “Ask\, and it will be given to you; seek\, and you will find; knock\, and it will be opened to you.” \nJoin us for 3 powerful days of prayer and fasting as we seek Gods’ face and PUSH (Pray Until Something Happens) for breakthroughs in every area of our lives at the end of the month. \nLet’s come together in faith\, unit in prayer\, and believe for the impossible. \nDon’t miss this opportunity to end the month strong and prepare your heart for March. \nInvite someone to join you and let’s PUSH together! \nDial in to our Prayer Meeting from 5-6am on Weds to Fri via Zoom Meeting ID: 897 3504 6369; Password: 7773331; URL: bit.ly/hotrprays
URL:https://hotr.org.uk/event/eompush-aug25/
ATTACH;FMTTYPE=image/jpeg:https://hotr.org.uk/wp-content/uploads/2025/08/Square-Template-1-1.jpg
END:VEVENT
BEGIN:VEVENT
DTSTART;TZID=UTC:20250830T070000
DTEND;TZID=UTC:20250830T080000
DTSTAMP:20260424T142406
CREATED:20250804T155449Z
LAST-MODIFIED:20250804T155526Z
UID:10514-1756537200-1756540800@hotr.org.uk
SUMMARY:MenTor Prayer Meeting
DESCRIPTION:Men of the House\, join us for our Men’s Ministry (MenTor) Monthly Prayer Meeting as we gather in unity to seek God’s face\, strengthen our faith\, and intercede for our families\, community\, and nation. Pastor Temi Odejide will be leading this powerful time of prayer and impartation online via our Zoom Prayer Line. \nDon’t miss this opportunity to press in God’s presence with your brothers in Christ. \nInvite a friend and let’s build each other up in faith!
URL:https://hotr.org.uk/event/mentorprayermeeting-aug25/
LOCATION:House on the Rock London\, The Rock Tower\, N7 9PS
ATTACH;FMTTYPE=image/jpeg:https://hotr.org.uk/wp-content/uploads/2025/03/MenTorPrayers.jpg
END:VEVENT
BEGIN:VEVENT
DTSTART;TZID=UTC:20250831T100000
DTEND;TZID=UTC:20250831T123000
DTSTAMP:20260424T142406
CREATED:20250720T070503Z
LAST-MODIFIED:20250827T212105Z
UID:10392-1756634400-1756643400@hotr.org.uk
SUMMARY:End of Month Thanksgiving Service
DESCRIPTION:Join us this Sunday at The Rock Tower as we close out August – our month of Exceedingly\, Abundantly Above (Eph 3:20) – with a powerful time of thanksgiving\, worship\, and the Word. \nPastor Temi Odejide will be teaching on stepping into the promise of GREATER\, because God is ready to do greater things in you and through you. \nDon’t miss this life-changing service – come with family\, friends\, and a heart full of gratitude.
URL:https://hotr.org.uk/event/eomthxgn-aug25/
LOCATION:House on the Rock London\, The Rock Tower\, N7 9PS
ATTACH;FMTTYPE=image/jpeg:https://hotr.org.uk/wp-content/uploads/2025/08/Square-Template-4.jpg
END:VEVENT
BEGIN:VEVENT
DTSTART;TZID=UTC:20250831T113000
DTEND;TZID=UTC:20250901T003000
DTSTAMP:20260424T142406
CREATED:20250828T075655Z
LAST-MODIFIED:20250901T024407Z
UID:10670-1756639800-1756686600@hotr.org.uk
SUMMARY:Speak into the New Month
DESCRIPTION:Join us via Youtube\, Facebook (hotrlondon) and IG Live (temiodejide) to speak into the new month. Mark it in your calendar not to miss this key prayer session for the month to speak into the womb of the New Month.
URL:https://hotr.org.uk/event/sitnm-sep25/
ATTACH;FMTTYPE=image/jpeg:https://hotr.org.uk/wp-content/uploads/2025/08/Special-Events-Graphics-for-Website-4.jpg
END:VEVENT
BEGIN:VEVENT
DTSTART;TZID=UTC:20250906T070000
DTEND;TZID=UTC:20250906T080000
DTSTAMP:20260424T142406
CREATED:20250804T155930Z
LAST-MODIFIED:20250804T155930Z
UID:10521-1757142000-1757145600@hotr.org.uk
SUMMARY:W2W Prayer Meeting
DESCRIPTION:Join us via Zoom Conference Call from 7-8am for our monthly Woman 2 Woman Prayer Call hosted by Pastor Abisoye Odejide. \nLadies\, mark it in your calendar not to miss this key prayer session. \nAlso\, send in your Prayer Points anonymously via the link here
URL:https://hotr.org.uk/event/w2wprayermeeting-aug25/
LOCATION:House on the Rock London\, The Rock Tower\, N7 9PS
ATTACH;FMTTYPE=image/jpeg:https://hotr.org.uk/wp-content/uploads/2025/03/Square-Template-3.jpg
END:VEVENT
BEGIN:VEVENT
DTSTART;TZID=UTC:20250907T100000
DTEND;TZID=UTC:20250907T123000
DTSTAMP:20260424T142406
CREATED:20250831T064842Z
LAST-MODIFIED:20250905T193123Z
UID:10693-1757239200-1757248200@hotr.org.uk
SUMMARY:Sunday Service with Gaise Baba
DESCRIPTION:We’re excited to welcome Gaise Baba on his No Turning Back Tour as he ministers in worship alongside our vibrant in-house team\, HillCity Worship. With songs like No Turning Back and Elijah Level\, Gaise brings a unique sound that inspires faith and joy.  \nOur Lead Pastor\, Temi Odejide\, will be preaching under the theme “Sent to the World!”\, equipping us for impact in this new season. \nIt’s also the first Sunday of September so come expectant for a service of praise\, teaching\, and fresh commissioning. \nDon’t miss this opportunity to invite friends\, family\, and colleagues to encounter God with us!
URL:https://hotr.org.uk/event/firstsundayservice-sep25/
ATTACH;FMTTYPE=image/jpeg:https://hotr.org.uk/wp-content/uploads/2025/08/Special-Events-Graphics-for-Website.jpg
END:VEVENT
BEGIN:VEVENT
DTSTART;TZID=UTC:20250913T110000
DTEND;TZID=UTC:20250913T140000
DTSTAMP:20260424T142406
CREATED:20250901T004844Z
LAST-MODIFIED:20250901T004844Z
UID:10714-1757761200-1757772000@hotr.org.uk
SUMMARY:Pop Up Food Bank
DESCRIPTION:We’re pleased to be hosting another Pop-Up Food Bank which takes place on the 2nd Saturday of every month using food donations. \nNo perishable food and cash donations are very welcome. Please drop off your food donations at The Rock Tower\, or send in your cash donations via our website here using the Giving Reference “Pop-Up Food Bank”. \nOpen and Free for all those in need of food.
URL:https://hotr.org.uk/event/popupfoodbank-sep25/
LOCATION:House on the Rock London\, The Rock Tower\, N7 9PS
ATTACH;FMTTYPE=image/jpeg:https://hotr.org.uk/wp-content/uploads/2025/09/Pop-Up-Food-Bank-Feb-25.jpg
END:VEVENT
BEGIN:VEVENT
DTSTART;TZID=UTC:20250914T100000
DTEND;TZID=UTC:20250914T123000
DTSTAMP:20260424T142406
CREATED:20250828T080043Z
LAST-MODIFIED:20250912T145310Z
UID:10673-1757844000-1757853000@hotr.org.uk
SUMMARY:Communion Sunday Service
DESCRIPTION:Join us this 2nd Sunday of September for our Communion Service as we continue in our theme for the month – “Great Exploits” (Daniel 11:32). \nWe’ll gather for Pre-Service Prayers from 9am and then dive into a powerful time of worship\, teaching\, and communion 🥖🍷 – receiving fresh strength and realignment for the journey ahead. \nInvite your friends and family to join us in person at The Rock Tower or online as we discover God’s big plan for the world – and our place in it!
URL:https://hotr.org.uk/event/communionservice-sep25/
ATTACH;FMTTYPE=image/jpeg:https://hotr.org.uk/wp-content/uploads/2025/08/Square-Template-1-3.jpg
END:VEVENT
BEGIN:VEVENT
DTSTART;TZID=UTC:20250919T150000
DTEND;TZID=UTC:20250921T090000
DTSTAMP:20260424T142406
CREATED:20241214T230944Z
LAST-MODIFIED:20250702T213426Z
UID:8359-1758294000-1758445200@hotr.org.uk
SUMMARY:Couples' Retreat
DESCRIPTION:Couples in the House! It’s time to Retreat! Save the date\, 19-21 September 2025! Register now here to be one of the first to be informed of more details on this amazing retreat.
URL:https://hotr.org.uk/event/couplesretreat-sep25/
ATTACH;FMTTYPE=image/png:https://hotr.org.uk/wp-content/uploads/2025/07/1.png
END:VEVENT
BEGIN:VEVENT
DTSTART;TZID=UTC:20250921T100000
DTEND;TZID=UTC:20250921T123000
DTSTAMP:20260424T142406
CREATED:20250920T090615Z
LAST-MODIFIED:20250920T090912Z
UID:10815-1758448800-1758457800@hotr.org.uk
SUMMARY:Sunday Service
DESCRIPTION:Join us this 3rd Sunday in September for an uplifting worship experience as we explore “God’s Plan B” in this our month of Great Exploits (Daniel 11:32). \nDiscover how God turns setbacks into stepping stones and works all things together for your good. Come expectant for powerful worship\, a life-changing word\, and a fresh encounter with God. \nBring a friend! See you there!
URL:https://hotr.org.uk/event/thirdsundayservice-sep25/
ATTACH;FMTTYPE=image/jpeg:https://hotr.org.uk/wp-content/uploads/2025/09/Square-Template.jpg
END:VEVENT
BEGIN:VEVENT
DTSTART;TZID=UTC:20250924T050000
DTEND;TZID=UTC:20250926T060000
DTSTAMP:20260424T142406
CREATED:20250901T003127Z
LAST-MODIFIED:20250923T224019Z
UID:10707-1758690000-1758866400@hotr.org.uk
SUMMARY:End of Month PUSH
DESCRIPTION:Matthew 7:7 – “Ask\, and it will be given to you; seek\, and you will find; knock\, and it will be opened to you.” \nJoin us for 3 powerful days of prayer and fasting as we seek Gods’ face and PUSH (Pray Until Something Happens) for breakthroughs in every area of our lives at the end of the month. \nLet’s come together in faith\, unit in prayer\, and believe for the impossible. \nDon’t miss this opportunity to end the month strong and prepare your heart for March. \nInvite someone to join you and let’s PUSH together! \nDial in to our Prayer Meeting from 5-6am on Weds to Fri via Zoom Meeting ID: 897 3504 6369; Password: 7773331; URL: bit.ly/hotrprays
URL:https://hotr.org.uk/event/eompush-sep25/
ATTACH;FMTTYPE=image/jpeg:https://hotr.org.uk/wp-content/uploads/2025/09/Square-Template-4.jpg
END:VEVENT
BEGIN:VEVENT
DTSTART;TZID=UTC:20250927T070000
DTEND;TZID=UTC:20250927T080000
DTSTAMP:20260424T142406
CREATED:20250901T002326Z
LAST-MODIFIED:20250901T002326Z
UID:10705-1758956400-1758960000@hotr.org.uk
SUMMARY:MenTor Prayer Meeting
DESCRIPTION:Men of the House\, join us for our Men’s Ministry (MenTor) Monthly Prayer Meeting as we gather in unity to seek God’s face\, strengthen our faith\, and intercede for our families\, community\, and nation. Pastor Temi Odejide will be leading this powerful time of prayer and impartation online via our Zoom Prayer Line. \nDon’t miss this opportunity to press in God’s presence with your brothers in Christ. \nInvite a friend and let’s build each other up in faith!
URL:https://hotr.org.uk/event/mentorprayermeeting-sep25/
LOCATION:House on the Rock London\, The Rock Tower\, N7 9PS
ATTACH;FMTTYPE=image/jpeg:https://hotr.org.uk/wp-content/uploads/2025/03/MenTorPrayers.jpg
END:VEVENT
BEGIN:VEVENT
DTSTART;TZID=UTC:20250928T100000
DTEND;TZID=UTC:20250928T123000
DTSTAMP:20260424T142406
CREATED:20250901T003134Z
LAST-MODIFIED:20250927T010053Z
UID:10709-1759053600-1759062600@hotr.org.uk
SUMMARY:End of Month Thanksgiving Service
DESCRIPTION:Join us at The Rock Tower for our End of Month Thanksgiving Service as we close out September – our month of Great Exploits (Daniel 11:32)! \nThis is a call to rediscover the God of Great Exploits – the God who strengthens those who know Him and makes nothing impossible. We’ll gather to worship\, give thanks\, and receive a faith-filled word from Pastor Temi Odejide that will refresh your vision of God and empower you for the new month ahead. \nWith anointed praise from HillCity Worship\, this is a service for the whole family – come ready to celebrate\, give thanks\, and encounter God afresh.
URL:https://hotr.org.uk/event/eomthxgn-sep25/
LOCATION:House on the Rock London\, The Rock Tower\, N7 9PS
ATTACH;FMTTYPE=image/jpeg:https://hotr.org.uk/wp-content/uploads/2025/09/Square-Template-1-1.jpg
END:VEVENT
BEGIN:VEVENT
DTSTART;TZID=UTC:20250930T113000
DTEND;TZID=UTC:20251001T003000
DTSTAMP:20260424T142406
CREATED:20250923T212553Z
LAST-MODIFIED:20250927T010157Z
UID:10826-1759231800-1759278600@hotr.org.uk
SUMMARY:Speak into the New Month
DESCRIPTION:Join us via Youtube\, Facebook (hotrlondon) and IG Live (temiodejide) to speak into the new month. Mark it in your calendar not to miss this key prayer session for the month to speak into the womb of the New Month.
URL:https://hotr.org.uk/event/sitnm-oct25/
ATTACH;FMTTYPE=image/jpeg:https://hotr.org.uk/wp-content/uploads/2025/09/Square-Template-1-2.jpg
END:VEVENT
BEGIN:VEVENT
DTSTART;TZID=UTC:20251004T070000
DTEND;TZID=UTC:20251004T080000
DTSTAMP:20260424T142406
CREATED:20250927T013108Z
LAST-MODIFIED:20250927T013108Z
UID:10857-1759561200-1759564800@hotr.org.uk
SUMMARY:W2W Prayer Meeting
DESCRIPTION:Join us via Zoom Conference Call from 7-8am for our monthly Woman 2 Woman Prayer Call hosted by Pastor Abisoye Odejide. \nLadies\, mark it in your calendar not to miss this key prayer session. \nAlso\, send in your Prayer Points anonymously via the link here
URL:https://hotr.org.uk/event/w2wprayermeeting-sep25/
LOCATION:House on the Rock London\, The Rock Tower\, N7 9PS
ATTACH;FMTTYPE=image/jpeg:https://hotr.org.uk/wp-content/uploads/2025/03/Square-Template-3.jpg
END:VEVENT
BEGIN:VEVENT
DTSTART;TZID=UTC:20251005T100000
DTEND;TZID=UTC:20251005T123000
DTSTAMP:20260424T142406
CREATED:20250927T013644Z
LAST-MODIFIED:20251003T175033Z
UID:10859-1759658400-1759667400@hotr.org.uk
SUMMARY:Sunday Service with Paul Adefarasin
DESCRIPTION:Join us at The Rock Tower as Pastor Paul Adefarasin\, Metropolitan & Senior Pastor of House on the Rock\, brings a powerful message on “Your Next Power Move.” \nHaving ministered across continents and with the vision of raising believers from mere survival into real significance\, Pastor Paul challenges us to step into the destiny God has prepared for us. \nExpect an atmosphere of revelation\, alignment\, and activation – this service is designed to: \n\nShift you from dependency into stewardship\, from consumer to value‐creator\nAwaken a deep sense of responsibility that transcends just your life – it’s about the nations\nReveal the specific move God is asking you to make next\, unlocking momentum and purpose\n\nInvite you into lasting transformation and real impact\, not just an emotional high. \nCome expectant. Arrive early. Invite someone who needs a fresh start. Let this service mark the turning point – the launch of your next dimension of purpose and power.
URL:https://hotr.org.uk/event/firstsundayservice-oct25/
ATTACH;FMTTYPE=image/jpeg:https://hotr.org.uk/wp-content/uploads/2025/10/Square-Template-1.jpg
END:VEVENT
BEGIN:VEVENT
DTSTART;TZID=UTC:20251011T110000
DTEND;TZID=UTC:20251011T140000
DTSTAMP:20260424T142406
CREATED:20250927T013206Z
LAST-MODIFIED:20250927T013206Z
UID:10858-1760180400-1760191200@hotr.org.uk
SUMMARY:Pop Up Food Bank
DESCRIPTION:We’re pleased to be hosting another Pop-Up Food Bank which takes place on the 2nd Saturday of every month using food donations. \nNo perishable food and cash donations are very welcome. Please drop off your food donations at The Rock Tower\, or send in your cash donations via our website here using the Giving Reference “Pop-Up Food Bank”. \nOpen and Free for all those in need of food.
URL:https://hotr.org.uk/event/popupfoodbank-oct25/
LOCATION:House on the Rock London\, The Rock Tower\, N7 9PS
ATTACH;FMTTYPE=image/jpeg:https://hotr.org.uk/wp-content/uploads/2025/09/Pop-Up-Food-Bank-Feb-25.jpg
END:VEVENT
BEGIN:VEVENT
DTSTART;TZID=UTC:20251019T100000
DTEND;TZID=UTC:20251019T123000
DTSTAMP:20260424T142406
CREATED:20251003T175310Z
LAST-MODIFIED:20251018T075206Z
UID:10926-1760868000-1760877000@hotr.org.uk
SUMMARY:Sunday Service
DESCRIPTION:Join us for our Third Sunday Service in October! \nBring your family\, friends\, and everyone you know. \nDon’t miss it! Do whatever you can to be there in person! \nWe can’t wait to see you and experience the power of God with you!
URL:https://hotr.org.uk/event/3rdsundayservice-oct25/
ATTACH;FMTTYPE=image/jpeg:https://hotr.org.uk/wp-content/uploads/2025/10/4-1.jpg
END:VEVENT
BEGIN:VEVENT
DTSTART;TZID=UTC:20251025T070000
DTEND;TZID=UTC:20251025T080000
DTSTAMP:20260424T142406
CREATED:20250927T014835Z
LAST-MODIFIED:20250927T014835Z
UID:10861-1761375600-1761379200@hotr.org.uk
SUMMARY:MenTor Prayer Meeting
DESCRIPTION:Men of the House\, join us for our Men’s Ministry (MenTor) Monthly Prayer Meeting as we gather in unity to seek God’s face\, strengthen our faith\, and intercede for our families\, community\, and nation. Pastor Temi Odejide will be leading this powerful time of prayer and impartation online via our Zoom Prayer Line. \nDon’t miss this opportunity to press in God’s presence with your brothers in Christ. \nInvite a friend and let’s build each other up in faith!
URL:https://hotr.org.uk/event/mentorprayermeeting-oct25/
LOCATION:House on the Rock London\, The Rock Tower\, N7 9PS
ATTACH;FMTTYPE=image/jpeg:https://hotr.org.uk/wp-content/uploads/2025/03/MenTorPrayers.jpg
END:VEVENT
BEGIN:VEVENT
DTSTART;TZID=UTC:20251026T100000
DTEND;TZID=UTC:20251026T123000
DTSTAMP:20260424T142406
CREATED:20250927T014400Z
LAST-MODIFIED:20251024T054615Z
UID:10862-1761472800-1761481800@hotr.org.uk
SUMMARY:End of Month Thanksgiving Service
DESCRIPTION:Join us at The Rock Tower for our End of Month Thanksgiving Service as we close out October! \nPastor Temi Odejide will be bringing the powerful life-changing word in season\, and our in-house Worship Team\, HillCity Worship will be ministering with music. \nDon’t miss this life-changing service – come with family\, friends\, and a heart full of gratitude.
URL:https://hotr.org.uk/event/eomthxgn-oct25/
LOCATION:House on the Rock London\, The Rock Tower\, N7 9PS
ATTACH;FMTTYPE=image/png:https://hotr.org.uk/wp-content/uploads/2025/09/Square-Template.png
END:VEVENT
BEGIN:VEVENT
DTSTART;TZID=UTC:20251029T050000
DTEND;TZID=UTC:20251031T060000
DTSTAMP:20260424T142406
CREATED:20250927T014005Z
LAST-MODIFIED:20251019T202346Z
UID:10860-1761714000-1761890400@hotr.org.uk
SUMMARY:End of Month PUSH
DESCRIPTION:Matthew 7:7 – “Ask\, and it will be given to you; seek\, and you will find; knock\, and it will be opened to you.” \nJoin us for 3 powerful days of prayer and fasting as we seek Gods’ face and PUSH (Pray Until Something Happens) for breakthroughs in every area of our lives at the end of the month. \nLet’s come together in faith\, unit in prayer\, and believe for the impossible. \nDon’t miss this opportunity to end the month strong and prepare your heart for March. \nInvite someone to join you and let’s PUSH together! \nDial in to our Prayer Meeting from 5-6am on Weds to Fri via Zoom Meeting ID: 897 3504 6369; Password: 7773331; URL: bit.ly/hotrprays
URL:https://hotr.org.uk/event/eompush-oct25/
ATTACH;FMTTYPE=image/jpeg:https://hotr.org.uk/wp-content/uploads/2025/10/1.jpg
END:VEVENT
BEGIN:VEVENT
DTSTART;TZID=UTC:20251031T113000
DTEND;TZID=UTC:20251101T003000
DTSTAMP:20260424T142406
CREATED:20250927T014748Z
LAST-MODIFIED:20251030T171311Z
UID:10863-1761910200-1761957000@hotr.org.uk
SUMMARY:Speak into the New Month
DESCRIPTION:Join us via Youtube\, Facebook (hotrlondon) and IG Live (temiodejide) to speak into the new month. Mark it in your calendar not to miss this key prayer session for the month to speak into the womb of the New Month.
URL:https://hotr.org.uk/event/sitnm-nov25/
ATTACH;FMTTYPE=image/jpeg:https://hotr.org.uk/wp-content/uploads/2025/09/Square-Template-3.jpg
END:VEVENT
BEGIN:VEVENT
DTSTART;TZID=UTC:20251102T100000
DTEND;TZID=UTC:20251102T123000
DTSTAMP:20260424T142406
CREATED:20250927T021519Z
LAST-MODIFIED:20251024T194159Z
UID:10891-1762077600-1762086600@hotr.org.uk
SUMMARY:Pastors' Appreciation Service
DESCRIPTION:Join us as we celebrate our Lead Pastor\, Temi Odejide’s Birthday in our Pastors’ Appreciation Service from 10am! Worship with us either in-person or online via Youtube (@hotrlondon) or our website (hotr.org.uk).
URL:https://hotr.org.uk/event/pastors-appreciation-service25/
ATTACH;FMTTYPE=image/jpeg:https://hotr.org.uk/wp-content/uploads/2025/09/Square-Template-2.jpg
END:VEVENT
BEGIN:VEVENT
DTSTART;TZID=UTC:20251108T070000
DTEND;TZID=UTC:20251108T080000
DTSTAMP:20260424T142406
CREATED:20251103T125241Z
LAST-MODIFIED:20251103T125241Z
UID:11087-1762585200-1762588800@hotr.org.uk
SUMMARY:W2W Prayer Meeting
DESCRIPTION:Join us via Zoom Conference Call from 7-8am for our monthly Woman 2 Woman Prayer Call hosted by Pastor Abisoye Odejide. \nLadies\, mark it in your calendar not to miss this key prayer session. \nAlso\, send in your Prayer Points anonymously via the link here
URL:https://hotr.org.uk/event/w2wprayermeeting-oct25/
LOCATION:House on the Rock London\, The Rock Tower\, N7 9PS
ATTACH;FMTTYPE=image/jpeg:https://hotr.org.uk/wp-content/uploads/2025/11/WhatsApp-Image-2025-10-26-at-22.04.31.jpeg
END:VEVENT
END:VCALENDAR