BEGIN:VCALENDAR
VERSION:2.0
PRODID:-//House on the Rock London - ECPv6.13.2.1//NONSGML v1.0//EN
CALSCALE:GREGORIAN
METHOD:PUBLISH
X-WR-CALNAME:House on the Rock London
X-ORIGINAL-URL:https://hotr.org.uk
X-WR-CALDESC:Events for House on the Rock London
REFRESH-INTERVAL;VALUE=DURATION:PT1H
X-Robots-Tag:noindex
X-PUBLISHED-TTL:PT1H
BEGIN:VTIMEZONE
TZID:UTC
BEGIN:STANDARD
TZOFFSETFROM:+0000
TZOFFSETTO:+0000
TZNAME:UTC
DTSTART:20240101T000000
END:STANDARD
END:VTIMEZONE
BEGIN:VEVENT
DTSTART;TZID=UTC:20250302T100000
DTEND;TZID=UTC:20250302T123000
DTSTAMP:20260425T154112
CREATED:20250227T133711Z
LAST-MODIFIED:20250227T133711Z
UID:9128-1740909600-1740918600@hotr.org.uk
SUMMARY:Communion Sunday Service
DESCRIPTION:Join us for Communion Sunday Service from 10am! Worship with us online via Youtube (@hotrlondon) or hotr.org.uk or in-person.
URL:https://hotr.org.uk/event/communionsundayservice-mar25/
ATTACH;FMTTYPE=image/jpeg:https://hotr.org.uk/wp-content/uploads/2025/02/CommunionSunday-Mar25.jpg
END:VEVENT
BEGIN:VEVENT
DTSTART;TZID=UTC:20250228T233000
DTEND;TZID=UTC:20250301T123000
DTSTAMP:20260425T154113
CREATED:20250201T091413Z
LAST-MODIFIED:20250204T104940Z
UID:8938-1740785400-1740832200@hotr.org.uk
SUMMARY:Speak into the New Month
DESCRIPTION:Join us via Youtube\, Facebook (hotrlondon) and IG Live (temiodejide) to speak into the new month. Mark it in your calendar not to miss this key prayer session for the month to speak into the womb of the New Month.
URL:https://hotr.org.uk/event/sitnm-feb25/
ATTACH;FMTTYPE=image/jpeg:https://hotr.org.uk/wp-content/uploads/2025/02/SITNM-Feb25.jpg
END:VEVENT
BEGIN:VEVENT
DTSTART;TZID=UTC:20250226T050000
DTEND;TZID=UTC:20250228T060000
DTSTAMP:20260425T154113
CREATED:20250201T090749Z
LAST-MODIFIED:20250204T113049Z
UID:8930-1740546000-1740722400@hotr.org.uk
SUMMARY:End of Month PUSH
DESCRIPTION:Matthew 7:7 – “Ask\, and it will be given to you; seek\, and you will find; knock\, and it will be opened to you.” \nJoin us for 3 powerful days of prayer and fasting as we seek Gods’ face and PUSH (Pray Until Something Happens) for breakthroughs in every area of our lives at the end of the month. \nLet’s come together in faith\, unit in prayer\, and believe for the impossible. \nDon’t miss this opportunity to end the month strong and prepare your heart for March. \nInvite someone to join you and let’s PUSH together! \nDial in to our Prayer Meeting from 5-6am on Weds to Fri via Zoom Meeting ID: 897 3504 6369; Password: 7773331; URL: bit.ly/hotrprays
URL:https://hotr.org.uk/event/eompush-feb25/
ATTACH;FMTTYPE=image/jpeg:https://hotr.org.uk/wp-content/uploads/2025/02/EoM-PUSH-Feb25.jpg
END:VEVENT
BEGIN:VEVENT
DTSTART;TZID=UTC:20250223T100000
DTEND;TZID=UTC:20250223T123000
DTSTAMP:20260425T154113
CREATED:20250201T090159Z
LAST-MODIFIED:20250220T165112Z
UID:8928-1740304800-1740313800@hotr.org.uk
SUMMARY:End of Month Thanksgiving Service
DESCRIPTION:Join us for a powerful\, spirit-filled Thanksgiving Service as we close out the month in praise\, worship\, and the Word! \nPastor Zuby Okemefuna will be ministering a life-transforming message\, and our phenomenal HillCity Worship Team will lead us in an atmosphere of divine encounter. \nWe encourage you to be in the House for the full experience\, but if you can’t\, join us online. Invite your friends\, share the news\, and come expectant!
URL:https://hotr.org.uk/event/eomthxgn-feb25/
LOCATION:House on the Rock London\, The Rock Tower\, N7 9PS
ATTACH;FMTTYPE=image/jpeg:https://hotr.org.uk/wp-content/uploads/2025/02/EoMThxgvn-Feb25.jpg
END:VEVENT
BEGIN:VEVENT
DTSTART;TZID=UTC:20250222T070000
DTEND;TZID=UTC:20250222T080000
DTSTAMP:20260425T154113
CREATED:20250201T090032Z
LAST-MODIFIED:20250301T081555Z
UID:8925-1740207600-1740211200@hotr.org.uk
SUMMARY:MenTor Prayer Meeting
DESCRIPTION:Men of the House\, join us for our Men’s Ministry (MenTor) Monthly Prayer Meeting as we gather in unity to seek God’s face\, strengthen our faith\, and intercede for our families\, community\, and nation. Pastor Temi Odejide will be leading this powerful time of prayer and impartation online via our Zoom Prayer Line. \nDon’t miss this opportunity to press in God’s presence with your brothers in Christ. \nInvite a friend and let’s build each other up in faith!
URL:https://hotr.org.uk/event/mentorprayermeeting-feb25/
LOCATION:House on the Rock London\, The Rock Tower\, N7 9PS
ATTACH;FMTTYPE=image/jpeg:https://hotr.org.uk/wp-content/uploads/2025/03/MenTorPrayers.jpg
END:VEVENT
BEGIN:VEVENT
DTSTART;TZID=UTC:20250216T100000
DTEND;TZID=UTC:20250216T123000
DTSTAMP:20260425T154113
CREATED:20250214T104002Z
LAST-MODIFIED:20250214T104333Z
UID:9079-1739700000-1739709000@hotr.org.uk
SUMMARY:Sunday Service
DESCRIPTION:Join us for our third Sunday Service in February! \nWe’ll be diving into a powerful and life-changing conversation – “Better Together: Fighting the Good Fight!” 🥊🔥 \nWe all know that men and women are wired differently\, and sometimes it may seem like our differences divide us. But in reality\, we are stronger together! 💪🏽❤️ \nThat’s why Pastor Temi Odejide won’t be ministering alone! He’ll be joined by Pastor Abi Odejide\, and together they will bring biblical wisdom\, practical insights\, and real talk about love\, relationships\, and learning to fight the right battles in the right way! \nDon’t miss this:\n✅ A dynamic\, insightful word from Pastor Temi & Abi Odejide\n✅ Practical wisdom on love\, relationships & unity\n✅ A vibrant\, spirit-filled worship experience\n✅ Pre-Service Prayers at 9am (join us in person or on Zoom) \nWe strongly encourage you to be in the House for this incredible service – there’s something special about gathering in God’s presence together! But if you can’t make it\, catch us live on YouTube @hotrlondon \n📲 Spread the word! Invite your family & friends! \nSee you on Sunday at 10am sharp – don’t come alone! 🎉
URL:https://hotr.org.uk/event/thirdsundayservice-16feb25/
ATTACH;FMTTYPE=image/jpeg:https://hotr.org.uk/wp-content/uploads/2025/02/ThirdSundayService-Feb25.jpg
END:VEVENT
BEGIN:VEVENT
DTSTART;TZID=UTC:20250215T180000
DTEND;TZID=UTC:20250216T220000
DTSTAMP:20260425T154113
CREATED:20241214T223401Z
LAST-MODIFIED:20241215T064907Z
UID:8357-1739642400-1739743200@hotr.org.uk
SUMMARY:Couples' Ball
DESCRIPTION:Calling all Married Couples!! Celebrate love in grand style this Valentines! \nThe New Wine Couples Ministry of House on the Rock London is pleased to invite all married couples to their Couples’ Valentine Mask Ball – a night of elegance\, romance\, and unforgettable memories. \nThis special Valentine’s event promises:\n✨ Delicious food\n🎵 Great music by our DJ\n💃 Dancing\n😂 Laughter\n💬 Heartwarming conversations \nDress Code: Formal attire with a mask – dress to impress your Valentine! \nDate: Saturday\, 15th February 2025\nTime: 6:00 PM to 10:00 PM\nLocation: Town Hall Hotel\, 8 Patriot Square\, London E2 9NF \nCost: £150 per couple\nSpaces are limited\, so don’t delay! Register now at https://hotr.org.uk/couplesball
URL:https://hotr.org.uk/event/couplesball-feb25/
LOCATION:Town Hall Hotel\, 8 Patriot Square\, London\, E2 9NF\, United Kingdom
ATTACH;FMTTYPE=image/jpeg:https://hotr.org.uk/wp-content/uploads/2024/12/Resize-Pic-for-Website.jpg
END:VEVENT
BEGIN:VEVENT
DTSTART;TZID=UTC:20250212T193000
DTEND;TZID=UTC:20250212T203000
DTSTAMP:20260425T154113
CREATED:20250201T084529Z
LAST-MODIFIED:20250201T085442Z
UID:8916-1739388600-1739392200@hotr.org.uk
SUMMARY:Relationship Answers Life Class
DESCRIPTION:Got burning questions about love\, dating\, marriage\, or relationships? This is your chance to get real\, insightful\, and life-transforming answers! \nJoin Pastor Temi & Pastor Abisoye Odejide for a powerful and interactive Relationship Q&A Session at our Special Wednesday Life Class on Wednesday\, 12th February at 7:30 PM (GMT). \n📍 Where? Online via YouTube (@hotrlondon) and hotr.org.uk\n📩 How to Ask? Submit your questions anonymously at hotr.org.uk/relationshipquestions or scan the QR code on the flyer! \nThis is going to be more than just a conversation – it’s going to be an opportunity to gain wisdom\, clarity\, and godly guidance for your relationships. \nDon’t miss it!
URL:https://hotr.org.uk/event/relationshipanswerslc-feb25/
ATTACH;FMTTYPE=image/jpeg:https://hotr.org.uk/wp-content/uploads/2025/02/Relationship-Answers-LC-Feb-25.jpg
END:VEVENT
BEGIN:VEVENT
DTSTART;TZID=UTC:20250209T120000
DTEND;TZID=UTC:20250209T130000
DTSTAMP:20260425T154113
CREATED:20250203T140923Z
LAST-MODIFIED:20250203T140923Z
UID:9018-1739102400-1739106000@hotr.org.uk
SUMMARY:Children's Church Parents' Forum
DESCRIPTION:Let’s build together! Join us for a special Parents’ Forum\, where the Children’s Church Team will share their vision and how we can collaborate to nurture our children’s spiritual growth. This is an opportunity to connect\, ask questions\, and discover how we can work together to shape the next generation in faith. \n🔹 Hear the vision for 2025\n🔹 Explore ways to support and collaborate\n🔹 Connect with other parents on this journey \nJoin us immediately after Sunday Service so we can create a strong foundation for our children’s faith – together!
URL:https://hotr.org.uk/event/parentsforum-feb25/
ATTACH;FMTTYPE=image/jpeg:https://hotr.org.uk/wp-content/uploads/2025/02/Childrens-Church-Parenting-Workshop-landscape.jpg
END:VEVENT
BEGIN:VEVENT
DTSTART;TZID=UTC:20250209T100000
DTEND;TZID=UTC:20250209T123000
DTSTAMP:20260425T154113
CREATED:20250125T094558Z
LAST-MODIFIED:20250206T093652Z
UID:8831-1739095200-1739104200@hotr.org.uk
SUMMARY:Communion Sunday Service
DESCRIPTION:Join us for Communion Sunday Service from 10am! Worship with us online via Youtube (@hotrlondon) or hotr.org.uk or in-person.
URL:https://hotr.org.uk/event/communionsundayservice-feb25/
ATTACH;FMTTYPE=image/png:https://hotr.org.uk/wp-content/uploads/2025/01/CommunionSunday-Feb25.png
END:VEVENT
BEGIN:VEVENT
DTSTART;TZID=UTC:20250208T110000
DTEND;TZID=UTC:20250208T140000
DTSTAMP:20260425T154113
CREATED:20250201T083600Z
LAST-MODIFIED:20250201T083600Z
UID:8914-1739012400-1739023200@hotr.org.uk
SUMMARY:Pop Up Food Bank
DESCRIPTION:We’re pleased to be hosting another Pop-Up Food Bank which takes place on the 2nd Saturday of every month using food donations. \nNo perishable food and cash donations are very welcome. Please drop off your food donations at The Rock Tower\, or send in your cash donations via our website here using the Giving Reference “Pop-Up Food Bank”. \nOpen and Free for all those in need of food.
URL:https://hotr.org.uk/event/popupfoodbank-feb25/
LOCATION:House on the Rock London\, The Rock Tower\, N7 9PS
ATTACH;FMTTYPE=image/jpeg:https://hotr.org.uk/wp-content/uploads/2025/02/Pop-Up-Food-Bank-2025.jpg
END:VEVENT
BEGIN:VEVENT
DTSTART;TZID=UTC:20250208T070000
DTEND;TZID=UTC:20250208T080000
DTSTAMP:20260425T154113
CREATED:20250201T082433Z
LAST-MODIFIED:20250201T112847Z
UID:8899-1738998000-1739001600@hotr.org.uk
SUMMARY:W2W Prayer Meeting
DESCRIPTION:Join us via Zoom Conference Call from 7-8am for our FIRST monthly Woman 2 Woman Prayer Call for 2025 hosted by Pastor Abisoye Odejide. \nLadies\, mark it in your calendar not to miss this key prayer session. \nAlso\, send in your Prayer Points anonymously via the link here
URL:https://hotr.org.uk/event/w2wprayermeeting-feb25/
LOCATION:House on the Rock London\, The Rock Tower\, N7 9PS
ATTACH;FMTTYPE=image/jpeg:https://hotr.org.uk/wp-content/uploads/2025/02/Woman2Woman-Prayer-Meeting.jpg
END:VEVENT
BEGIN:VEVENT
DTSTART;TZID=UTC:20250202T100000
DTEND;TZID=UTC:20250202T123000
DTSTAMP:20260425T154113
CREATED:20250125T094909Z
LAST-MODIFIED:20250201T083208Z
UID:8835-1738490400-1738499400@hotr.org.uk
SUMMARY:Sunday Service
DESCRIPTION:Join us for our first Sunday Service in February! \nBring your family\, friends\, and everyone you know. \nDon’t miss it! Do whatever you can to be there in person!. \nWe can’t wait to see you and experience the power of God with you!
URL:https://hotr.org.uk/event/firstsundayservice-feb25/
ATTACH;FMTTYPE=image/jpeg:https://hotr.org.uk/wp-content/uploads/2025/01/First-Sunday-Service-Feb-25.jpg
END:VEVENT
BEGIN:VEVENT
DTSTART;TZID=UTC:20250129T050000
DTEND;TZID=UTC:20250131T060000
DTSTAMP:20260425T154113
CREATED:20250105T175849Z
LAST-MODIFIED:20250117T165147Z
UID:8534-1738126800-1738303200@hotr.org.uk
SUMMARY:End of Month PUSH
DESCRIPTION:Matthew 7:7 – “Ask\, and it will be given to you; seek\, and you will find; knock\, and it will be opened to you.” \nJoin us for 3 powerful days of prayer and fasting as we seek Gods’ face and PUSH (Pray Until Something Happens) for breakthroughs in every area of our lives at the end of January. \nLet’s come together in faith\, unit in prayer\, and believe for the impossible. \nDon’t miss this opportunity to end the month strong and prepare your heart for February. \nInvite someone to join you and let’s PUSH together! \nDial in to our Prayer Meeting from 5-6am on Weds to Fri via Zoom Meeting ID: 897 3504 6369; Password: 7773331; URL: bit.ly/hotrprayer
URL:https://hotr.org.uk/event/eompush-jan25/
ATTACH;FMTTYPE=image/jpeg:https://hotr.org.uk/wp-content/uploads/2025/01/PUSH-Jan-25.jpg
END:VEVENT
BEGIN:VEVENT
DTSTART;TZID=UTC:20250126T100000
DTEND;TZID=UTC:20250126T123000
DTSTAMP:20260425T154113
CREATED:20250105T175324Z
LAST-MODIFIED:20250122T201138Z
UID:8531-1737885600-1737894600@hotr.org.uk
SUMMARY:End of Month Thanksgiving Service
DESCRIPTION:Join us for our End of Month Thanksgiving Service – a time to reflect\, rejoice\, and praise God for His faithfulness! Let’s gather together in unity\, lift up His name\, and receive the blessing He has prepared for us. \nBring your family\, friends\, and loved ones – let’s make it a celebration to remember. \nWorship with us either in-person or online via Youtube (@hotrlondon) or our website (hotr.org.uk).
URL:https://hotr.org.uk/event/eomthxgn-jan25/
LOCATION:House on the Rock London\, The Rock Tower\, N7 9PS
ATTACH;FMTTYPE=image/jpeg:https://hotr.org.uk/wp-content/uploads/2025/01/Sunday-26th-Jan.jpg
END:VEVENT
BEGIN:VEVENT
DTSTART;TZID=UTC:20250119T100000
DTEND;TZID=UTC:20250119T123000
DTSTAMP:20260425T154113
CREATED:20250105T174807Z
LAST-MODIFIED:20250113T125035Z
UID:8528-1737280800-1737289800@hotr.org.uk
SUMMARY:Anointing Service
DESCRIPTION:Join us for our Special Anointing Service with Guest Psalmist\, Naomi Classik! \nWe often feel limited by natural means\, but God has provided us with supernatural power to make progress. It’s time to add the super to your natural and step into the supernatural! \nWhat to Expect:\n▪️ Yokes destroyed\n▪️ Burdens lifted\n▪️ Lives turned around \nBring your family\, friends\, and everyone you know. Let’s step into this transformative moment together. \nDon’t miss it! Do whatever you can to be there in person!. \nWe can’t wait to see you and experience the power of God with you!
URL:https://hotr.org.uk/event/thirdsundayservice-jan25/
ATTACH;FMTTYPE=image/jpeg:https://hotr.org.uk/wp-content/uploads/2025/01/Anointing-Service-NC.jpg
END:VEVENT
BEGIN:VEVENT
DTSTART;TZID=UTC:20250112T100000
DTEND;TZID=UTC:20250112T123000
DTSTAMP:20260425T154113
CREATED:20241230T222223Z
LAST-MODIFIED:20250105T174057Z
UID:8445-1736676000-1736685000@hotr.org.uk
SUMMARY:Communion Sunday Service
DESCRIPTION:Join us for our first Communion Service in 2025 from 10am! Worship with us online via Youtube (@hotrlondon) or hotr.org.uk or in-person.
URL:https://hotr.org.uk/event/communionsundayservice-jan25/
ATTACH;FMTTYPE=image/jpeg:https://hotr.org.uk/wp-content/uploads/2025/01/Communion-Service.jpg
END:VEVENT
BEGIN:VEVENT
DTSTART;TZID=UTC:20250111T110000
DTEND;TZID=UTC:20250111T140000
DTSTAMP:20260425T154113
CREATED:20250105T174316Z
LAST-MODIFIED:20250108T160500Z
UID:8526-1736593200-1736604000@hotr.org.uk
SUMMARY:Pop Up Food Bank
DESCRIPTION:We’re pleased to be hosting another Pop-Up Food Bank which takes place on the 2nd Saturday of every month using food donations. \nNo perishable food and cash donations are very welcome. Please drop off your food donations at The Rock Tower\, or send in your cash donations via our website here using the Giving Reference “Pop-Up Food Bank”. \nOpen and Free for all those in need of food.
URL:https://hotr.org.uk/event/popupfoodbank-jan24/
LOCATION:House on the Rock London\, The Rock Tower\, N7 9PS
ATTACH;FMTTYPE=image/jpeg:https://hotr.org.uk/wp-content/uploads/2025/01/Pop-Up-Food-Bank-JAN25.jpg
END:VEVENT
BEGIN:VEVENT
DTSTART;TZID=UTC:20250105T100000
DTEND;TZID=UTC:20250105T120000
DTSTAMP:20260425T154113
CREATED:20241230T222432Z
LAST-MODIFIED:20250102T175737Z
UID:8448-1736071200-1736078400@hotr.org.uk
SUMMARY:Sunday Service
DESCRIPTION:Join us for our First Sunday Service in 2025 either in-person or online via  Youtube (@hotrlondon) or our website (hotr.org.uk). \nWe look forward to worshiping with you!
URL:https://hotr.org.uk/event/firstsundayservice-jan25/
ATTACH;FMTTYPE=image/jpeg:https://hotr.org.uk/wp-content/uploads/2024/12/Sunday-5th-Jan.jpg
END:VEVENT
BEGIN:VEVENT
DTSTART;TZID=UTC:20241231T210000
DTEND;TZID=UTC:20250101T123000
DTSTAMP:20260425T154113
CREATED:20240927T142127Z
LAST-MODIFIED:20241231T183131Z
UID:7803-1735678800-1735734600@hotr.org.uk
SUMMARY:Crossover Service
DESCRIPTION:It’s our BIG Crossover Service on Tuesday 31st of December from 9am at The Rock Tower. \nThis one you definitely cannot afford to miss and we look forward to seeing you there!
URL:https://hotr.org.uk/event/crossover-dec24/
ATTACH;FMTTYPE=image/jpeg:https://hotr.org.uk/wp-content/uploads/2024/12/Presented-By-1.jpg
END:VEVENT
BEGIN:VEVENT
DTSTART;TZID=UTC:20241229T100000
DTEND;TZID=UTC:20241229T120000
DTSTAMP:20260425T154113
CREATED:20240927T142635Z
LAST-MODIFIED:20241225T185350Z
UID:7811-1735466400-1735473600@hotr.org.uk
SUMMARY:Sunday Service
DESCRIPTION:Be sure to be in the House with us for the final Sunday Service in the Year on Sunday 29th December at 10am! Worship with us either in-person or online via  Youtube (@hotrlondon) or our website (hotr.org.uk). \nMark it in your calendars now\, and don’t miss it!
URL:https://hotr.org.uk/event/fifthsundayservice-dec24/
ATTACH;FMTTYPE=image/jpeg:https://hotr.org.uk/wp-content/uploads/2024/12/Presented-By-2.jpg
END:VEVENT
BEGIN:VEVENT
DTSTART;TZID=UTC:20241222T100000
DTEND;TZID=UTC:20241222T120000
DTSTAMP:20260425T154113
CREATED:20240927T143155Z
LAST-MODIFIED:20241125T213211Z
UID:7820-1734861600-1734868800@hotr.org.uk
SUMMARY:Christmas Service
DESCRIPTION:It’s our special annual Christmas Service happening from 10am! \nJoin us either in-person or online via  Youtube (@hotrlondon) or our website (hotr.org.uk). \nSee you there!
URL:https://hotr.org.uk/event/fourthsundayservice-dec24/
ATTACH;FMTTYPE=image/jpeg:https://hotr.org.uk/wp-content/uploads/2024/11/Christmas-Service-2-1-1.jpg
END:VEVENT
BEGIN:VEVENT
DTSTART;TZID=UTC:20241215T100000
DTEND;TZID=UTC:20241215T120000
DTSTAMP:20260425T154113
CREATED:20240927T144518Z
LAST-MODIFIED:20241116T130906Z
UID:7823-1734256800-1734264000@hotr.org.uk
SUMMARY:End of Year Thanksgiving Service & Party
DESCRIPTION:It’s our End of Year Thanksgiving Service where we’ll be gathering together in the House to thank God for his blessings and faithfulness throughout 2024! \nWorship with us either in-person or online via Youtube (@hotrlondon) or our website (hotr.org.uk/online-services). \nSunday Service will be followed straight after by our End of Year Thanksgiving Party. \nSee you there!
URL:https://hotr.org.uk/event/thirdsundayservice-dec24/
ATTACH;FMTTYPE=image/jpeg:https://hotr.org.uk/wp-content/uploads/2024/11/End-of-Year-Thanksgiving-Service.jpg
END:VEVENT
BEGIN:VEVENT
DTSTART;TZID=UTC:20241208T100000
DTEND;TZID=UTC:20241208T123000
DTSTAMP:20260425T154113
CREATED:20240927T144515Z
LAST-MODIFIED:20241204T213224Z
UID:7825-1733652000-1733661000@hotr.org.uk
SUMMARY:Communion Sunday Service
DESCRIPTION:Join us for our last Communion Service in 2024 from 10am! Worship with us online via Youtube (@hotrlondon) or hotr.org.uk or in-person.
URL:https://hotr.org.uk/event/communionsundayservice-dec24/
ATTACH;FMTTYPE=image/jpeg:https://hotr.org.uk/wp-content/uploads/2024/09/Resize-Pic-for-Website.jpg
END:VEVENT
BEGIN:VEVENT
DTSTART;TZID=UTC:20241207T070000
DTEND;TZID=UTC:20241207T080000
DTSTAMP:20260425T154113
CREATED:20240927T123828Z
LAST-MODIFIED:20241201T140802Z
UID:7794-1733554800-1733558400@hotr.org.uk
SUMMARY:W2W Prayer Meeting
DESCRIPTION:Join us via Zoom Conference Call from 7-8am for our FINAL monthly Woman 2 Woman Prayer Call for 2024 hosted by Pastor Abisoye Odejide. \nLadies\, mark it in your calendar not to miss this key prayer session. \nAlso\, send in your Prayer Points anonymously via the link here
URL:https://hotr.org.uk/event/w2wprayermeeting-dec24/
LOCATION:House on the Rock London\, The Rock Tower\, N7 9PS
ATTACH;FMTTYPE=image/jpeg:https://hotr.org.uk/wp-content/uploads/2024/09/SITNM.jpg
END:VEVENT
BEGIN:VEVENT
DTSTART;TZID=UTC:20241130T233000
DTEND;TZID=UTC:20241201T123000
DTSTAMP:20260425T154113
CREATED:20240927T153135Z
LAST-MODIFIED:20241125T204202Z
UID:7837-1733009400-1733056200@hotr.org.uk
SUMMARY:Speak into the New Month
DESCRIPTION:Join us via Youtube\, Facebook (hotrlondon) and IG Live (temiodejide) to speak into the new month. Mark it in your calendar not to miss this key prayer session for the month to speak into the womb of the New Month.
URL:https://hotr.org.uk/event/sitnm-dec24/
ATTACH;FMTTYPE=image/jpeg:https://hotr.org.uk/wp-content/uploads/2024/11/November-Speak-into-the-new-month.jpeg
END:VEVENT
BEGIN:VEVENT
DTSTART;TZID=UTC:20241124T100000
DTEND;TZID=UTC:20241124T123000
DTSTAMP:20260425T154113
CREATED:20240927T153550Z
LAST-MODIFIED:20241120T200137Z
UID:7839-1732442400-1732451400@hotr.org.uk
SUMMARY:End of Month Thanksgiving Service
DESCRIPTION:Join us for our End of Month Thanksgiving Service from 10am hosted by our Resident Pastor\, Temi Odejide & HillCity Worshiping ministering with music! \nWorship with us either in-person or online via Youtube (@hotrlondon) or our website (hotr.org.uk).
URL:https://hotr.org.uk/event/eomthxgn-nov24/
LOCATION:House on the Rock London\, The Rock Tower\, N7 9PS
ATTACH;FMTTYPE=image/jpeg:https://hotr.org.uk/wp-content/uploads/2024/11/MAIN-2.jpg
END:VEVENT
BEGIN:VEVENT
DTSTART;TZID=UTC:20241120T050000
DTEND;TZID=UTC:20241129T060000
DTSTAMP:20260425T154113
CREATED:20240927T154058Z
LAST-MODIFIED:20241123T115521Z
UID:7842-1732078800-1732860000@hotr.org.uk
SUMMARY:End of Year PUSH
DESCRIPTION:Join us in the place of prayer and fasting in our 10-Day End of Year PUSH (Pray Until Something Happens). Dial in to our Prayer Meeting from 5-6am on Weekdays\, 12noon on Saturdays and 9am on Sundays via Zoom Meeting ID: 897 3504 6369; Password: 7773331; URL: bit.ly/hotrprayer \nPray along with us using the Prayer Points here
URL:https://hotr.org.uk/event/eoypush-nov24/
ATTACH;FMTTYPE=image/jpeg:https://hotr.org.uk/wp-content/uploads/2024/11/End-of-Yr-PUSH-1.jpg
END:VEVENT
BEGIN:VEVENT
DTSTART;TZID=UTC:20241117T120000
DTEND;TZID=UTC:20241117T130000
DTSTAMP:20260425T154113
CREATED:20240927T150243Z
LAST-MODIFIED:20241107T192411Z
UID:7830-1731844800-1731848400@hotr.org.uk
SUMMARY:End of Year Workers' Meeting
DESCRIPTION:Calling all Church Workers in the House! Mark it in your calendar now to be in the House for our final Church Workers Meeting for 2024! Please do all you can to be in attendance as important information will be shared.
URL:https://hotr.org.uk/event/workersmeeting-dec24/
ATTACH;FMTTYPE=image/jpeg:https://hotr.org.uk/wp-content/uploads/2024/11/Workers-Meeting.jpg
END:VEVENT
BEGIN:VEVENT
DTSTART;TZID=UTC:20241117T100000
DTEND;TZID=UTC:20241117T120000
DTSTAMP:20260425T154113
CREATED:20241107T192249Z
LAST-MODIFIED:20241115T125618Z
UID:8104-1731837600-1731844800@hotr.org.uk
SUMMARY:Sunday Service
DESCRIPTION:Join us for Sunday Service either in-person or online via  Youtube (@hotrlondon) or our website (hotr.org.uk). \nWe look forward to worshiping with you!
URL:https://hotr.org.uk/event/thirdsundayservice-nov24/
ATTACH;FMTTYPE=image/jpeg:https://hotr.org.uk/wp-content/uploads/2024/11/MAIN-5.jpg
END:VEVENT
END:VCALENDAR