BEGIN:VCALENDAR
VERSION:2.0
PRODID:-//House on the Rock London - ECPv6.13.2.1//NONSGML v1.0//EN
CALSCALE:GREGORIAN
METHOD:PUBLISH
X-ORIGINAL-URL:https://hotr.org.uk
X-WR-CALDESC:Events for House on the Rock London
REFRESH-INTERVAL;VALUE=DURATION:PT1H
X-Robots-Tag:noindex
X-PUBLISHED-TTL:PT1H
BEGIN:VTIMEZONE
TZID:UTC
BEGIN:STANDARD
TZOFFSETFROM:+0000
TZOFFSETTO:+0000
TZNAME:UTC
DTSTART:20250101T000000
END:STANDARD
END:VTIMEZONE
BEGIN:VEVENT
DTSTART;TZID=UTC:20250803T100000
DTEND;TZID=UTC:20250803T123000
DTSTAMP:20260424T130059
CREATED:20250707T205646Z
LAST-MODIFIED:20250801T180838Z
UID:10378-1754215200-1754224200@hotr.org.uk
SUMMARY:Communion Sunday Service
DESCRIPTION:Join us this Communion Service on the first Sunday of the month! It promises to be a deeply refreshing time in God’s presence as we come together around the Lord’s Table\, reflect on His sacrifice\, and receive fresh grace for the journey ahead. \n🔥 Ministering the Word will be our Lead Pastor\, Dr Temi Odejide\, bringing a timely and life-transforming message that will ignite your faith\, stir your spirit\, and position you for impact. \n🎶 Leading Praise & Worship will be our dynamic in-house worship team\, HillCity\, ushering us into an atmosphere of heartfelt worship and celebration as they lift up the name of Jesus with excellence and power. \nDon’t miss this divine encounter – come expectant\, come ready\, come with hearts full of worship! \nBring a friend\, share the love\, and let’s experience God together.
URL:https://hotr.org.uk/event/communionservice-aug25/
ATTACH;FMTTYPE=image/jpeg:https://hotr.org.uk/wp-content/uploads/2025/07/Square-Template-4.jpg
END:VEVENT
BEGIN:VEVENT
DTSTART;TZID=UTC:20250803T123000
DTEND;TZID=UTC:20250803T133000
DTSTAMP:20260424T130059
CREATED:20250724T163301Z
LAST-MODIFIED:20250725T184635Z
UID:10431-1754224200-1754227800@hotr.org.uk
SUMMARY:MENtor Football
DESCRIPTION:Join us right after Service on Sunday 3rd August for an exciting afternoon of fellowship\, fun\, and football! Hosted by MENtor\, the Men’s Ministry of House On The Rock London\, this match is a great opportunity for the men of the church to connect\, compete\, and grow in brotherhood. \nWhether you’re a seasoned striker or just in it for the camaraderie\, all men are welcome to take part or cheer from the sidelines. \nLet’s build strength in community – on and off the pitch. \n⚽ Bring your game. Bring your friends. Let’s make it a match to remember! \n 
URL:https://hotr.org.uk/event/mentorfootie-aug25/
LOCATION:Market Road Football Pitches\, Market Road\, N7 9PL
ATTACH;FMTTYPE=image/jpeg:https://hotr.org.uk/wp-content/uploads/2025/07/Square-Template.jpg
END:VEVENT
END:VCALENDAR