BEGIN:VCALENDAR
VERSION:2.0
PRODID:-//House on the Rock London - ECPv6.13.2.1//NONSGML v1.0//EN
CALSCALE:GREGORIAN
METHOD:PUBLISH
X-WR-CALNAME:House on the Rock London
X-ORIGINAL-URL:https://hotr.org.uk
X-WR-CALDESC:Events for House on the Rock London
REFRESH-INTERVAL;VALUE=DURATION:PT1H
X-Robots-Tag:noindex
X-PUBLISHED-TTL:PT1H
BEGIN:VTIMEZONE
TZID:UTC
BEGIN:STANDARD
TZOFFSETFROM:+0000
TZOFFSETTO:+0000
TZNAME:UTC
DTSTART:20250101T000000
END:STANDARD
END:VTIMEZONE
BEGIN:VEVENT
DTSTART;TZID=UTC:20250630T113000
DTEND;TZID=UTC:20250701T003000
DTSTAMP:20260424T141852
CREATED:20250531T153950Z
LAST-MODIFIED:20250608T201541Z
UID:10095-1751283000-1751329800@hotr.org.uk
SUMMARY:Speak into the New Month
DESCRIPTION:Join us via Youtube\, Facebook (hotrlondon) and IG Live (temiodejide) to speak into the new month. Mark it in your calendar not to miss this key prayer session for the month to speak into the womb of the New Month.
URL:https://hotr.org.uk/event/sitnm-jul25/
ATTACH;FMTTYPE=image/png:https://hotr.org.uk/wp-content/uploads/2025/06/Square-Template.png
END:VEVENT
END:VCALENDAR