BEGIN:VCALENDAR
VERSION:2.0
PRODID:-//House on the Rock London - ECPv6.13.2.1//NONSGML v1.0//EN
CALSCALE:GREGORIAN
METHOD:PUBLISH
X-WR-CALNAME:House on the Rock London
X-ORIGINAL-URL:https://hotr.org.uk
X-WR-CALDESC:Events for House on the Rock London
REFRESH-INTERVAL;VALUE=DURATION:PT1H
X-Robots-Tag:noindex
X-PUBLISHED-TTL:PT1H
BEGIN:VTIMEZONE
TZID:UTC
BEGIN:STANDARD
TZOFFSETFROM:+0000
TZOFFSETTO:+0000
TZNAME:UTC
DTSTART:20250101T000000
END:STANDARD
END:VTIMEZONE
BEGIN:VEVENT
DTSTART;TZID=UTC:20250615T100000
DTEND;TZID=UTC:20250615T123000
DTSTAMP:20260424T155033
CREATED:20250227T192922Z
LAST-MODIFIED:20250531T172204Z
UID:9184-1749981600-1749990600@hotr.org.uk
SUMMARY:Father's Day Service with Pastor Kunle Soriyan
DESCRIPTION:Join us this Father’s Day for a transformative Sunday service with globally renowned thought leader\, futurist\, and leadership expert\, Pastor Kunle Soriyan. \nVisiting from the USA\, Pastor Kunle will be delivering profound insights on faith\, leadership\, and success\, equipping us to navigate life with spiritual intelligence. \n\nEvangelist Chuks Chidube (aka the Praise Channel) will also be in the House to lead us in Praise & Worship together with the HillCity Worship Team. \n\nDon’t miss this power-packed encounter! \nPlan Your Visit: Mark your calendar\, invite a friend\, and be part of this impactful experience. \nWe look forward to welcoming you!
URL:https://hotr.org.uk/event/fathersday-25/
ATTACH;FMTTYPE=image/jpeg:https://hotr.org.uk/wp-content/uploads/2025/05/Square-Template-2.jpg
END:VEVENT
END:VCALENDAR