BEGIN:VCALENDAR
VERSION:2.0
PRODID:-//House on the Rock London - ECPv6.13.2.1//NONSGML v1.0//EN
CALSCALE:GREGORIAN
METHOD:PUBLISH
X-WR-CALNAME:House on the Rock London
X-ORIGINAL-URL:https://hotr.org.uk
X-WR-CALDESC:Events for House on the Rock London
REFRESH-INTERVAL;VALUE=DURATION:PT1H
X-Robots-Tag:noindex
X-PUBLISHED-TTL:PT1H
BEGIN:VTIMEZONE
TZID:UTC
BEGIN:STANDARD
TZOFFSETFROM:+0000
TZOFFSETTO:+0000
TZNAME:UTC
DTSTART:20250101T000000
END:STANDARD
END:VTIMEZONE
BEGIN:VEVENT
DTSTART;TZID=UTC:20250614T100000
DTEND;TZID=UTC:20250614T140000
DTSTAMP:20260424T155030
CREATED:20250325T165554Z
LAST-MODIFIED:20250531T155635Z
UID:9437-1749895200-1749909600@hotr.org.uk
SUMMARY:MENtor Conference
DESCRIPTION:Join us for the MENtor Conference 2025\, an exciting Men’s Ministry event designed to equip\, empower\, and inspire you to walk boldly in your purpose. Taking place on Saturday\, 14th June\, from 10 AM at The Rock Tower\, N7 0PS\, this is a must-attend gathering for men seeking wisdom\, strength\, and deeper connections. \nHosted by Pastor Temi Odejide\, this dynamic conference features Pastor Olakunle Soriyan and Paul Foh – 2 phenomenal speakers\, bringing powerful insights and real-world strategies to help you grow in faith\, leadership\, and personal development. \nWhether you’re looking to strengthen your spiritual journey\, gain practical tools for success\, or simply connect with like-minded men\, MENtor Conference is the place to be. \nDon’t miss this opportunity to be challenged\, encouraged\, and inspired. Mark your calendar\, invite a friend\, and come ready to be transformed! \nMake the date in your diaries now\, and get ready to take a step toward greatness! \nEntry is free\, but registration required at hotr.org.uk/mentor-conf25
URL:https://hotr.org.uk/event/mentorconf-jun25/
ATTACH;FMTTYPE=image/jpeg:https://hotr.org.uk/wp-content/uploads/2025/03/Square-Template-4.jpg
END:VEVENT
END:VCALENDAR