BEGIN:VCALENDAR
VERSION:2.0
PRODID:-//House on the Rock London - ECPv6.13.2.1//NONSGML v1.0//EN
CALSCALE:GREGORIAN
METHOD:PUBLISH
X-ORIGINAL-URL:https://hotr.org.uk
X-WR-CALDESC:Events for House on the Rock London
REFRESH-INTERVAL;VALUE=DURATION:PT1H
X-Robots-Tag:noindex
X-PUBLISHED-TTL:PT1H
BEGIN:VTIMEZONE
TZID:UTC
BEGIN:STANDARD
TZOFFSETFROM:+0000
TZOFFSETTO:+0000
TZNAME:UTC
DTSTART:20250101T000000
END:STANDARD
END:VTIMEZONE
BEGIN:VEVENT
DTSTART;TZID=UTC:20250608T100000
DTEND;TZID=UTC:20250608T123000
DTSTAMP:20260424T155226
CREATED:20250531T164055Z
LAST-MODIFIED:20250607T084358Z
UID:10114-1749376800-1749385800@hotr.org.uk
SUMMARY:Sunday Service
DESCRIPTION:Join us for an unforgettable worship experience on the Second Sunday in June. Come expecting a powerful encounter as our Lead Pastor\, Dr Temi Odejide\, brings a timely and transformative Word that will strengthen your faith and ignite your purpose. \nHillCity\, our dynamic in-house worship team\, will leads us in an atmosphere-shifting time of praise and worship — lifting high the name of Jesus with passion and excellence. \nWhether you’re a first-time guest or a part of our church family\, there’s a place for you. Don’t come alone – invite someone to church with you.
URL:https://hotr.org.uk/event/secondsundayservice-jun2025/
ATTACH;FMTTYPE=image/jpeg:https://hotr.org.uk/wp-content/uploads/2025/06/2.jpg
END:VEVENT
BEGIN:VEVENT
DTSTART;TZID=UTC:20250608T100000
DTEND;TZID=UTC:20250608T140000
DTSTAMP:20260424T155226
CREATED:20250415T103909Z
LAST-MODIFIED:20250415T104009Z
UID:9748-1749376800-1749391200@hotr.org.uk
SUMMARY:Workers' Summit
DESCRIPTION:Calling all Church Workers in the House! Mark it in your calendar now to be in the House for our 2nd Worker’s Summit in 2025 in-person at  The Rock Tower immediately after Sunday Service on Sunday 8th June. Important information will be shared.
URL:https://hotr.org.uk/event/workersummit-jun25/
ATTACH;FMTTYPE=image/jpeg:https://hotr.org.uk/wp-content/uploads/2025/04/Square-Template-4.jpg
END:VEVENT
END:VCALENDAR