BEGIN:VCALENDAR
VERSION:2.0
PRODID:-//House on the Rock London - ECPv6.13.2.1//NONSGML v1.0//EN
CALSCALE:GREGORIAN
METHOD:PUBLISH
X-ORIGINAL-URL:https://hotr.org.uk
X-WR-CALDESC:Events for House on the Rock London
REFRESH-INTERVAL;VALUE=DURATION:PT1H
X-Robots-Tag:noindex
X-PUBLISHED-TTL:PT1H
BEGIN:VTIMEZONE
TZID:UTC
BEGIN:STANDARD
TZOFFSETFROM:+0000
TZOFFSETTO:+0000
TZNAME:UTC
DTSTART:20250101T000000
END:STANDARD
END:VTIMEZONE
BEGIN:VEVENT
DTSTART;TZID=UTC:20250601T050000
DTEND;TZID=UTC:20250601T060000
DTSTAMP:20260424T155211
CREATED:20250429T222324Z
LAST-MODIFIED:20250516T190417Z
UID:9842-1748754000-1748757600@hotr.org.uk
SUMMARY:Speak into the New Month
DESCRIPTION:Join us via Youtube\, Facebook (hotrlondon) and IG Live (temiodejide) to speak into the new month. Mark it in your calendar not to miss this key prayer session for the month to speak into the womb of the New Month.
URL:https://hotr.org.uk/event/sitnm-jun25/
ATTACH;FMTTYPE=image/jpeg:https://hotr.org.uk/wp-content/uploads/2025/04/Square-Template-10.jpg
END:VEVENT
BEGIN:VEVENT
DTSTART;TZID=UTC:20250601T100000
DTEND;TZID=UTC:20250601T123000
DTSTAMP:20260424T155211
CREATED:20250530T221458Z
LAST-MODIFIED:20250530T221458Z
UID:10045-1748772000-1748781000@hotr.org.uk
SUMMARY:Communion Sunday Service
DESCRIPTION:We’re starting June with faith\, focus\, and fresh fire at House On The Rock London! \nIn a world filled with uncertainty and fear\, God is calling His people to rise with Great Courage – the kind that overcomes obstacles\, silences doubt\, and walks boldly in His promises. \nJoin us this Sunday for a powerful Communion Service as we worship\, pray\, and hear a timely word that will stir your spirit and ignite your faith. There’s a divine shift in the atmosphere — and your breakthrough might just begin here. \nWhether you’re joining us in person or online\, come expectant. Invite your friends\, family\, and community to be part of this life-changing encounter. \nThis is more than a service – it’s a call to courage.
URL:https://hotr.org.uk/event/communionservice-jun25/
ATTACH;FMTTYPE=image/jpeg:https://hotr.org.uk/wp-content/uploads/2025/05/Square-Template.jpg
END:VEVENT
END:VCALENDAR