BEGIN:VCALENDAR
VERSION:2.0
PRODID:-//House on the Rock London - ECPv6.13.2.1//NONSGML v1.0//EN
CALSCALE:GREGORIAN
METHOD:PUBLISH
X-WR-CALNAME:House on the Rock London
X-ORIGINAL-URL:https://hotr.org.uk
X-WR-CALDESC:Events for House on the Rock London
REFRESH-INTERVAL;VALUE=DURATION:PT1H
X-Robots-Tag:noindex
X-PUBLISHED-TTL:PT1H
BEGIN:VTIMEZONE
TZID:UTC
BEGIN:STANDARD
TZOFFSETFROM:+0000
TZOFFSETTO:+0000
TZNAME:UTC
DTSTART:20250101T000000
END:STANDARD
END:VTIMEZONE
BEGIN:VEVENT
DTSTART;TZID=UTC:20250504T100000
DTEND;TZID=UTC:20250504T123000
DTSTAMP:20260424T171408
CREATED:20250425T180331Z
LAST-MODIFIED:20250503T081016Z
UID:9799-1746352800-1746361800@hotr.org.uk
SUMMARY:Sunday Service
DESCRIPTION:Join us for an unforgettable worship experience on the First Sunday of May as we welcome acclaimed guitarist\, Agboola Shadare\, live in the house! 🔥 Known for his soul-stirring sound and anointing on the strings\, Agboola will be ministering powerfully alongside our dynamic in-house worship team\, HillCity. \nExpect an atmosphere of pure praise\, deep worship\, and powerful encounters with God. Whether you’re coming in need of inspiration\, healing\, or just want to soak in God’s presence – this is one service you don’t want to miss! \nBring a friend\, bring your praise\, and come ready to experience God like never before.
URL:https://hotr.org.uk/event/firstsundayservice-may25/
ATTACH;FMTTYPE=image/png:https://hotr.org.uk/wp-content/uploads/2025/04/3.png
END:VEVENT
END:VCALENDAR