BEGIN:VCALENDAR
VERSION:2.0
PRODID:-//House on the Rock London - ECPv6.13.2.1//NONSGML v1.0//EN
CALSCALE:GREGORIAN
METHOD:PUBLISH
X-WR-CALNAME:House on the Rock London
X-ORIGINAL-URL:https://hotr.org.uk
X-WR-CALDESC:Events for House on the Rock London
REFRESH-INTERVAL;VALUE=DURATION:PT1H
X-Robots-Tag:noindex
X-PUBLISHED-TTL:PT1H
BEGIN:VTIMEZONE
TZID:UTC
BEGIN:STANDARD
TZOFFSETFROM:+0000
TZOFFSETTO:+0000
TZNAME:UTC
DTSTART:20250101T000000
END:STANDARD
END:VTIMEZONE
BEGIN:VEVENT
DTSTART;TZID=UTC:20250331T050000
DTEND;TZID=UTC:20250420T060000
DTSTAMP:20260424T225604
CREATED:20250227T193818Z
LAST-MODIFIED:20250326T200937Z
UID:9188-1743397200-1745128800@hotr.org.uk
SUMMARY:21 Day PUSH & Share
DESCRIPTION:Join us at House On The Rock London for our annual 21 Days of Prayer & Fasting as we prepare our hearts for Easter. \nFrom March 31st to Resurrection Sunday\, we will seek God through focused prayer\, fasting\, and spiritual renewal. \nExpect powerful daily prayers\, scriptural meditations\, and divine encounters. \nLet’s press in together for transformation\, breakthroughs\, and deeper intimacy with God. \nDial in to our Prayer Meeting on Weekdays from 5-6am\, Saturdays from 12-1pm and on Sundays from 9-9:45am via Zoom Meeting ID: 897 3504 6369; Password: 7773331; URL: bit.ly/hotrprays
URL:https://hotr.org.uk/event/21daypush-25/
ATTACH;FMTTYPE=image/png:https://hotr.org.uk/wp-content/uploads/2025/02/2.png
END:VEVENT
BEGIN:VEVENT
DTSTART;TZID=UTC:20250405T070000
DTEND;TZID=UTC:20250405T080000
DTSTAMP:20260424T225604
CREATED:20250227T175651Z
LAST-MODIFIED:20250301T120101Z
UID:9170-1743836400-1743840000@hotr.org.uk
SUMMARY:W2W Prayer Meeting
DESCRIPTION:Join us via Zoom Conference Call from 7-8am for our monthly Woman 2 Woman Prayer Call hosted by Pastor Abisoye Odejide. \nLadies\, mark it in your calendar not to miss this key prayer session. \nAlso\, send in your Prayer Points anonymously via the link here
URL:https://hotr.org.uk/event/w2wprayermeeting-apr25/
LOCATION:House on the Rock London\, The Rock Tower\, N7 9PS
ATTACH;FMTTYPE=image/jpeg:https://hotr.org.uk/wp-content/uploads/2025/03/Square-Template-3.jpg
END:VEVENT
END:VCALENDAR