BEGIN:VCALENDAR
VERSION:2.0
PRODID:-//House on the Rock London - ECPv6.13.2.1//NONSGML v1.0//EN
CALSCALE:GREGORIAN
METHOD:PUBLISH
X-WR-CALNAME:House on the Rock London
X-ORIGINAL-URL:https://hotr.org.uk
X-WR-CALDESC:Events for House on the Rock London
REFRESH-INTERVAL;VALUE=DURATION:PT1H
X-Robots-Tag:noindex
X-PUBLISHED-TTL:PT1H
BEGIN:VTIMEZONE
TZID:UTC
BEGIN:STANDARD
TZOFFSETFROM:+0000
TZOFFSETTO:+0000
TZNAME:UTC
DTSTART:20250101T000000
END:STANDARD
END:VTIMEZONE
BEGIN:VEVENT
DTSTART;TZID=UTC:20250330T100000
DTEND;TZID=UTC:20250330T123000
DTSTAMP:20260424T201642
CREATED:20250227T172628Z
LAST-MODIFIED:20250325T170007Z
UID:9141-1743328800-1743337800@hotr.org.uk
SUMMARY:Mother's Day & End of Month Thanksgiving Service
DESCRIPTION:Join us for a our Mothering Sunday & End of Month Thanksgiving Service as we close out the month in praise\, worship\, and the Word! \nPastor Abisoye Odejide will be ministering a life-transforming message\, and our phenomenal HillCity Worship Team will lead us in an atmosphere of divine encounter. \nWe encourage you to be in the House for the full experience\, but if you can’t\, join us online. Invite your friends\, share the news\, and come expectant!
URL:https://hotr.org.uk/event/eomthxgn-mar25/
LOCATION:House on the Rock London\, The Rock Tower\, N7 9PS
ATTACH;FMTTYPE=image/png:https://hotr.org.uk/wp-content/uploads/2025/03/2-1.png
END:VEVENT
END:VCALENDAR