BEGIN:VCALENDAR
VERSION:2.0
PRODID:-//House on the Rock London - ECPv6.13.2.1//NONSGML v1.0//EN
CALSCALE:GREGORIAN
METHOD:PUBLISH
X-WR-CALNAME:House on the Rock London
X-ORIGINAL-URL:https://hotr.org.uk
X-WR-CALDESC:Events for House on the Rock London
REFRESH-INTERVAL;VALUE=DURATION:PT1H
X-Robots-Tag:noindex
X-PUBLISHED-TTL:PT1H
BEGIN:VTIMEZONE
TZID:UTC
BEGIN:STANDARD
TZOFFSETFROM:+0000
TZOFFSETTO:+0000
TZNAME:UTC
DTSTART:20250101T000000
END:STANDARD
END:VTIMEZONE
BEGIN:VEVENT
DTSTART;TZID=UTC:20250209T100000
DTEND;TZID=UTC:20250209T123000
DTSTAMP:20260425T014759
CREATED:20250125T094558Z
LAST-MODIFIED:20250206T093652Z
UID:8831-1739095200-1739104200@hotr.org.uk
SUMMARY:Communion Sunday Service
DESCRIPTION:Join us for Communion Sunday Service from 10am! Worship with us online via Youtube (@hotrlondon) or hotr.org.uk or in-person.
URL:https://hotr.org.uk/event/communionsundayservice-feb25/
ATTACH;FMTTYPE=image/png:https://hotr.org.uk/wp-content/uploads/2025/01/CommunionSunday-Feb25.png
END:VEVENT
BEGIN:VEVENT
DTSTART;TZID=UTC:20250209T120000
DTEND;TZID=UTC:20250209T130000
DTSTAMP:20260425T014759
CREATED:20250203T140923Z
LAST-MODIFIED:20250203T140923Z
UID:9018-1739102400-1739106000@hotr.org.uk
SUMMARY:Children's Church Parents' Forum
DESCRIPTION:Let’s build together! Join us for a special Parents’ Forum\, where the Children’s Church Team will share their vision and how we can collaborate to nurture our children’s spiritual growth. This is an opportunity to connect\, ask questions\, and discover how we can work together to shape the next generation in faith. \n🔹 Hear the vision for 2025\n🔹 Explore ways to support and collaborate\n🔹 Connect with other parents on this journey \nJoin us immediately after Sunday Service so we can create a strong foundation for our children’s faith – together!
URL:https://hotr.org.uk/event/parentsforum-feb25/
ATTACH;FMTTYPE=image/jpeg:https://hotr.org.uk/wp-content/uploads/2025/02/Childrens-Church-Parenting-Workshop-landscape.jpg
END:VEVENT
END:VCALENDAR