BEGIN:VCALENDAR
VERSION:2.0
PRODID:-//House on the Rock London - ECPv6.13.2.1//NONSGML v1.0//EN
CALSCALE:GREGORIAN
METHOD:PUBLISH
X-WR-CALNAME:House on the Rock London
X-ORIGINAL-URL:https://hotr.org.uk
X-WR-CALDESC:Events for House on the Rock London
REFRESH-INTERVAL;VALUE=DURATION:PT1H
X-Robots-Tag:noindex
X-PUBLISHED-TTL:PT1H
BEGIN:VTIMEZONE
TZID:UTC
BEGIN:STANDARD
TZOFFSETFROM:+0000
TZOFFSETTO:+0000
TZNAME:UTC
DTSTART:20240101T000000
END:STANDARD
END:VTIMEZONE
BEGIN:VEVENT
DTSTART;TZID=UTC:20240828T050000
DTEND;TZID=UTC:20240830T060000
DTSTAMP:20260426T022927
CREATED:20240822T082243Z
LAST-MODIFIED:20240919T180157Z
UID:7452-1724821200-1724997600@hotr.org.uk
SUMMARY:End of Month PUSH
DESCRIPTION:Join us in the place of prayer and fasting in our 3-Day End of Month PUSH (Pray Until Something Happens). Dial in to our Prayer Meeting from 5-6am on Weds to Fri via Zoom Meeting ID: 897 3504 6369; Password: 7773331; URL: bit.ly/hotrprayer
URL:https://hotr.org.uk/event/eompush-aug24/
ATTACH;FMTTYPE=image/jpeg:https://hotr.org.uk/wp-content/uploads/2024/08/August-EoM-PUSH-1.jpg
END:VEVENT
END:VCALENDAR