BEGIN:VCALENDAR
VERSION:2.0
PRODID:-//House on the Rock London - ECPv6.13.2.1//NONSGML v1.0//EN
CALSCALE:GREGORIAN
METHOD:PUBLISH
X-WR-CALNAME:House on the Rock London
X-ORIGINAL-URL:https://hotr.org.uk
X-WR-CALDESC:Events for House on the Rock London
REFRESH-INTERVAL;VALUE=DURATION:PT1H
X-Robots-Tag:noindex
X-PUBLISHED-TTL:PT1H
BEGIN:VTIMEZONE
TZID:UTC
BEGIN:STANDARD
TZOFFSETFROM:+0000
TZOFFSETTO:+0000
TZNAME:UTC
DTSTART:20260101T000000
END:STANDARD
END:VTIMEZONE
BEGIN:VEVENT
DTSTART;TZID=UTC:20260404T070000
DTEND;TZID=UTC:20260404T080000
DTSTAMP:20260423T193830
CREATED:20260401T132137Z
LAST-MODIFIED:20260401T132137Z
UID:12118-1775286000-1775289600@hotr.org.uk
SUMMARY:W2W Prayer Meeting
DESCRIPTION:Join us via Zoom Conference Call from 7-8am for our monthly Woman 2 Woman Prayer Call hosted by Pastor Abisoye Odejide. \nLadies\, mark it in your calendar not to miss this key prayer session. \nAlso\, send in your Prayer Points anonymously via the link here
URL:https://hotr.org.uk/event/w2wprayermeeting-apr26/
LOCATION:House on the Rock London\, The Rock Tower\, N7 9PS
ATTACH;FMTTYPE=image/jpeg:https://hotr.org.uk/wp-content/uploads/2025/03/Square-Template-3.jpg
END:VEVENT
END:VCALENDAR