BEGIN:VCALENDAR
VERSION:2.0
PRODID:-//House on the Rock London - ECPv6.13.2.1//NONSGML v1.0//EN
CALSCALE:GREGORIAN
METHOD:PUBLISH
X-WR-CALNAME:House on the Rock London
X-ORIGINAL-URL:https://hotr.org.uk
X-WR-CALDESC:Events for House on the Rock London
REFRESH-INTERVAL;VALUE=DURATION:PT1H
X-Robots-Tag:noindex
X-PUBLISHED-TTL:PT1H
BEGIN:VTIMEZONE
TZID:UTC
BEGIN:STANDARD
TZOFFSETFROM:+0000
TZOFFSETTO:+0000
TZNAME:UTC
DTSTART:20260101T000000
END:STANDARD
END:VTIMEZONE
BEGIN:VEVENT
DTSTART;TZID=UTC:20260208T100000
DTEND;TZID=UTC:20260208T123000
DTSTAMP:20260424T002638
CREATED:20260205T185559Z
LAST-MODIFIED:20260205T185559Z
UID:11714-1770544800-1770553800@hotr.org.uk
SUMMARY:Sunday Service
DESCRIPTION:Join us this 2nd Sunday for a powerful service focused on clarity\, direction\, and running the race God has designed for you. \nBring your family\, friends\, and everyone you know. \nDon’t miss it! Do whatever you can to be there in person! \nWe can’t wait to see you and experience the power of God with you!
URL:https://hotr.org.uk/event/secondundayservice-feb26/
ATTACH;FMTTYPE=image/jpeg:https://hotr.org.uk/wp-content/uploads/2026/02/Square-Template.jpg
END:VEVENT
END:VCALENDAR