BEGIN:VCALENDAR
VERSION:2.0
PRODID:-//House on the Rock London - ECPv6.13.2.1//NONSGML v1.0//EN
CALSCALE:GREGORIAN
METHOD:PUBLISH
X-WR-CALNAME:House on the Rock London
X-ORIGINAL-URL:https://hotr.org.uk
X-WR-CALDESC:Events for House on the Rock London
REFRESH-INTERVAL;VALUE=DURATION:PT1H
X-Robots-Tag:noindex
X-PUBLISHED-TTL:PT1H
BEGIN:VTIMEZONE
TZID:UTC
BEGIN:STANDARD
TZOFFSETFROM:+0000
TZOFFSETTO:+0000
TZNAME:UTC
DTSTART:20260101T000000
END:STANDARD
END:VTIMEZONE
BEGIN:VEVENT
DTSTART;TZID=UTC:20260308T100000
DTEND;TZID=UTC:20260308T123000
DTSTAMP:20260423T194141
CREATED:20260131T101747Z
LAST-MODIFIED:20260306T204938Z
UID:11616-1772964000-1772973000@hotr.org.uk
SUMMARY:Sunday Service with Paul Adefarasin
DESCRIPTION:This Sunday at House on the Rock London\, we are honoured to welcome our Father in the faith and the Metropolitan of all House on the Rock\, Pastor Paul Adefarasin\, for a powerful and timely ministration. \nFollowing the incredible move of God we experienced last Sunday\, we believe this gathering will be another defining moment in God’s presence. Pastor Paul carries a remarkable apostolic and prophetic grace\, and he will be bringing a Word in season – one that will inspire faith\, bring clarity\, and shift the trajectory of lives. \nThis is more than a regular service. It is an opportunity for a divine encounter – a moment of visitation where hearts will be strengthened\, atmospheres will shift\, and destinies will be aligned with God’s purpose. \nWhether you are part of the House on the Rock family or visiting for the first time\, we invite you to come expectant and ready to receive all that God has prepared. \nIf you are unable to join us in person\, you can still be part of the service by streaming live on our YouTube channel @HOTRLondon. \nCome expectant. Bring a friend. There is a Word for you this Sunday.
URL:https://hotr.org.uk/event/secondsundayservice-mar26/
ATTACH;FMTTYPE=image/jpeg:https://hotr.org.uk/wp-content/uploads/2026/03/4-1.jpg
END:VEVENT
END:VCALENDAR