BEGIN:VCALENDAR
VERSION:2.0
PRODID:-//House on the Rock London - ECPv6.13.2.1//NONSGML v1.0//EN
CALSCALE:GREGORIAN
METHOD:PUBLISH
X-WR-CALNAME:House on the Rock London
X-ORIGINAL-URL:https://hotr.org.uk
X-WR-CALDESC:Events for House on the Rock London
REFRESH-INTERVAL;VALUE=DURATION:PT1H
X-Robots-Tag:noindex
X-PUBLISHED-TTL:PT1H
BEGIN:VTIMEZONE
TZID:UTC
BEGIN:STANDARD
TZOFFSETFROM:+0000
TZOFFSETTO:+0000
TZNAME:UTC
DTSTART:20250101T000000
END:STANDARD
END:VTIMEZONE
BEGIN:VEVENT
DTSTART;TZID=UTC:20250323T100000
DTEND;TZID=UTC:20250323T123000
DTSTAMP:20260425T014832
CREATED:20250310T052554Z
LAST-MODIFIED:20250320T225806Z
UID:9326-1742724000-1742733000@hotr.org.uk
SUMMARY:Sunday Service
DESCRIPTION:You can have wisdom in one area of life and still lack it in another – but not after this Sunday! \nJoin us and expect to experience dynamic worship\, transformational teaching that will shift your mindset and position you for increase & a faith-filled atmosphere! ! \nCome ready. Come expectant. It’s your time to rise! \nPre-Service Prayers at 9 AM (in-person & online). \nCan’t make it in person? Join us live on YouTube (@hotrlondon). \nBring your family\, friends\, and everyone you know. \nDon’t miss it! Do whatever you can to be there in person!. \nWe can’t wait to see you and experience the power of God with you!
URL:https://hotr.org.uk/event/fourthsundayservice-mar25/
ATTACH;FMTTYPE=image/jpeg:https://hotr.org.uk/wp-content/uploads/2025/03/Square-Template-2.jpg
END:VEVENT
END:VCALENDAR