BEGIN:VCALENDAR
VERSION:2.0
PRODID:-//House on the Rock London - ECPv6.13.2.1//NONSGML v1.0//EN
CALSCALE:GREGORIAN
METHOD:PUBLISH
X-WR-CALNAME:House on the Rock London
X-ORIGINAL-URL:https://hotr.org.uk
X-WR-CALDESC:Events for House on the Rock London
REFRESH-INTERVAL;VALUE=DURATION:PT1H
X-Robots-Tag:noindex
X-PUBLISHED-TTL:PT1H
BEGIN:VTIMEZONE
TZID:UTC
BEGIN:STANDARD
TZOFFSETFROM:+0000
TZOFFSETTO:+0000
TZNAME:UTC
DTSTART:20250101T000000
END:STANDARD
END:VTIMEZONE
BEGIN:VEVENT
DTSTART;TZID=UTC:20250622T100000
DTEND;TZID=UTC:20250622T123000
DTSTAMP:20260424T155039
CREATED:20250531T163638Z
LAST-MODIFIED:20250619T220329Z
UID:10111-1750586400-1750595400@hotr.org.uk
SUMMARY:Sunday Service
DESCRIPTION:As we continue in our Month of Great Courage\, this Sunday at House On The Rock London is a divine call to rise in faith and boldness. Under the prophetic theme “Courage for the Mission”\, Pastor Chris Eluwa will be ministering a timely word that will challenge\, equip\, and empower you to step fully into what God has called you to do. \nWhether you’re facing giants\, stepping into something new\, or navigating uncertainty – this service is a God-ordained moment to receive the strength and courage needed for your journey ahead. \nHillCity\, our dynamic in-house worship team\, will leads us in an atmosphere-shifting time of praise and worship – lifting high the name of Jesus with passion and excellence. \nCome ready to experience dynamic worship\, powerful teaching\, and an atmosphere charged with faith and expectation. \nWhether you’re a first-time guest or a part of our church family\, there’s a place for you. Don’t come alone – invite someone to church with you.
URL:https://hotr.org.uk/event/fourthsundayservice-jun25/
ATTACH;FMTTYPE=image/jpeg:https://hotr.org.uk/wp-content/uploads/2025/06/Square-Template-1.jpg
END:VEVENT
END:VCALENDAR