BEGIN:VCALENDAR
VERSION:2.0
PRODID:-//House on the Rock London - ECPv6.13.2.1//NONSGML v1.0//EN
CALSCALE:GREGORIAN
METHOD:PUBLISH
X-WR-CALNAME:House on the Rock London
X-ORIGINAL-URL:https://hotr.org.uk
X-WR-CALDESC:Events for House on the Rock London
REFRESH-INTERVAL;VALUE=DURATION:PT1H
X-Robots-Tag:noindex
X-PUBLISHED-TTL:PT1H
BEGIN:VTIMEZONE
TZID:UTC
BEGIN:STANDARD
TZOFFSETFROM:+0000
TZOFFSETTO:+0000
TZNAME:UTC
DTSTART:20250101T000000
END:STANDARD
END:VTIMEZONE
BEGIN:VEVENT
DTSTART;TZID=UTC:20250202T100000
DTEND;TZID=UTC:20250202T123000
DTSTAMP:20260425T014813
CREATED:20250125T094909Z
LAST-MODIFIED:20250201T083208Z
UID:8835-1738490400-1738499400@hotr.org.uk
SUMMARY:Sunday Service
DESCRIPTION:Join us for our first Sunday Service in February! \nBring your family\, friends\, and everyone you know. \nDon’t miss it! Do whatever you can to be there in person!. \nWe can’t wait to see you and experience the power of God with you!
URL:https://hotr.org.uk/event/firstsundayservice-feb25/
ATTACH;FMTTYPE=image/jpeg:https://hotr.org.uk/wp-content/uploads/2025/01/First-Sunday-Service-Feb-25.jpg
END:VEVENT
END:VCALENDAR