BEGIN:VCALENDAR
VERSION:2.0
PRODID:-//House on the Rock London - ECPv6.13.2.1//NONSGML v1.0//EN
CALSCALE:GREGORIAN
METHOD:PUBLISH
X-WR-CALNAME:House on the Rock London
X-ORIGINAL-URL:https://hotr.org.uk
X-WR-CALDESC:Events for House on the Rock London
REFRESH-INTERVAL;VALUE=DURATION:PT1H
X-Robots-Tag:noindex
X-PUBLISHED-TTL:PT1H
BEGIN:VTIMEZONE
TZID:UTC
BEGIN:STANDARD
TZOFFSETFROM:+0000
TZOFFSETTO:+0000
TZNAME:UTC
DTSTART:20250101T000000
END:STANDARD
END:VTIMEZONE
BEGIN:VEVENT
DTSTART;TZID=UTC:20250322T100000
DTEND;TZID=UTC:20250322T140000
DTSTAMP:20260425T014717
CREATED:20250201T092300Z
LAST-MODIFIED:20250317T105524Z
UID:8940-1742637600-1742652000@hotr.org.uk
SUMMARY:Financial Empowerment
DESCRIPTION:Join us for an unforgettable day of insight\, inspiration\, and practical tools to take control of your financial future! \nThe Financial Empowerment Summit\, hosted by House On The Rock London\, is designed to equip individuals\, entrepreneurs\, and professionals with real-life strategies for wealth creation\, business growth\, and financial independence. \nWhether you’re just starting out\, looking to scale your business\, or seeking smarter ways to invest\, this summit brings together top industry experts who will share actionable insights to help you build wealth\, grow assets\, and thrive financially in today’s world. \nOur Speakers\nPaul Foh – Renowned Sales Coach & Business Strategist\nDebodun Osekita – Investing Coach & Founder of Stock Pickers Academy\nBimbo Osagie – Property Entrepreneur & Founder of “Be Our Own Bank”\nDr. Temi Odejide – Lead Pastor\, House on The Rock London \nWhat to Expect:\nProven strategies for building wealth through sales\, property\, and investments\nPractical insights on turning ideas into income\nNetworking opportunities with like-minded individuals and professionals\nInspiring conversations to shift your mindset and motivate action \nIf you’re ready to take charge of your financial future\, build multiple income streams\, and connect with forward-thinking individuals\, this is the event for you! \nSee you there!
URL:https://hotr.org.uk/event/financialempowerment/
ATTACH;FMTTYPE=image/jpeg:https://hotr.org.uk/wp-content/uploads/2025/02/Square-Template-4.jpg
END:VEVENT
END:VCALENDAR