BEGIN:VCALENDAR
VERSION:2.0
PRODID:-//House on the Rock London - ECPv6.13.2.1//NONSGML v1.0//EN
CALSCALE:GREGORIAN
METHOD:PUBLISH
X-WR-CALNAME:House on the Rock London
X-ORIGINAL-URL:https://hotr.org.uk
X-WR-CALDESC:Events for House on the Rock London
REFRESH-INTERVAL;VALUE=DURATION:PT1H
X-Robots-Tag:noindex
X-PUBLISHED-TTL:PT1H
BEGIN:VTIMEZONE
TZID:UTC
BEGIN:STANDARD
TZOFFSETFROM:+0000
TZOFFSETTO:+0000
TZNAME:UTC
DTSTART:20240101T000000
END:STANDARD
END:VTIMEZONE
BEGIN:VEVENT
DTSTART;TZID=UTC:20240929T100000
DTEND;TZID=UTC:20240929T123000
DTSTAMP:20260425T155204
CREATED:20240904T190001Z
LAST-MODIFIED:20241010T071025Z
UID:7638-1727604000-1727613000@hotr.org.uk
SUMMARY:End of Month Thanksgiving Service
DESCRIPTION:Join us for our End of Month Thanksgiving Service from 10am with hosted by our Resident Pastor\, Temi Odejide and Guest Psalmist Neon Adejo & HillCity ministering with music! Worship with us either in-person or online via Youtube (@hotrlondon) or our website (hotr.org.uk).
URL:https://hotr.org.uk/event/eomthxgn-sep24/
LOCATION:House on the Rock London\, The Rock Tower\, N7 9PS
END:VEVENT
END:VCALENDAR