BEGIN:VCALENDAR
VERSION:2.0
PRODID:-//House on the Rock London - ECPv6.13.2.1//NONSGML v1.0//EN
CALSCALE:GREGORIAN
METHOD:PUBLISH
X-WR-CALNAME:House on the Rock London
X-ORIGINAL-URL:https://hotr.org.uk
X-WR-CALDESC:Events for House on the Rock London
REFRESH-INTERVAL;VALUE=DURATION:PT1H
X-Robots-Tag:noindex
X-PUBLISHED-TTL:PT1H
BEGIN:VTIMEZONE
TZID:UTC
BEGIN:STANDARD
TZOFFSETFROM:+0000
TZOFFSETTO:+0000
TZNAME:UTC
DTSTART:20240101T000000
END:STANDARD
END:VTIMEZONE
BEGIN:VEVENT
DTSTART;TZID=UTC:20241027T100000
DTEND;TZID=UTC:20241027T123000
DTSTAMP:20260425T142104
CREATED:20240927T121757Z
LAST-MODIFIED:20241019T064520Z
UID:7782-1730023200-1730032200@hotr.org.uk
SUMMARY:End of Month Thanksgiving Service
DESCRIPTION:Join us for our End of Month Thanksgiving Service from 10am hosted by our Resident Pastor\, Temi Odejide. Pastor Zuby Okemefuna will be bringing the Word & HillCity Worshiping will be ministering with music! \nWorship with us either in-person or online via Youtube (@hotrlondon) or our website (hotr.org.uk).
URL:https://hotr.org.uk/event/eomthxgn-oct24/
LOCATION:House on the Rock London\, The Rock Tower\, N7 9PS
ATTACH;FMTTYPE=image/jpeg:https://hotr.org.uk/wp-content/uploads/2024/10/MAIN-2.jpg
END:VEVENT
END:VCALENDAR