BEGIN:VCALENDAR
VERSION:2.0
PRODID:-//House on the Rock London - ECPv6.13.2.1//NONSGML v1.0//EN
CALSCALE:GREGORIAN
METHOD:PUBLISH
X-WR-CALNAME:House on the Rock London
X-ORIGINAL-URL:https://hotr.org.uk
X-WR-CALDESC:Events for House on the Rock London
REFRESH-INTERVAL;VALUE=DURATION:PT1H
X-Robots-Tag:noindex
X-PUBLISHED-TTL:PT1H
BEGIN:VTIMEZONE
TZID:UTC
BEGIN:STANDARD
TZOFFSETFROM:+0000
TZOFFSETTO:+0000
TZNAME:UTC
DTSTART:20240101T000000
END:STANDARD
END:VTIMEZONE
BEGIN:VEVENT
DTSTART;TZID=UTC:20241231T210000
DTEND;TZID=UTC:20250101T123000
DTSTAMP:20260425T221144
CREATED:20240927T142127Z
LAST-MODIFIED:20241231T183131Z
UID:7803-1735678800-1735734600@hotr.org.uk
SUMMARY:Crossover Service
DESCRIPTION:It’s our BIG Crossover Service on Tuesday 31st of December from 9am at The Rock Tower. \nThis one you definitely cannot afford to miss and we look forward to seeing you there!
URL:https://hotr.org.uk/event/crossover-dec24/
ATTACH;FMTTYPE=image/jpeg:https://hotr.org.uk/wp-content/uploads/2024/12/Presented-By-1.jpg
END:VEVENT
END:VCALENDAR