BEGIN:VCALENDAR
VERSION:2.0
PRODID:-//House on the Rock London - ECPv6.13.2.1//NONSGML v1.0//EN
CALSCALE:GREGORIAN
METHOD:PUBLISH
X-WR-CALNAME:House on the Rock London
X-ORIGINAL-URL:https://hotr.org.uk
X-WR-CALDESC:Events for House on the Rock London
REFRESH-INTERVAL;VALUE=DURATION:PT1H
X-Robots-Tag:noindex
X-PUBLISHED-TTL:PT1H
BEGIN:VTIMEZONE
TZID:UTC
BEGIN:STANDARD
TZOFFSETFROM:+0000
TZOFFSETTO:+0000
TZNAME:UTC
DTSTART:20260101T000000
END:STANDARD
END:VTIMEZONE
BEGIN:VEVENT
DTSTART;TZID=UTC:20260411T090000
DTEND;TZID=UTC:20260411T120000
DTSTAMP:20260423T193828
CREATED:20260324T073914Z
LAST-MODIFIED:20260326T133204Z
UID:12066-1775898000-1775908800@hotr.org.uk
SUMMARY:5KM Charity Walk
DESCRIPTION:Join us for the London Lighthouse 5KM Charity Walk on Saturday 11th April 2026 at 9am as we come together to raise £50\,000 in support of The Rock Tower Building Project and IGNITE Youth Church\, investing in a space for our community and the next generation. \nWalk with friends\, family\, and the wider community – every step helps move the mission forward. \nRegister to join the walk: https://www.hotr.org.uk/charitywalkDonate to support the fundraising: https://gofund.me/79c68c552
URL:https://hotr.org.uk/event/charitywalk-apr26/
LOCATION:House on the Rock London\, The Rock Tower\, N7 9PS
ATTACH;FMTTYPE=image/jpeg:https://hotr.org.uk/wp-content/uploads/2026/03/3-2.jpg
END:VEVENT
END:VCALENDAR